BEGIN:VCALENDAR
VERSION:2.0
PRODID:-//マキキ日本語教会 - ECPv6.15.20//NONSGML v1.0//EN
CALSCALE:GREGORIAN
METHOD:PUBLISH
X-ORIGINAL-URL:https://mccjp.org
X-WR-CALDESC:マキキ日本語教会 のイベント
REFRESH-INTERVAL;VALUE=DURATION:PT1H
X-Robots-Tag:noindex
X-PUBLISHED-TTL:PT1H
BEGIN:VTIMEZONE
TZID:Pacific/Honolulu
BEGIN:STANDARD
TZOFFSETFROM:-1000
TZOFFSETTO:-1000
TZNAME:HST
DTSTART:20250101T000000
END:STANDARD
END:VTIMEZONE
BEGIN:VEVENT
DTSTART;TZID=Pacific/Honolulu:20260426T133000
DTEND;TZID=Pacific/Honolulu:20260426T160000
DTSTAMP:20260425T064207
CREATED:20260404T223006Z
LAST-MODIFIED:20260404T223006Z
UID:10674-1777210200-1777219200@mccjp.org
SUMMARY:アートクラブ
DESCRIPTION:毎週日曜日1:30p.m.〜教育館110号室にて、デッサン、水彩画、書道等を楽しむクラスです。ご参加ください。
URL:https://mccjp.org/event/%e3%82%a2%e3%83%bc%e3%83%88%e3%82%af%e3%83%a9%e3%83%96-119/
LOCATION:MAKIKI CHRISTIAN CHURCH\, 829 Pensacola Street\, Honolulu\, 96814\, 米国
CATEGORIES:アートクラブ,ミニストリー
ATTACH;FMTTYPE=image/jpeg:https://mccjp.org/wp-content/uploads/2023/03/IMG_2669-e1679702005997.jpg
END:VEVENT
END:VCALENDAR