BEGIN:VCALENDAR
VERSION:2.0
PRODID:-//マキキ日本語教会 - ECPv6.15.20//NONSGML v1.0//EN
CALSCALE:GREGORIAN
METHOD:PUBLISH
X-WR-CALNAME:マキキ日本語教会
X-ORIGINAL-URL:https://mccjp.org
X-WR-CALDESC:マキキ日本語教会 のイベント
REFRESH-INTERVAL;VALUE=DURATION:PT1H
X-Robots-Tag:noindex
X-PUBLISHED-TTL:PT1H
BEGIN:VTIMEZONE
TZID:Pacific/Honolulu
BEGIN:STANDARD
TZOFFSETFROM:-1000
TZOFFSETTO:-1000
TZNAME:HST
DTSTART:20250101T000000
END:STANDARD
END:VTIMEZONE
BEGIN:VEVENT
DTSTART;TZID=Pacific/Honolulu:20260201T133000
DTEND;TZID=Pacific/Honolulu:20260201T160000
DTSTAMP:20260425T132159
CREATED:20260109T210037Z
LAST-MODIFIED:20260109T210037Z
UID:10189-1769952600-1769961600@mccjp.org
SUMMARY:アートクラブ
DESCRIPTION:毎週日曜日1:30p.m.〜教育館110号室にて、デッサン、水彩画、書道等を楽しむクラスです。ご参加ください。
URL:https://mccjp.org/event/%e3%82%a2%e3%83%bc%e3%83%88%e3%82%af%e3%83%a9%e3%83%96-109/
LOCATION:MAKIKI CHRISTIAN CHURCH\, 829 Pensacola Street\, Honolulu\, 96814\, 米国
CATEGORIES:アートクラブ,ミニストリー
ATTACH;FMTTYPE=image/jpeg:https://mccjp.org/wp-content/uploads/2023/03/IMG_2669-e1679702005997.jpg
END:VEVENT
BEGIN:VEVENT
DTSTART;TZID=Pacific/Honolulu:20260208T133000
DTEND;TZID=Pacific/Honolulu:20260208T160000
DTSTAMP:20260425T132159
CREATED:20260109T210122Z
LAST-MODIFIED:20260109T210122Z
UID:10191-1770557400-1770566400@mccjp.org
SUMMARY:アートクラブ
DESCRIPTION:毎週日曜日1:30p.m.〜教育館110号室にて、デッサン、水彩画、書道等を楽しむクラスです。ご参加ください。
URL:https://mccjp.org/event/%e3%82%a2%e3%83%bc%e3%83%88%e3%82%af%e3%83%a9%e3%83%96-110/
LOCATION:MAKIKI CHRISTIAN CHURCH\, 829 Pensacola Street\, Honolulu\, 96814\, 米国
CATEGORIES:アートクラブ,ミニストリー
ATTACH;FMTTYPE=image/jpeg:https://mccjp.org/wp-content/uploads/2023/03/IMG_2669-e1679702005997.jpg
END:VEVENT
BEGIN:VEVENT
DTSTART;TZID=Pacific/Honolulu:20260215T133000
DTEND;TZID=Pacific/Honolulu:20260215T160000
DTSTAMP:20260425T132159
CREATED:20260109T210204Z
LAST-MODIFIED:20260109T210204Z
UID:10193-1771162200-1771171200@mccjp.org
SUMMARY:アートクラブ
DESCRIPTION:毎週日曜日1:30p.m.〜教育館110号室にて、デッサン、水彩画、書道等を楽しむクラスです。ご参加ください。
URL:https://mccjp.org/event/%e3%82%a2%e3%83%bc%e3%83%88%e3%82%af%e3%83%a9%e3%83%96-111/
LOCATION:MAKIKI CHRISTIAN CHURCH\, 829 Pensacola Street\, Honolulu\, 96814\, 米国
CATEGORIES:アートクラブ,ミニストリー
ATTACH;FMTTYPE=image/jpeg:https://mccjp.org/wp-content/uploads/2023/03/IMG_2669-e1679702005997.jpg
END:VEVENT
BEGIN:VEVENT
DTSTART;TZID=Pacific/Honolulu:20260222T133000
DTEND;TZID=Pacific/Honolulu:20260222T160000
DTSTAMP:20260425T132159
CREATED:20260109T210253Z
LAST-MODIFIED:20260109T210253Z
UID:10195-1771767000-1771776000@mccjp.org
SUMMARY:アートクラブ
DESCRIPTION:毎週日曜日1:30p.m.〜教育館110号室にて、デッサン、水彩画、書道等を楽しむクラスです。ご参加ください。
URL:https://mccjp.org/event/%e3%82%a2%e3%83%bc%e3%83%88%e3%82%af%e3%83%a9%e3%83%96-112/
LOCATION:MAKIKI CHRISTIAN CHURCH\, 829 Pensacola Street\, Honolulu\, 96814\, 米国
CATEGORIES:アートクラブ,ミニストリー
ATTACH;FMTTYPE=image/jpeg:https://mccjp.org/wp-content/uploads/2023/03/IMG_2669-e1679702005997.jpg
END:VEVENT
END:VCALENDAR