BEGIN:VCALENDAR
VERSION:2.0
PRODID:-//マキキ日本語教会 - ECPv6.15.20//NONSGML v1.0//EN
CALSCALE:GREGORIAN
METHOD:PUBLISH
X-WR-CALNAME:マキキ日本語教会
X-ORIGINAL-URL:https://mccjp.org
X-WR-CALDESC:マキキ日本語教会 のイベント
REFRESH-INTERVAL;VALUE=DURATION:PT1H
X-Robots-Tag:noindex
X-PUBLISHED-TTL:PT1H
BEGIN:VTIMEZONE
TZID:Pacific/Honolulu
BEGIN:STANDARD
TZOFFSETFROM:-1000
TZOFFSETTO:-1000
TZNAME:HST
DTSTART:20250101T000000
END:STANDARD
END:VTIMEZONE
BEGIN:VEVENT
DTSTART;TZID=Pacific/Honolulu:20260422T150000
DTEND;TZID=Pacific/Honolulu:20260422T170000
DTSTAMP:20260425T080148
CREATED:20260408T214942Z
LAST-MODIFIED:20260408T214942Z
UID:10682-1776870000-1776877200@mccjp.org
SUMMARY:ゴスペルフラ　お休み
DESCRIPTION:日曜日午後2時、水曜日午後3時　マキキ教会教育館２階 \nマキキフラチームは連合フラチームとしても活動しているので、連合の他の教会メンバーやノンクリスチャンも参加しています。全員で20名足らずです。クリスマスコンサート前に限り、子供クラスも開催しています。
URL:https://mccjp.org/event/%e3%82%b4%e3%82%b9%e3%83%9a%e3%83%ab%e3%83%95%e3%83%a9%e3%80%80%e3%81%8a%e4%bc%91%e3%81%bf/
LOCATION:MAKIKI CHRISTIAN CHURCH\, 829 Pensacola Street\, Honolulu\, 96814\, 米国
CATEGORIES:ゴスペルフラ,ミニストリー
ATTACH;FMTTYPE=image/jpeg:https://mccjp.org/wp-content/uploads/2022/08/フラピンク-1-e1661639126355.jpg
END:VEVENT
BEGIN:VEVENT
DTSTART;TZID=Pacific/Honolulu:20260419T140000
DTEND;TZID=Pacific/Honolulu:20260419T160000
DTSTAMP:20260425T080148
CREATED:20260404T222721Z
LAST-MODIFIED:20260408T214525Z
UID:10666-1776607200-1776614400@mccjp.org
SUMMARY:ゴスペルフラお休み
DESCRIPTION:日曜日午後2時、水曜日午後3時　マキキ教会教育館２階 \nマキキフラチームは連合フラチームとしても活動しているので、連合の他の教会メンバーやノンクリスチャンも参加しています。全員で20名足らずです。クリスマスコンサート前に限り、子供クラスも開催しています。
URL:https://mccjp.org/event/%e3%82%b4%e3%82%b9%e3%83%9a%e3%83%ab%e3%83%95%e3%83%a9-250/
LOCATION:MAKIKI CHRISTIAN CHURCH\, 829 Pensacola Street\, Honolulu\, 96814\, 米国
CATEGORIES:ゴスペルフラ,ミニストリー
ATTACH;FMTTYPE=image/jpeg:https://mccjp.org/wp-content/uploads/2023/04/IMG_2656-e1682729947453.jpg
END:VEVENT
BEGIN:VEVENT
DTSTART;TZID=Pacific/Honolulu:20260415T150000
DTEND;TZID=Pacific/Honolulu:20260415T170000
DTSTAMP:20260425T080148
CREATED:20260408T214824Z
LAST-MODIFIED:20260408T214824Z
UID:10680-1776265200-1776272400@mccjp.org
SUMMARY:ゴスペルフラ　
DESCRIPTION:日曜日午後2時、水曜日午後3時　マキキ教会教育館２階 \nマキキフラチームは連合フラチームとしても活動しているので、連合の他の教会メンバーやノンクリスチャンも参加しています。全員で20名足らずです。クリスマスコンサート前に限り、子供クラスも開催しています。
URL:https://mccjp.org/event/%e3%82%b4%e3%82%b9%e3%83%9a%e3%83%ab%e3%83%95%e3%83%a9%e3%80%80-71/
LOCATION:MAKIKI CHRISTIAN CHURCH\, 829 Pensacola Street\, Honolulu\, 96814\, 米国
CATEGORIES:ゴスペルフラ,ミニストリー
ATTACH;FMTTYPE=image/jpeg:https://mccjp.org/wp-content/uploads/2022/08/フラピンク-1-e1661639126355.jpg
END:VEVENT
BEGIN:VEVENT
DTSTART;TZID=Pacific/Honolulu:20260412T140000
DTEND;TZID=Pacific/Honolulu:20260412T160000
DTSTAMP:20260425T080148
CREATED:20260404T222638Z
LAST-MODIFIED:20260404T222638Z
UID:10664-1776002400-1776009600@mccjp.org
SUMMARY:ゴスペルフラ
DESCRIPTION:日曜日午後2時、水曜日午後3時　マキキ教会教育館２階 \nマキキフラチームは連合フラチームとしても活動しているので、連合の他の教会メンバーやノンクリスチャンも参加しています。全員で20名足らずです。クリスマスコンサート前に限り、子供クラスも開催しています。
URL:https://mccjp.org/event/%e3%82%b4%e3%82%b9%e3%83%9a%e3%83%ab%e3%83%95%e3%83%a9-249/
LOCATION:MAKIKI CHRISTIAN CHURCH\, 829 Pensacola Street\, Honolulu\, 96814\, 米国
CATEGORIES:ゴスペルフラ,ミニストリー
ATTACH;FMTTYPE=image/jpeg:https://mccjp.org/wp-content/uploads/2023/04/IMG_2656-e1682729947453.jpg
END:VEVENT
BEGIN:VEVENT
DTSTART;TZID=Pacific/Honolulu:20260408T150000
DTEND;TZID=Pacific/Honolulu:20260408T170000
DTSTAMP:20260425T080148
CREATED:20260408T214700Z
LAST-MODIFIED:20260408T214700Z
UID:10678-1775660400-1775667600@mccjp.org
SUMMARY:ゴスペルフラ　
DESCRIPTION:日曜日午後2時、水曜日午後3時　マキキ教会教育館２階 \nマキキフラチームは連合フラチームとしても活動しているので、連合の他の教会メンバーやノンクリスチャンも参加しています。全員で20名足らずです。クリスマスコンサート前に限り、子供クラスも開催しています。
URL:https://mccjp.org/event/%e3%82%b4%e3%82%b9%e3%83%9a%e3%83%ab%e3%83%95%e3%83%a9%e3%80%80-70/
LOCATION:MAKIKI CHRISTIAN CHURCH\, 829 Pensacola Street\, Honolulu\, 96814\, 米国
CATEGORIES:ゴスペルフラ,ミニストリー
ATTACH;FMTTYPE=image/jpeg:https://mccjp.org/wp-content/uploads/2022/08/フラピンク-1-e1661639126355.jpg
END:VEVENT
BEGIN:VEVENT
DTSTART;TZID=Pacific/Honolulu:20260405T140000
DTEND;TZID=Pacific/Honolulu:20260405T160000
DTSTAMP:20260425T080148
CREATED:20260404T222557Z
LAST-MODIFIED:20260404T222557Z
UID:10662-1775397600-1775404800@mccjp.org
SUMMARY:ゴスペルフラ
DESCRIPTION:日曜日午後2時、水曜日午後3時　マキキ教会教育館２階 \nマキキフラチームは連合フラチームとしても活動しているので、連合の他の教会メンバーやノンクリスチャンも参加しています。全員で20名足らずです。クリスマスコンサート前に限り、子供クラスも開催しています。
URL:https://mccjp.org/event/%e3%82%b4%e3%82%b9%e3%83%9a%e3%83%ab%e3%83%95%e3%83%a9-248/
LOCATION:MAKIKI CHRISTIAN CHURCH\, 829 Pensacola Street\, Honolulu\, 96814\, 米国
CATEGORIES:ゴスペルフラ,ミニストリー
ATTACH;FMTTYPE=image/jpeg:https://mccjp.org/wp-content/uploads/2023/04/IMG_2656-e1682729947453.jpg
END:VEVENT
BEGIN:VEVENT
DTSTART;TZID=Pacific/Honolulu:20260329T140000
DTEND;TZID=Pacific/Honolulu:20260329T160000
DTSTAMP:20260425T080148
CREATED:20260305T004607Z
LAST-MODIFIED:20260305T004607Z
UID:10468-1774792800-1774800000@mccjp.org
SUMMARY:ゴスペルフラ
DESCRIPTION:日曜日午後2時、水曜日午後3時　マキキ教会教育館２階 \nマキキフラチームは連合フラチームとしても活動しているので、連合の他の教会メンバーやノンクリスチャンも参加しています。全員で20名足らずです。クリスマスコンサート前に限り、子供クラスも開催しています。
URL:https://mccjp.org/event/%e3%82%b4%e3%82%b9%e3%83%9a%e3%83%ab%e3%83%95%e3%83%a9-247/
LOCATION:MAKIKI CHRISTIAN CHURCH\, 829 Pensacola Street\, Honolulu\, 96814\, 米国
CATEGORIES:ゴスペルフラ,ミニストリー
ATTACH;FMTTYPE=image/jpeg:https://mccjp.org/wp-content/uploads/2023/04/IMG_2656-e1682729947453.jpg
END:VEVENT
BEGIN:VEVENT
DTSTART;TZID=Pacific/Honolulu:20260325T150000
DTEND;TZID=Pacific/Honolulu:20260325T170000
DTSTAMP:20260425T080148
CREATED:20260305T010542Z
LAST-MODIFIED:20260305T010542Z
UID:10494-1774450800-1774458000@mccjp.org
SUMMARY:ゴスペルフラ　
DESCRIPTION:日曜日午後2時、水曜日午後3時　マキキ教会教育館２階 \nマキキフラチームは連合フラチームとしても活動しているので、連合の他の教会メンバーやノンクリスチャンも参加しています。全員で20名足らずです。クリスマスコンサート前に限り、子供クラスも開催しています。
URL:https://mccjp.org/event/%e3%82%b4%e3%82%b9%e3%83%9a%e3%83%ab%e3%83%95%e3%83%a9%e3%80%80-69/
LOCATION:MAKIKI CHRISTIAN CHURCH\, 829 Pensacola Street\, Honolulu\, 96814\, 米国
CATEGORIES:ゴスペルフラ,ミニストリー
ATTACH;FMTTYPE=image/jpeg:https://mccjp.org/wp-content/uploads/2022/08/フラピンク-1-e1661639126355.jpg
END:VEVENT
BEGIN:VEVENT
DTSTART;TZID=Pacific/Honolulu:20260322T140000
DTEND;TZID=Pacific/Honolulu:20260322T160000
DTSTAMP:20260425T080148
CREATED:20260305T004519Z
LAST-MODIFIED:20260306T204106Z
UID:10466-1774188000-1774195200@mccjp.org
SUMMARY:ゴスペルフラ 3/22はお休み
DESCRIPTION:日曜日午後2時、水曜日午後3時　マキキ教会教育館２階 \nマキキフラチームは連合フラチームとしても活動しているので、連合の他の教会メンバーやノンクリスチャンも参加しています。全員で20名足らずです。クリスマスコンサート前に限り、子供クラスも開催しています。
URL:https://mccjp.org/event/%e3%82%b4%e3%82%b9%e3%83%9a%e3%83%ab%e3%83%95%e3%83%a9-246/
LOCATION:MAKIKI CHRISTIAN CHURCH\, 829 Pensacola Street\, Honolulu\, 96814\, 米国
CATEGORIES:ゴスペルフラ,ミニストリー
ATTACH;FMTTYPE=image/jpeg:https://mccjp.org/wp-content/uploads/2023/04/IMG_2656-e1682729947453.jpg
END:VEVENT
BEGIN:VEVENT
DTSTART;TZID=Pacific/Honolulu:20260318T150000
DTEND;TZID=Pacific/Honolulu:20260318T170000
DTSTAMP:20260425T080148
CREATED:20260305T010421Z
LAST-MODIFIED:20260305T010421Z
UID:10492-1773846000-1773853200@mccjp.org
SUMMARY:ゴスペルフラ　
DESCRIPTION:日曜日午後2時、水曜日午後3時　マキキ教会教育館２階 \nマキキフラチームは連合フラチームとしても活動しているので、連合の他の教会メンバーやノンクリスチャンも参加しています。全員で20名足らずです。クリスマスコンサート前に限り、子供クラスも開催しています。
URL:https://mccjp.org/event/%e3%82%b4%e3%82%b9%e3%83%9a%e3%83%ab%e3%83%95%e3%83%a9%e3%80%80-68/
LOCATION:MAKIKI CHRISTIAN CHURCH\, 829 Pensacola Street\, Honolulu\, 96814\, 米国
CATEGORIES:ゴスペルフラ,ミニストリー
ATTACH;FMTTYPE=image/jpeg:https://mccjp.org/wp-content/uploads/2022/08/フラピンク-1-e1661639126355.jpg
END:VEVENT
BEGIN:VEVENT
DTSTART;TZID=Pacific/Honolulu:20260315T140000
DTEND;TZID=Pacific/Honolulu:20260315T160000
DTSTAMP:20260425T080148
CREATED:20260305T004413Z
LAST-MODIFIED:20260305T004413Z
UID:10464-1773583200-1773590400@mccjp.org
SUMMARY:ゴスペルフラ
DESCRIPTION:日曜日午後2時、水曜日午後3時　マキキ教会教育館２階 \nマキキフラチームは連合フラチームとしても活動しているので、連合の他の教会メンバーやノンクリスチャンも参加しています。全員で20名足らずです。クリスマスコンサート前に限り、子供クラスも開催しています。
URL:https://mccjp.org/event/%e3%82%b4%e3%82%b9%e3%83%9a%e3%83%ab%e3%83%95%e3%83%a9-245/
LOCATION:MAKIKI CHRISTIAN CHURCH\, 829 Pensacola Street\, Honolulu\, 96814\, 米国
CATEGORIES:ゴスペルフラ,ミニストリー
ATTACH;FMTTYPE=image/jpeg:https://mccjp.org/wp-content/uploads/2023/04/IMG_2656-e1682729947453.jpg
END:VEVENT
BEGIN:VEVENT
DTSTART;TZID=Pacific/Honolulu:20260311T150000
DTEND;TZID=Pacific/Honolulu:20260311T170000
DTSTAMP:20260425T080148
CREATED:20260305T010244Z
LAST-MODIFIED:20260305T010244Z
UID:10490-1773241200-1773248400@mccjp.org
SUMMARY:ゴスペルフラ　
DESCRIPTION:日曜日午後2時、水曜日午後3時　マキキ教会教育館２階 \nマキキフラチームは連合フラチームとしても活動しているので、連合の他の教会メンバーやノンクリスチャンも参加しています。全員で20名足らずです。クリスマスコンサート前に限り、子供クラスも開催しています。
URL:https://mccjp.org/event/%e3%82%b4%e3%82%b9%e3%83%9a%e3%83%ab%e3%83%95%e3%83%a9%e3%80%80-67/
LOCATION:MAKIKI CHRISTIAN CHURCH\, 829 Pensacola Street\, Honolulu\, 96814\, 米国
CATEGORIES:ゴスペルフラ,ミニストリー
ATTACH;FMTTYPE=image/jpeg:https://mccjp.org/wp-content/uploads/2022/08/フラピンク-1-e1661639126355.jpg
END:VEVENT
BEGIN:VEVENT
DTSTART;TZID=Pacific/Honolulu:20260308T140000
DTEND;TZID=Pacific/Honolulu:20260308T160000
DTSTAMP:20260425T080148
CREATED:20260305T004316Z
LAST-MODIFIED:20260305T004316Z
UID:10462-1772978400-1772985600@mccjp.org
SUMMARY:ゴスペルフラ
DESCRIPTION:日曜日午後2時、水曜日午後3時　マキキ教会教育館２階 \nマキキフラチームは連合フラチームとしても活動しているので、連合の他の教会メンバーやノンクリスチャンも参加しています。全員で20名足らずです。クリスマスコンサート前に限り、子供クラスも開催しています。
URL:https://mccjp.org/event/%e3%82%b4%e3%82%b9%e3%83%9a%e3%83%ab%e3%83%95%e3%83%a9-244/
LOCATION:MAKIKI CHRISTIAN CHURCH\, 829 Pensacola Street\, Honolulu\, 96814\, 米国
CATEGORIES:ゴスペルフラ,ミニストリー
ATTACH;FMTTYPE=image/jpeg:https://mccjp.org/wp-content/uploads/2023/04/IMG_2656-e1682729947453.jpg
END:VEVENT
BEGIN:VEVENT
DTSTART;TZID=Pacific/Honolulu:20260304T150000
DTEND;TZID=Pacific/Honolulu:20260304T170000
DTSTAMP:20260425T080148
CREATED:20260305T010129Z
LAST-MODIFIED:20260305T010129Z
UID:10488-1772636400-1772643600@mccjp.org
SUMMARY:ゴスペルフラ　
DESCRIPTION:日曜日午後2時、水曜日午後3時　マキキ教会教育館２階 \nマキキフラチームは連合フラチームとしても活動しているので、連合の他の教会メンバーやノンクリスチャンも参加しています。全員で20名足らずです。クリスマスコンサート前に限り、子供クラスも開催しています。
URL:https://mccjp.org/event/%e3%82%b4%e3%82%b9%e3%83%9a%e3%83%ab%e3%83%95%e3%83%a9%e3%80%80-66/
LOCATION:MAKIKI CHRISTIAN CHURCH\, 829 Pensacola Street\, Honolulu\, 96814\, 米国
CATEGORIES:ゴスペルフラ,ミニストリー
ATTACH;FMTTYPE=image/jpeg:https://mccjp.org/wp-content/uploads/2022/08/フラピンク-1-e1661639126355.jpg
END:VEVENT
BEGIN:VEVENT
DTSTART;TZID=Pacific/Honolulu:20260225T150000
DTEND;TZID=Pacific/Honolulu:20260225T170000
DTSTAMP:20260425T080148
CREATED:20260109T235021Z
LAST-MODIFIED:20260109T235021Z
UID:10309-1772031600-1772038800@mccjp.org
SUMMARY:ゴスペルフラ　
DESCRIPTION:日曜日午後2時、水曜日午後3時　マキキ教会教育館２階 \nマキキフラチームは連合フラチームとしても活動しているので、連合の他の教会メンバーやノンクリスチャンも参加しています。全員で20名足らずです。クリスマスコンサート前に限り、子供クラスも開催しています。
URL:https://mccjp.org/event/%e3%82%b4%e3%82%b9%e3%83%9a%e3%83%ab%e3%83%95%e3%83%a9%e3%80%80-65/
LOCATION:MAKIKI CHRISTIAN CHURCH\, 829 Pensacola Street\, Honolulu\, 96814\, 米国
CATEGORIES:ゴスペルフラ,ミニストリー
ATTACH;FMTTYPE=image/jpeg:https://mccjp.org/wp-content/uploads/2022/08/フラピンク-1-e1661639126355.jpg
END:VEVENT
BEGIN:VEVENT
DTSTART;TZID=Pacific/Honolulu:20260222T140000
DTEND;TZID=Pacific/Honolulu:20260222T160000
DTSTAMP:20260425T080148
CREATED:20260115T004345Z
LAST-MODIFIED:20260115T004345Z
UID:10318-1771768800-1771776000@mccjp.org
SUMMARY:ゴスペルフラ
DESCRIPTION:日曜日午後2時、水曜日午後3時　マキキ教会教育館２階 \nマキキフラチームは連合フラチームとしても活動しているので、連合の他の教会メンバーやノンクリスチャンも参加しています。全員で20名足らずです。クリスマスコンサート前に限り、子供クラスも開催しています。
URL:https://mccjp.org/event/%e3%82%b4%e3%82%b9%e3%83%9a%e3%83%ab%e3%83%95%e3%83%a9-243/
LOCATION:MAKIKI CHRISTIAN CHURCH\, 829 Pensacola Street\, Honolulu\, 96814\, 米国
CATEGORIES:ゴスペルフラ,ミニストリー
ATTACH;FMTTYPE=image/jpeg:https://mccjp.org/wp-content/uploads/2023/04/IMG_2656-e1682729947453.jpg
END:VEVENT
BEGIN:VEVENT
DTSTART;TZID=Pacific/Honolulu:20260218T150000
DTEND;TZID=Pacific/Honolulu:20260218T170000
DTSTAMP:20260425T080148
CREATED:20260109T234933Z
LAST-MODIFIED:20260109T234933Z
UID:10307-1771426800-1771434000@mccjp.org
SUMMARY:ゴスペルフラ　
DESCRIPTION:日曜日午後2時、水曜日午後3時　マキキ教会教育館２階 \nマキキフラチームは連合フラチームとしても活動しているので、連合の他の教会メンバーやノンクリスチャンも参加しています。全員で20名足らずです。クリスマスコンサート前に限り、子供クラスも開催しています。
URL:https://mccjp.org/event/%e3%82%b4%e3%82%b9%e3%83%9a%e3%83%ab%e3%83%95%e3%83%a9%e3%80%80-64/
LOCATION:MAKIKI CHRISTIAN CHURCH\, 829 Pensacola Street\, Honolulu\, 96814\, 米国
CATEGORIES:ゴスペルフラ,ミニストリー
ATTACH;FMTTYPE=image/jpeg:https://mccjp.org/wp-content/uploads/2022/08/フラピンク-1-e1661639126355.jpg
END:VEVENT
BEGIN:VEVENT
DTSTART;TZID=Pacific/Honolulu:20260215T140000
DTEND;TZID=Pacific/Honolulu:20260215T160000
DTSTAMP:20260425T080148
CREATED:20260115T004233Z
LAST-MODIFIED:20260115T004233Z
UID:10316-1771164000-1771171200@mccjp.org
SUMMARY:ゴスペルフラ
DESCRIPTION:日曜日午後2時、水曜日午後3時　マキキ教会教育館２階 \nマキキフラチームは連合フラチームとしても活動しているので、連合の他の教会メンバーやノンクリスチャンも参加しています。全員で20名足らずです。クリスマスコンサート前に限り、子供クラスも開催しています。
URL:https://mccjp.org/event/%e3%82%b4%e3%82%b9%e3%83%9a%e3%83%ab%e3%83%95%e3%83%a9-242/
LOCATION:MAKIKI CHRISTIAN CHURCH\, 829 Pensacola Street\, Honolulu\, 96814\, 米国
CATEGORIES:ゴスペルフラ,ミニストリー
ATTACH;FMTTYPE=image/jpeg:https://mccjp.org/wp-content/uploads/2023/04/IMG_2656-e1682729947453.jpg
END:VEVENT
BEGIN:VEVENT
DTSTART;TZID=Pacific/Honolulu:20260211T150000
DTEND;TZID=Pacific/Honolulu:20260211T170000
DTSTAMP:20260425T080148
CREATED:20260109T234846Z
LAST-MODIFIED:20260109T234846Z
UID:10305-1770822000-1770829200@mccjp.org
SUMMARY:ゴスペルフラ　
DESCRIPTION:日曜日午後2時、水曜日午後3時　マキキ教会教育館２階 \nマキキフラチームは連合フラチームとしても活動しているので、連合の他の教会メンバーやノンクリスチャンも参加しています。全員で20名足らずです。クリスマスコンサート前に限り、子供クラスも開催しています。
URL:https://mccjp.org/event/%e3%82%b4%e3%82%b9%e3%83%9a%e3%83%ab%e3%83%95%e3%83%a9%e3%80%80-63/
LOCATION:MAKIKI CHRISTIAN CHURCH\, 829 Pensacola Street\, Honolulu\, 96814\, 米国
CATEGORIES:ゴスペルフラ,ミニストリー
ATTACH;FMTTYPE=image/jpeg:https://mccjp.org/wp-content/uploads/2022/08/フラピンク-1-e1661639126355.jpg
END:VEVENT
BEGIN:VEVENT
DTSTART;TZID=Pacific/Honolulu:20260208T140000
DTEND;TZID=Pacific/Honolulu:20260208T160000
DTSTAMP:20260425T080148
CREATED:20260115T004111Z
LAST-MODIFIED:20260115T004111Z
UID:10313-1770559200-1770566400@mccjp.org
SUMMARY:ゴスペルフラ
DESCRIPTION:日曜日午後2時、水曜日午後3時　マキキ教会教育館２階 \nマキキフラチームは連合フラチームとしても活動しているので、連合の他の教会メンバーやノンクリスチャンも参加しています。全員で20名足らずです。クリスマスコンサート前に限り、子供クラスも開催しています。
URL:https://mccjp.org/event/%e3%82%b4%e3%82%b9%e3%83%9a%e3%83%ab%e3%83%95%e3%83%a9-241/
LOCATION:MAKIKI CHRISTIAN CHURCH\, 829 Pensacola Street\, Honolulu\, 96814\, 米国
CATEGORIES:ゴスペルフラ,ミニストリー
ATTACH;FMTTYPE=image/jpeg:https://mccjp.org/wp-content/uploads/2023/04/IMG_2656-e1682729947453.jpg
END:VEVENT
BEGIN:VEVENT
DTSTART;TZID=Pacific/Honolulu:20260204T150000
DTEND;TZID=Pacific/Honolulu:20260204T170000
DTSTAMP:20260425T080148
CREATED:20260109T234738Z
LAST-MODIFIED:20260109T234738Z
UID:10303-1770217200-1770224400@mccjp.org
SUMMARY:ゴスペルフラ　
DESCRIPTION:日曜日午後2時、水曜日午後3時　マキキ教会教育館２階 \nマキキフラチームは連合フラチームとしても活動しているので、連合の他の教会メンバーやノンクリスチャンも参加しています。全員で20名足らずです。クリスマスコンサート前に限り、子供クラスも開催しています。
URL:https://mccjp.org/event/%e3%82%b4%e3%82%b9%e3%83%9a%e3%83%ab%e3%83%95%e3%83%a9%e3%80%80-62/
LOCATION:MAKIKI CHRISTIAN CHURCH\, 829 Pensacola Street\, Honolulu\, 96814\, 米国
CATEGORIES:ゴスペルフラ,ミニストリー
ATTACH;FMTTYPE=image/jpeg:https://mccjp.org/wp-content/uploads/2022/08/フラピンク-1-e1661639126355.jpg
END:VEVENT
BEGIN:VEVENT
DTSTART;TZID=Pacific/Honolulu:20260201T140000
DTEND;TZID=Pacific/Honolulu:20260201T160000
DTSTAMP:20260425T080148
CREATED:20260109T235141Z
LAST-MODIFIED:20260109T235141Z
UID:10311-1769954400-1769961600@mccjp.org
SUMMARY:ゴスペルフラ
DESCRIPTION:日曜日午後2時、水曜日午後3時　マキキ教会教育館２階 \nマキキフラチームは連合フラチームとしても活動しているので、連合の他の教会メンバーやノンクリスチャンも参加しています。全員で20名足らずです。クリスマスコンサート前に限り、子供クラスも開催しています。
URL:https://mccjp.org/event/%e3%82%b4%e3%82%b9%e3%83%9a%e3%83%ab%e3%83%95%e3%83%a9-240/
LOCATION:MAKIKI CHRISTIAN CHURCH\, 829 Pensacola Street\, Honolulu\, 96814\, 米国
CATEGORIES:ゴスペルフラ,ミニストリー
ATTACH;FMTTYPE=image/jpeg:https://mccjp.org/wp-content/uploads/2023/04/IMG_2656-e1682729947453.jpg
END:VEVENT
BEGIN:VEVENT
DTSTART;TZID=Pacific/Honolulu:20260128T150000
DTEND;TZID=Pacific/Honolulu:20260128T170000
DTSTAMP:20260425T080148
CREATED:20260109T213433Z
LAST-MODIFIED:20260109T213433Z
UID:10203-1769612400-1769619600@mccjp.org
SUMMARY:ゴスペルフラ　
DESCRIPTION:日曜日午後2時、水曜日午後3時　マキキ教会教育館２階 \nマキキフラチームは連合フラチームとしても活動しているので、連合の他の教会メンバーやノンクリスチャンも参加しています。全員で20名足らずです。クリスマスコンサート前に限り、子供クラスも開催しています。
URL:https://mccjp.org/event/%e3%82%b4%e3%82%b9%e3%83%9a%e3%83%ab%e3%83%95%e3%83%a9%e3%80%80-61/
LOCATION:MAKIKI CHRISTIAN CHURCH\, 829 Pensacola Street\, Honolulu\, 96814\, 米国
CATEGORIES:ゴスペルフラ,ミニストリー
ATTACH;FMTTYPE=image/jpeg:https://mccjp.org/wp-content/uploads/2022/08/フラピンク-1-e1661639126355.jpg
END:VEVENT
BEGIN:VEVENT
DTSTART;TZID=Pacific/Honolulu:20260125T140000
DTEND;TZID=Pacific/Honolulu:20260125T160000
DTSTAMP:20260425T080148
CREATED:20260109T213825Z
LAST-MODIFIED:20260109T213825Z
UID:10211-1769349600-1769356800@mccjp.org
SUMMARY:ゴスペルフラ
DESCRIPTION:日曜日午後2時、水曜日午後3時　マキキ教会教育館２階 \nマキキフラチームは連合フラチームとしても活動しているので、連合の他の教会メンバーやノンクリスチャンも参加しています。全員で20名足らずです。クリスマスコンサート前に限り、子供クラスも開催しています。
URL:https://mccjp.org/event/%e3%82%b4%e3%82%b9%e3%83%9a%e3%83%ab%e3%83%95%e3%83%a9-239/
LOCATION:MAKIKI CHRISTIAN CHURCH\, 829 Pensacola Street\, Honolulu\, 96814\, 米国
CATEGORIES:ゴスペルフラ,ミニストリー
ATTACH;FMTTYPE=image/jpeg:https://mccjp.org/wp-content/uploads/2023/04/IMG_2656-e1682729947453.jpg
END:VEVENT
BEGIN:VEVENT
DTSTART;TZID=Pacific/Honolulu:20260121T150000
DTEND;TZID=Pacific/Honolulu:20260121T170000
DTSTAMP:20260425T080148
CREATED:20260109T213339Z
LAST-MODIFIED:20260109T213339Z
UID:10201-1769007600-1769014800@mccjp.org
SUMMARY:ゴスペルフラ　
DESCRIPTION:日曜日午後2時、水曜日午後3時　マキキ教会教育館２階 \nマキキフラチームは連合フラチームとしても活動しているので、連合の他の教会メンバーやノンクリスチャンも参加しています。全員で20名足らずです。クリスマスコンサート前に限り、子供クラスも開催しています。
URL:https://mccjp.org/event/%e3%82%b4%e3%82%b9%e3%83%9a%e3%83%ab%e3%83%95%e3%83%a9%e3%80%80-60/
LOCATION:MAKIKI CHRISTIAN CHURCH\, 829 Pensacola Street\, Honolulu\, 96814\, 米国
CATEGORIES:ゴスペルフラ,ミニストリー
ATTACH;FMTTYPE=image/jpeg:https://mccjp.org/wp-content/uploads/2022/08/フラピンク-1-e1661639126355.jpg
END:VEVENT
BEGIN:VEVENT
DTSTART;TZID=Pacific/Honolulu:20260118T140000
DTEND;TZID=Pacific/Honolulu:20260118T160000
DTSTAMP:20260425T080148
CREATED:20260109T213739Z
LAST-MODIFIED:20260109T213739Z
UID:10209-1768744800-1768752000@mccjp.org
SUMMARY:ゴスペルフラ
DESCRIPTION:日曜日午後2時、水曜日午後3時　マキキ教会教育館２階 \nマキキフラチームは連合フラチームとしても活動しているので、連合の他の教会メンバーやノンクリスチャンも参加しています。全員で20名足らずです。クリスマスコンサート前に限り、子供クラスも開催しています。
URL:https://mccjp.org/event/%e3%82%b4%e3%82%b9%e3%83%9a%e3%83%ab%e3%83%95%e3%83%a9-238/
LOCATION:MAKIKI CHRISTIAN CHURCH\, 829 Pensacola Street\, Honolulu\, 96814\, 米国
CATEGORIES:ゴスペルフラ,ミニストリー
ATTACH;FMTTYPE=image/jpeg:https://mccjp.org/wp-content/uploads/2023/04/IMG_2656-e1682729947453.jpg
END:VEVENT
BEGIN:VEVENT
DTSTART;TZID=Pacific/Honolulu:20260114T150000
DTEND;TZID=Pacific/Honolulu:20260114T170000
DTSTAMP:20260425T080148
CREATED:20260109T210538Z
LAST-MODIFIED:20260109T210538Z
UID:10199-1768402800-1768410000@mccjp.org
SUMMARY:ゴスペルフラ　
DESCRIPTION:日曜日午後2時、水曜日午後3時　マキキ教会教育館２階 \nマキキフラチームは連合フラチームとしても活動しているので、連合の他の教会メンバーやノンクリスチャンも参加しています。全員で20名足らずです。クリスマスコンサート前に限り、子供クラスも開催しています。
URL:https://mccjp.org/event/%e3%82%b4%e3%82%b9%e3%83%9a%e3%83%ab%e3%83%95%e3%83%a9%e3%80%80-59/
LOCATION:MAKIKI CHRISTIAN CHURCH\, 829 Pensacola Street\, Honolulu\, 96814\, 米国
CATEGORIES:ゴスペルフラ,ミニストリー
ATTACH;FMTTYPE=image/jpeg:https://mccjp.org/wp-content/uploads/2022/08/フラピンク-1-e1661639126355.jpg
END:VEVENT
BEGIN:VEVENT
DTSTART;TZID=Pacific/Honolulu:20260111T140000
DTEND;TZID=Pacific/Honolulu:20260111T160000
DTSTAMP:20260425T080148
CREATED:20260109T213652Z
LAST-MODIFIED:20260109T213652Z
UID:10207-1768140000-1768147200@mccjp.org
SUMMARY:ゴスペルフラ
DESCRIPTION:日曜日午後2時、水曜日午後3時　マキキ教会教育館２階 \nマキキフラチームは連合フラチームとしても活動しているので、連合の他の教会メンバーやノンクリスチャンも参加しています。全員で20名足らずです。クリスマスコンサート前に限り、子供クラスも開催しています。
URL:https://mccjp.org/event/%e3%82%b4%e3%82%b9%e3%83%9a%e3%83%ab%e3%83%95%e3%83%a9-237/
LOCATION:MAKIKI CHRISTIAN CHURCH\, 829 Pensacola Street\, Honolulu\, 96814\, 米国
CATEGORIES:ゴスペルフラ,ミニストリー
ATTACH;FMTTYPE=image/jpeg:https://mccjp.org/wp-content/uploads/2023/04/IMG_2656-e1682729947453.jpg
END:VEVENT
BEGIN:VEVENT
DTSTART;TZID=Pacific/Honolulu:20260107T150000
DTEND;TZID=Pacific/Honolulu:20260107T170000
DTSTAMP:20260425T080148
CREATED:20260109T210416Z
LAST-MODIFIED:20260109T210416Z
UID:10197-1767798000-1767805200@mccjp.org
SUMMARY:ゴスペルフラ　
DESCRIPTION:日曜日午後2時、水曜日午後3時　マキキ教会教育館２階 \nマキキフラチームは連合フラチームとしても活動しているので、連合の他の教会メンバーやノンクリスチャンも参加しています。全員で20名足らずです。クリスマスコンサート前に限り、子供クラスも開催しています。
URL:https://mccjp.org/event/%e3%82%b4%e3%82%b9%e3%83%9a%e3%83%ab%e3%83%95%e3%83%a9%e3%80%80-58/
LOCATION:MAKIKI CHRISTIAN CHURCH\, 829 Pensacola Street\, Honolulu\, 96814\, 米国
CATEGORIES:ゴスペルフラ,ミニストリー
ATTACH;FMTTYPE=image/jpeg:https://mccjp.org/wp-content/uploads/2022/08/フラピンク-1-e1661639126355.jpg
END:VEVENT
BEGIN:VEVENT
DTSTART;TZID=Pacific/Honolulu:20260104T140000
DTEND;TZID=Pacific/Honolulu:20260104T160000
DTSTAMP:20260425T080148
CREATED:20260109T213557Z
LAST-MODIFIED:20260109T213557Z
UID:10205-1767535200-1767542400@mccjp.org
SUMMARY:ゴスペルフラ
DESCRIPTION:日曜日午後2時、水曜日午後3時　マキキ教会教育館２階 \nマキキフラチームは連合フラチームとしても活動しているので、連合の他の教会メンバーやノンクリスチャンも参加しています。全員で20名足らずです。クリスマスコンサート前に限り、子供クラスも開催しています。
URL:https://mccjp.org/event/%e3%82%b4%e3%82%b9%e3%83%9a%e3%83%ab%e3%83%95%e3%83%a9-236/
LOCATION:MAKIKI CHRISTIAN CHURCH\, 829 Pensacola Street\, Honolulu\, 96814\, 米国
CATEGORIES:ゴスペルフラ,ミニストリー
ATTACH;FMTTYPE=image/jpeg:https://mccjp.org/wp-content/uploads/2023/04/IMG_2656-e1682729947453.jpg
END:VEVENT
END:VCALENDAR