BEGIN:VCALENDAR
VERSION:2.0
PRODID:-//マキキ日本語教会 - ECPv6.15.20//NONSGML v1.0//EN
CALSCALE:GREGORIAN
METHOD:PUBLISH
X-WR-CALNAME:マキキ日本語教会
X-ORIGINAL-URL:https://mccjp.org
X-WR-CALDESC:マキキ日本語教会 のイベント
REFRESH-INTERVAL;VALUE=DURATION:PT1H
X-Robots-Tag:noindex
X-PUBLISHED-TTL:PT1H
BEGIN:VTIMEZONE
TZID:Pacific/Honolulu
BEGIN:STANDARD
TZOFFSETFROM:-1000
TZOFFSETTO:-1000
TZNAME:HST
DTSTART:20250101T000000
END:STANDARD
END:VTIMEZONE
BEGIN:VEVENT
DTSTART;TZID=Pacific/Honolulu:20260517T133000
DTEND;TZID=Pacific/Honolulu:20260517T163000
DTSTAMP:20260425T064210
CREATED:20260408T221524Z
LAST-MODIFIED:20260408T221524Z
UID:10722-1779024600-1779035400@mccjp.org
SUMMARY:ソフトボール
DESCRIPTION:マキキ・エクセルシア　試合\n毎月第３日曜日・１：３０集合・２時　試合開始　アラワイフィールドにて行われます。応援にぜひお越しください！ドネーションも受け付けてます。
URL:https://mccjp.org/event/%e3%82%bd%e3%83%95%e3%83%88%e3%83%9c%e3%83%bc%e3%83%ab-42/
LOCATION:Ala Wai Field
CATEGORIES:ソフトボール,ミニストリー
ATTACH;FMTTYPE=image/jpeg:https://mccjp.org/wp-content/uploads/2022/09/名称未設定のデザイン-11-2.jpg
END:VEVENT
BEGIN:VEVENT
DTSTART;TZID=Pacific/Honolulu:20260621T133000
DTEND;TZID=Pacific/Honolulu:20260621T163000
DTSTAMP:20260425T064210
CREATED:20260408T222023Z
LAST-MODIFIED:20260408T222023Z
UID:10724-1782048600-1782059400@mccjp.org
SUMMARY:ソフトボール
DESCRIPTION:マキキ・エクセルシア　試合\n毎月第３日曜日・１：３０集合・２時　試合開始　アラワイフィールドにて行われます。応援にぜひお越しください！ドネーションも受け付けてます。
URL:https://mccjp.org/event/%e3%82%bd%e3%83%95%e3%83%88%e3%83%9c%e3%83%bc%e3%83%ab-43/
LOCATION:Ala Wai Field
CATEGORIES:ソフトボール,ミニストリー
ATTACH;FMTTYPE=image/jpeg:https://mccjp.org/wp-content/uploads/2022/09/名称未設定のデザイン-11-2.jpg
END:VEVENT
END:VCALENDAR