BEGIN:VCALENDAR
VERSION:2.0
PRODID:-//マキキ日本語教会 - ECPv6.15.20//NONSGML v1.0//EN
CALSCALE:GREGORIAN
METHOD:PUBLISH
X-WR-CALNAME:マキキ日本語教会
X-ORIGINAL-URL:https://mccjp.org
X-WR-CALDESC:マキキ日本語教会 のイベント
REFRESH-INTERVAL;VALUE=DURATION:PT1H
X-Robots-Tag:noindex
X-PUBLISHED-TTL:PT1H
BEGIN:VTIMEZONE
TZID:Pacific/Honolulu
BEGIN:STANDARD
TZOFFSETFROM:-1000
TZOFFSETTO:-1000
TZNAME:HST
DTSTART:20220101T000000
END:STANDARD
END:VTIMEZONE
BEGIN:VEVENT
DTSTART;TZID=Pacific/Honolulu:20260419T133000
DTEND;TZID=Pacific/Honolulu:20260419T163000
DTSTAMP:20260425T081528
CREATED:20260408T220658Z
LAST-MODIFIED:20260408T220658Z
UID:10710-1776605400-1776616200@mccjp.org
SUMMARY:ソフトボール
DESCRIPTION:マキキ・エクセルシア　試合\n毎月第３日曜日・１：３０集合・２時　試合開始　アラワイフィールドにて行われます。応援にぜひお越しください！ドネーションも受け付けてます。
URL:https://mccjp.org/event/%e3%82%bd%e3%83%95%e3%83%88%e3%83%9c%e3%83%bc%e3%83%ab-41/
LOCATION:Ala Wai Field
CATEGORIES:ソフトボール,ミニストリー
ATTACH;FMTTYPE=image/jpeg:https://mccjp.org/wp-content/uploads/2022/09/名称未設定のデザイン-11-2.jpg
END:VEVENT
BEGIN:VEVENT
DTSTART;TZID=Pacific/Honolulu:20260315T133000
DTEND;TZID=Pacific/Honolulu:20260315T163000
DTSTAMP:20260425T081528
CREATED:20260305T002147Z
LAST-MODIFIED:20260305T002147Z
UID:10438-1773581400-1773592200@mccjp.org
SUMMARY:ソフトボール
DESCRIPTION:マキキ・エクセルシア　試合\n毎月第３日曜日・１：３０集合・２時　試合開始　アラワイフィールドにて行われます。応援にぜひお越しください！ドネーションも受け付けてます。
URL:https://mccjp.org/event/%e3%82%bd%e3%83%95%e3%83%88%e3%83%9c%e3%83%bc%e3%83%ab-40/
LOCATION:Ala Wai Field
CATEGORIES:ソフトボール,ミニストリー
ATTACH;FMTTYPE=image/jpeg:https://mccjp.org/wp-content/uploads/2022/09/名称未設定のデザイン-11-2.jpg
END:VEVENT
BEGIN:VEVENT
DTSTART;TZID=Pacific/Honolulu:20260215T133000
DTEND;TZID=Pacific/Honolulu:20260215T163000
DTSTAMP:20260425T081528
CREATED:20260109T213931Z
LAST-MODIFIED:20260109T213931Z
UID:10213-1771162200-1771173000@mccjp.org
SUMMARY:ソフトボール
DESCRIPTION:マキキ・エクセルシア　試合\n毎月第３日曜日・１：３０集合・２時　試合開始　アラワイフィールドにて行われます。応援にぜひお越しください！ドネーションも受け付けてます。
URL:https://mccjp.org/event/%e3%82%bd%e3%83%95%e3%83%88%e3%83%9c%e3%83%bc%e3%83%ab-39/
LOCATION:Ala Wai Field
CATEGORIES:ソフトボール,ミニストリー
ATTACH;FMTTYPE=image/jpeg:https://mccjp.org/wp-content/uploads/2022/09/名称未設定のデザイン-11-2.jpg
END:VEVENT
BEGIN:VEVENT
DTSTART;TZID=Pacific/Honolulu:20260118T133000
DTEND;TZID=Pacific/Honolulu:20260118T163000
DTSTAMP:20260425T081528
CREATED:20251210T002423Z
LAST-MODIFIED:20251210T002423Z
UID:10109-1768743000-1768753800@mccjp.org
SUMMARY:ソフトボール
DESCRIPTION:マキキ・エクセルシア　試合\n毎月第３日曜日・１：３０集合・２時　試合開始　アラワイフィールドにて行われます。応援にぜひお越しください！ドネーションも受け付けてます。
URL:https://mccjp.org/event/%e3%82%bd%e3%83%95%e3%83%88%e3%83%9c%e3%83%bc%e3%83%ab-38/
LOCATION:Ala Wai Field
CATEGORIES:ソフトボール,ミニストリー
ATTACH;FMTTYPE=image/jpeg:https://mccjp.org/wp-content/uploads/2022/09/名称未設定のデザイン-11-2.jpg
END:VEVENT
BEGIN:VEVENT
DTSTART;TZID=Pacific/Honolulu:20251221T133000
DTEND;TZID=Pacific/Honolulu:20251221T163000
DTSTAMP:20260425T081528
CREATED:20251210T002104Z
LAST-MODIFIED:20251210T002104Z
UID:10103-1766323800-1766334600@mccjp.org
SUMMARY:ソフトボール
DESCRIPTION:マキキ・エクセルシア　試合\n毎月第３日曜日・１：３０集合・２時　試合開始　アラワイフィールドにて行われます。応援にぜひお越しください！ドネーションも受け付けてます。
URL:https://mccjp.org/event/%e3%82%bd%e3%83%95%e3%83%88%e3%83%9c%e3%83%bc%e3%83%ab-37/
LOCATION:Ala Wai Field
CATEGORIES:ソフトボール,ミニストリー
ATTACH;FMTTYPE=image/jpeg:https://mccjp.org/wp-content/uploads/2022/09/名称未設定のデザイン-11-2.jpg
END:VEVENT
BEGIN:VEVENT
DTSTART;TZID=Pacific/Honolulu:20251116T133000
DTEND;TZID=Pacific/Honolulu:20251116T163000
DTSTAMP:20260425T081528
CREATED:20251106T004541Z
LAST-MODIFIED:20251106T004541Z
UID:9966-1763299800-1763310600@mccjp.org
SUMMARY:ソフトボール
DESCRIPTION:マキキ・エクセルシア　試合\n毎月第３日曜日・１：３０集合・２時　試合開始　アラワイフィールドにて行われます。応援にぜひお越しください！ドネーションも受け付けてます。
URL:https://mccjp.org/event/%e3%82%bd%e3%83%95%e3%83%88%e3%83%9c%e3%83%bc%e3%83%ab-36/
LOCATION:Ala Wai Field
CATEGORIES:ソフトボール,ミニストリー
ATTACH;FMTTYPE=image/jpeg:https://mccjp.org/wp-content/uploads/2022/09/名称未設定のデザイン-11-2.jpg
END:VEVENT
BEGIN:VEVENT
DTSTART;TZID=Pacific/Honolulu:20250921T133000
DTEND;TZID=Pacific/Honolulu:20250921T163000
DTSTAMP:20260425T081528
CREATED:20250830T215105Z
LAST-MODIFIED:20250830T215105Z
UID:9753-1758461400-1758472200@mccjp.org
SUMMARY:ソフトボール
DESCRIPTION:マキキ・エクセルシア　試合\n毎月第３日曜日・１：３０集合・２時　試合開始　アラワイフィールドにて行われます。応援にぜひお越しください！ドネーションも受け付けてます。
URL:https://mccjp.org/event/%e3%82%bd%e3%83%95%e3%83%88%e3%83%9c%e3%83%bc%e3%83%ab-35/
LOCATION:Ala Wai Field
CATEGORIES:ソフトボール,ミニストリー
ATTACH;FMTTYPE=image/jpeg:https://mccjp.org/wp-content/uploads/2022/09/名称未設定のデザイン-11-2.jpg
END:VEVENT
BEGIN:VEVENT
DTSTART;TZID=Pacific/Honolulu:20250817T133000
DTEND;TZID=Pacific/Honolulu:20250817T163000
DTSTAMP:20260425T081528
CREATED:20250726T222745Z
LAST-MODIFIED:20250726T222745Z
UID:9653-1755437400-1755448200@mccjp.org
SUMMARY:ソフトボール
DESCRIPTION:マキキ・エクセルシア　試合\n毎月第３日曜日・１：３０集合・２時　試合開始　アラワイフィールドにて行われます。応援にぜひお越しください！ドネーションも受け付けてます。
URL:https://mccjp.org/event/%e3%82%bd%e3%83%95%e3%83%88%e3%83%9c%e3%83%bc%e3%83%ab-34/
LOCATION:Ala Wai Field
CATEGORIES:ソフトボール,ミニストリー
ATTACH;FMTTYPE=image/jpeg:https://mccjp.org/wp-content/uploads/2022/09/名称未設定のデザイン-11-2.jpg
END:VEVENT
BEGIN:VEVENT
DTSTART;TZID=Pacific/Honolulu:20250518T133000
DTEND;TZID=Pacific/Honolulu:20250518T163000
DTSTAMP:20260425T081528
CREATED:20250410T233855Z
LAST-MODIFIED:20250410T233855Z
UID:9053-1747575000-1747585800@mccjp.org
SUMMARY:ソフトボール
DESCRIPTION:マキキ・エクセルシア　試合\n毎月第３日曜日・１：３０集合・２時　試合開始　アラワイフィールドにて行われます。応援にぜひお越しください！ドネーションも受け付けてます。
URL:https://mccjp.org/event/%e3%82%bd%e3%83%95%e3%83%88%e3%83%9c%e3%83%bc%e3%83%ab-33/
LOCATION:Ala Wai Field
CATEGORIES:ソフトボール,ミニストリー
ATTACH;FMTTYPE=image/jpeg:https://mccjp.org/wp-content/uploads/2022/09/名称未設定のデザイン-11-2.jpg
END:VEVENT
BEGIN:VEVENT
DTSTART;TZID=Pacific/Honolulu:20250420T133000
DTEND;TZID=Pacific/Honolulu:20250420T163000
DTSTAMP:20260425T081528
CREATED:20250410T233809Z
LAST-MODIFIED:20250410T233809Z
UID:9051-1745155800-1745166600@mccjp.org
SUMMARY:ソフトボール
DESCRIPTION:マキキ・エクセルシア　試合\n毎月第３日曜日・１：３０集合・２時　試合開始　アラワイフィールドにて行われます。応援にぜひお越しください！ドネーションも受け付けてます。
URL:https://mccjp.org/event/%e3%82%bd%e3%83%95%e3%83%88%e3%83%9c%e3%83%bc%e3%83%ab-32/
LOCATION:Ala Wai Field
CATEGORIES:ソフトボール,ミニストリー
ATTACH;FMTTYPE=image/jpeg:https://mccjp.org/wp-content/uploads/2022/09/名称未設定のデザイン-11-2.jpg
END:VEVENT
BEGIN:VEVENT
DTSTART;TZID=Pacific/Honolulu:20250316T133000
DTEND;TZID=Pacific/Honolulu:20250316T163000
DTSTAMP:20260425T081528
CREATED:20250219T231106Z
LAST-MODIFIED:20250219T231106Z
UID:8905-1742131800-1742142600@mccjp.org
SUMMARY:ソフトボール
DESCRIPTION:マキキ・エクセルシア　試合\n毎月第３日曜日・１：３０集合・２時　試合開始　アラワイフィールドにて行われます。応援にぜひお越しください！ドネーションも受け付けてます。
URL:https://mccjp.org/event/%e3%82%bd%e3%83%95%e3%83%88%e3%83%9c%e3%83%bc%e3%83%ab-31/
LOCATION:Ala Wai Field
CATEGORIES:ソフトボール,ミニストリー
ATTACH;FMTTYPE=image/jpeg:https://mccjp.org/wp-content/uploads/2022/09/名称未設定のデザイン-11-2.jpg
END:VEVENT
BEGIN:VEVENT
DTSTART;TZID=Pacific/Honolulu:20250119T133000
DTEND;TZID=Pacific/Honolulu:20250119T163000
DTSTAMP:20260425T081528
CREATED:20241228T215252Z
LAST-MODIFIED:20241228T215252Z
UID:8675-1737293400-1737304200@mccjp.org
SUMMARY:ソフトボール
DESCRIPTION:マキキ・エクセルシア　試合\n毎月第３日曜日・１：３０集合・２時　試合開始　アラワイフィールドにて行われます。応援にぜひお越しください！ドネーションも受け付けてます。
URL:https://mccjp.org/event/%e3%82%bd%e3%83%95%e3%83%88%e3%83%9c%e3%83%bc%e3%83%ab-30/
LOCATION:Ala Wai Field
CATEGORIES:ソフトボール,ミニストリー
ATTACH;FMTTYPE=image/jpeg:https://mccjp.org/wp-content/uploads/2022/09/名称未設定のデザイン-11-2.jpg
END:VEVENT
BEGIN:VEVENT
DTSTART;TZID=Pacific/Honolulu:20241215T133000
DTEND;TZID=Pacific/Honolulu:20241215T163000
DTSTAMP:20260425T081528
CREATED:20240914T214436Z
LAST-MODIFIED:20240914T214436Z
UID:8240-1734269400-1734280200@mccjp.org
SUMMARY:ソフトボール
DESCRIPTION:マキキ・エクセルシア　試合\n毎月第３日曜日・１：３０集合・２時　試合開始　アラワイフィールドにて行われます。応援にぜひお越しください！ドネーションも受け付けてます。
URL:https://mccjp.org/event/%e3%82%bd%e3%83%95%e3%83%88%e3%83%9c%e3%83%bc%e3%83%ab-29/
LOCATION:Ala Wai Field
CATEGORIES:ソフトボール,ミニストリー
ATTACH;FMTTYPE=image/jpeg:https://mccjp.org/wp-content/uploads/2022/09/名称未設定のデザイン-11-2.jpg
END:VEVENT
BEGIN:VEVENT
DTSTART;TZID=Pacific/Honolulu:20241117T133000
DTEND;TZID=Pacific/Honolulu:20241117T163000
DTSTAMP:20260425T081528
CREATED:20240914T214352Z
LAST-MODIFIED:20240914T214352Z
UID:8238-1731850200-1731861000@mccjp.org
SUMMARY:ソフトボール
DESCRIPTION:マキキ・エクセルシア　試合\n毎月第３日曜日・１：３０集合・２時　試合開始　アラワイフィールドにて行われます。応援にぜひお越しください！ドネーションも受け付けてます。
URL:https://mccjp.org/event/%e3%82%bd%e3%83%95%e3%83%88%e3%83%9c%e3%83%bc%e3%83%ab-28/
LOCATION:Ala Wai Field
CATEGORIES:ソフトボール,ミニストリー
ATTACH;FMTTYPE=image/jpeg:https://mccjp.org/wp-content/uploads/2022/09/名称未設定のデザイン-11-2.jpg
END:VEVENT
BEGIN:VEVENT
DTSTART;TZID=Pacific/Honolulu:20241020T133000
DTEND;TZID=Pacific/Honolulu:20241020T163000
DTSTAMP:20260425T081528
CREATED:20240914T214313Z
LAST-MODIFIED:20240914T214313Z
UID:8236-1729431000-1729441800@mccjp.org
SUMMARY:ソフトボール
DESCRIPTION:マキキ・エクセルシア　試合\n毎月第３日曜日・１：３０集合・２時　試合開始　アラワイフィールドにて行われます。応援にぜひお越しください！ドネーションも受け付けてます。
URL:https://mccjp.org/event/%e3%82%bd%e3%83%95%e3%83%88%e3%83%9c%e3%83%bc%e3%83%ab-27/
LOCATION:Ala Wai Field
CATEGORIES:ソフトボール,ミニストリー
ATTACH;FMTTYPE=image/jpeg:https://mccjp.org/wp-content/uploads/2022/09/名称未設定のデザイン-11-2.jpg
END:VEVENT
BEGIN:VEVENT
DTSTART;TZID=Pacific/Honolulu:20240915T133000
DTEND;TZID=Pacific/Honolulu:20240915T163000
DTSTAMP:20260425T081528
CREATED:20240914T214224Z
LAST-MODIFIED:20240914T214224Z
UID:8234-1726407000-1726417800@mccjp.org
SUMMARY:ソフトボール
DESCRIPTION:マキキ・エクセルシア　試合\n毎月第３日曜日・１：３０集合・２時　試合開始　アラワイフィールドにて行われます。応援にぜひお越しください！ドネーションも受け付けてます。
URL:https://mccjp.org/event/%e3%82%bd%e3%83%95%e3%83%88%e3%83%9c%e3%83%bc%e3%83%ab-26/
LOCATION:Ala Wai Field
CATEGORIES:ソフトボール,ミニストリー
ATTACH;FMTTYPE=image/jpeg:https://mccjp.org/wp-content/uploads/2022/09/名称未設定のデザイン-11-2.jpg
END:VEVENT
BEGIN:VEVENT
DTSTART;TZID=Pacific/Honolulu:20240818T133000
DTEND;TZID=Pacific/Honolulu:20240818T163000
DTSTAMP:20260425T081528
CREATED:20240724T010719Z
LAST-MODIFIED:20240724T010719Z
UID:7899-1723987800-1723998600@mccjp.org
SUMMARY:ソフトボール
DESCRIPTION:マキキ・エクセルシア　試合\n毎月第３日曜日・１：３０集合・２時　試合開始　アラワイフィールドにて行われます。応援にぜひお越しください！ドネーションも受け付けてます。
URL:https://mccjp.org/event/%e3%82%bd%e3%83%95%e3%83%88%e3%83%9c%e3%83%bc%e3%83%ab-25/
LOCATION:Ala Wai Field
CATEGORIES:ソフトボール,ミニストリー
ATTACH;FMTTYPE=image/jpeg:https://mccjp.org/wp-content/uploads/2022/09/名称未設定のデザイン-11-2.jpg
END:VEVENT
BEGIN:VEVENT
DTSTART;TZID=Pacific/Honolulu:20240721T133000
DTEND;TZID=Pacific/Honolulu:20240721T163000
DTSTAMP:20260425T081528
CREATED:20240622T203020Z
LAST-MODIFIED:20240622T203020Z
UID:7653-1721568600-1721579400@mccjp.org
SUMMARY:ソフトボール
DESCRIPTION:マキキ・エクセルシア　試合\n毎月第３日曜日・１：３０集合・２時　試合開始　アラワイフィールドにて行われます。応援にぜひお越しください！ドネーションも受け付けてます。
URL:https://mccjp.org/event/%e3%82%bd%e3%83%95%e3%83%88%e3%83%9c%e3%83%bc%e3%83%ab-24/
LOCATION:Ala Wai Field
CATEGORIES:ソフトボール,ミニストリー
ATTACH;FMTTYPE=image/jpeg:https://mccjp.org/wp-content/uploads/2022/09/名称未設定のデザイン-11-2.jpg
END:VEVENT
BEGIN:VEVENT
DTSTART;TZID=Pacific/Honolulu:20240616T133000
DTEND;TZID=Pacific/Honolulu:20240616T163000
DTSTAMP:20260425T081528
CREATED:20240526T012940Z
LAST-MODIFIED:20240526T012940Z
UID:7614-1718544600-1718555400@mccjp.org
SUMMARY:ソフトボール
DESCRIPTION:マキキ・エクセルシア　試合\n毎月第３日曜日・１：３０集合・２時　試合開始　アラワイフィールドにて行われます。応援にぜひお越しください！ドネーションも受け付けてます。
URL:https://mccjp.org/event/%e3%82%bd%e3%83%95%e3%83%88%e3%83%9c%e3%83%bc%e3%83%ab-23/
LOCATION:Ala Wai Field
CATEGORIES:ソフトボール,ミニストリー
ATTACH;FMTTYPE=image/jpeg:https://mccjp.org/wp-content/uploads/2022/09/名称未設定のデザイン-11-2.jpg
END:VEVENT
BEGIN:VEVENT
DTSTART;TZID=Pacific/Honolulu:20240519T133000
DTEND;TZID=Pacific/Honolulu:20240519T163000
DTSTAMP:20260425T081528
CREATED:20240502T000519Z
LAST-MODIFIED:20240502T000519Z
UID:7487-1716125400-1716136200@mccjp.org
SUMMARY:ソフトボール
DESCRIPTION:マキキ・エクセルシア　試合\n毎月第３日曜日・１：３０集合・２時　試合開始　アラワイフィールドにて行われます。応援にぜひお越しください！ドネーションも受け付けてます。
URL:https://mccjp.org/event/%e3%82%bd%e3%83%95%e3%83%88%e3%83%9c%e3%83%bc%e3%83%ab-22/
LOCATION:Ala Wai Field
CATEGORIES:ソフトボール,ミニストリー
ATTACH;FMTTYPE=image/jpeg:https://mccjp.org/wp-content/uploads/2022/09/名称未設定のデザイン-11-2.jpg
END:VEVENT
BEGIN:VEVENT
DTSTART;TZID=Pacific/Honolulu:20240421T133000
DTEND;TZID=Pacific/Honolulu:20240421T163000
DTSTAMP:20260425T081528
CREATED:20240403T012511Z
LAST-MODIFIED:20240403T012511Z
UID:7350-1713706200-1713717000@mccjp.org
SUMMARY:ソフトボール
DESCRIPTION:マキキ・エクセルシア　試合\n毎月第３日曜日・１：３０集合・２時　試合開始　アラワイフィールドにて行われます。応援にぜひお越しください！ドネーションも受け付けてます。
URL:https://mccjp.org/event/%e3%82%bd%e3%83%95%e3%83%88%e3%83%9c%e3%83%bc%e3%83%ab-21/
LOCATION:Ala Wai Field
CATEGORIES:ソフトボール,ミニストリー
ATTACH;FMTTYPE=image/jpeg:https://mccjp.org/wp-content/uploads/2022/09/名称未設定のデザイン-11-2.jpg
END:VEVENT
BEGIN:VEVENT
DTSTART;TZID=Pacific/Honolulu:20240317T133000
DTEND;TZID=Pacific/Honolulu:20240317T163000
DTSTAMP:20260425T081528
CREATED:20240229T010003Z
LAST-MODIFIED:20240229T010003Z
UID:7217-1710682200-1710693000@mccjp.org
SUMMARY:ソフトボール
DESCRIPTION:マキキ・エクセルシア　試合\n毎月第３日曜日・１：３０集合・２時　試合開始　アラワイフィールドにて行われます。応援にぜひお越しください！ドネーションも受け付けてます。
URL:https://mccjp.org/event/%e3%82%bd%e3%83%95%e3%83%88%e3%83%9c%e3%83%bc%e3%83%ab-20/
LOCATION:Ala Wai Field
CATEGORIES:ソフトボール,ミニストリー
ATTACH;FMTTYPE=image/jpeg:https://mccjp.org/wp-content/uploads/2022/09/名称未設定のデザイン-11-2.jpg
END:VEVENT
BEGIN:VEVENT
DTSTART;TZID=Pacific/Honolulu:20240218T133000
DTEND;TZID=Pacific/Honolulu:20240218T163000
DTSTAMP:20260425T081528
CREATED:20240201T235454Z
LAST-MODIFIED:20240201T235454Z
UID:6996-1708263000-1708273800@mccjp.org
SUMMARY:ソフトボール
DESCRIPTION:マキキ・エクセルシア　試合\n毎月第３日曜日・１：３０集合・２時　試合開始　アラワイフィールドにて行われます。応援にぜひお越しください！ドネーションも受け付けてます。
URL:https://mccjp.org/event/%e3%82%bd%e3%83%95%e3%83%88%e3%83%9c%e3%83%bc%e3%83%ab-19/
LOCATION:Ala Wai Field
CATEGORIES:ソフトボール,ミニストリー
ATTACH;FMTTYPE=image/jpeg:https://mccjp.org/wp-content/uploads/2022/09/名称未設定のデザイン-11-2.jpg
END:VEVENT
BEGIN:VEVENT
DTSTART;TZID=Pacific/Honolulu:20240121T133000
DTEND;TZID=Pacific/Honolulu:20240121T163000
DTSTAMP:20260425T081528
CREATED:20240106T214322Z
LAST-MODIFIED:20240106T214322Z
UID:6929-1705843800-1705854600@mccjp.org
SUMMARY:ソフトボール
DESCRIPTION:マキキ・エクセルシア　試合\n毎月第３日曜日・１：３０集合・２時　試合開始　アラワイフィールドにて行われます。応援にぜひお越しください！ドネーションも受け付けてます。
URL:https://mccjp.org/event/%e3%82%bd%e3%83%95%e3%83%88%e3%83%9c%e3%83%bc%e3%83%ab-18/
LOCATION:Ala Wai Field
CATEGORIES:ソフトボール,ミニストリー
ATTACH;FMTTYPE=image/jpeg:https://mccjp.org/wp-content/uploads/2022/09/名称未設定のデザイン-11-2.jpg
END:VEVENT
BEGIN:VEVENT
DTSTART;TZID=Pacific/Honolulu:20231119T133000
DTEND;TZID=Pacific/Honolulu:20231119T163000
DTSTAMP:20260425T081528
CREATED:20231105T231408Z
LAST-MODIFIED:20231105T231408Z
UID:6595-1700400600-1700411400@mccjp.org
SUMMARY:ソフトボール
DESCRIPTION:マキキ・エクセルシア　試合\n毎月第３日曜日・１：３０集合・２時　試合開始　アラワイフィールドにて行われます。応援にぜひお越しください！ドネーションも受け付けてます。
URL:https://mccjp.org/event/%e3%82%bd%e3%83%95%e3%83%88%e3%83%9c%e3%83%bc%e3%83%ab-17/
LOCATION:Ala Wai Field
CATEGORIES:ソフトボール,ミニストリー
ATTACH;FMTTYPE=image/jpeg:https://mccjp.org/wp-content/uploads/2022/09/名称未設定のデザイン-11-2.jpg
END:VEVENT
BEGIN:VEVENT
DTSTART;TZID=Pacific/Honolulu:20231015T133000
DTEND;TZID=Pacific/Honolulu:20231015T163000
DTSTAMP:20260425T081528
CREATED:20230927T010502Z
LAST-MODIFIED:20230927T010502Z
UID:6482-1697376600-1697387400@mccjp.org
SUMMARY:ソフトボール
DESCRIPTION:マキキ・エクセルシア　試合\n毎月第３日曜日・１：３０集合・２時　試合開始　アラワイフィールドにて行われます。応援にぜひお越しください！ドネーションも受け付けてます。
URL:https://mccjp.org/event/%e3%82%bd%e3%83%95%e3%83%88%e3%83%9c%e3%83%bc%e3%83%ab-16/
LOCATION:Ala Wai Field
CATEGORIES:ソフトボール,ミニストリー
ATTACH;FMTTYPE=image/jpeg:https://mccjp.org/wp-content/uploads/2022/09/名称未設定のデザイン-11-2.jpg
END:VEVENT
BEGIN:VEVENT
DTSTART;TZID=Pacific/Honolulu:20230917T130000
DTEND;TZID=Pacific/Honolulu:20230917T163000
DTSTAMP:20260425T081528
CREATED:20230902T221146Z
LAST-MODIFIED:20230902T221146Z
UID:6325-1694955600-1694968200@mccjp.org
SUMMARY:ソフトボール
DESCRIPTION:マキキ・エクセルシア　試合\n毎月第３日曜日・１：３０集合・２時　試合開始　アラワイフィールドにて行われます。応援にぜひお越しください！ドネーションも受け付けてます。
URL:https://mccjp.org/event/%e3%82%bd%e3%83%95%e3%83%88%e3%83%9c%e3%83%bc%e3%83%ab-15/
LOCATION:Ala Wai Field
CATEGORIES:ソフトボール,ミニストリー
ATTACH;FMTTYPE=image/jpeg:https://mccjp.org/wp-content/uploads/2022/09/名称未設定のデザイン-11-2.jpg
END:VEVENT
BEGIN:VEVENT
DTSTART;TZID=Pacific/Honolulu:20230820T130000
DTEND;TZID=Pacific/Honolulu:20230820T163000
DTSTAMP:20260425T081528
CREATED:20230725T222940Z
LAST-MODIFIED:20230725T222940Z
UID:6215-1692536400-1692549000@mccjp.org
SUMMARY:ソフトボール
DESCRIPTION:マキキ・エクセルシア　試合\n毎月第３日曜日・１：３０集合・２時　試合開始　アラワイフィールドにて行われます。応援にぜひお越しください！ドネーションも受け付けてます。
URL:https://mccjp.org/event/%e3%82%bd%e3%83%95%e3%83%88%e3%83%9c%e3%83%bc%e3%83%ab-14/
LOCATION:Ala Wai Field
CATEGORIES:ソフトボール,ミニストリー
ATTACH;FMTTYPE=image/jpeg:https://mccjp.org/wp-content/uploads/2022/09/名称未設定のデザイン-11-2.jpg
END:VEVENT
BEGIN:VEVENT
DTSTART;TZID=Pacific/Honolulu:20230723T130000
DTEND;TZID=Pacific/Honolulu:20230723T163000
DTSTAMP:20260425T081528
CREATED:20230616T212058Z
LAST-MODIFIED:20230616T212347Z
UID:6030-1690117200-1690129800@mccjp.org
SUMMARY:ソフトボール
DESCRIPTION:マキキ・エクセルシア　試合\n毎月第３日曜日・１：３０集合・２時　試合開始　アラワイフィールドにて行われます。応援にぜひお越しください！ドネーションも受け付けてます。
URL:https://mccjp.org/event/%e3%82%bd%e3%83%95%e3%83%88%e3%83%9c%e3%83%bc%e3%83%ab-13/
LOCATION:Ala Wai Field
CATEGORIES:ソフトボール,ミニストリー
ATTACH;FMTTYPE=image/jpeg:https://mccjp.org/wp-content/uploads/2022/09/名称未設定のデザイン-11-2.jpg
END:VEVENT
BEGIN:VEVENT
DTSTART;TZID=Pacific/Honolulu:20230618T130000
DTEND;TZID=Pacific/Honolulu:20230618T163000
DTSTAMP:20260425T081528
CREATED:20230519T204228Z
LAST-MODIFIED:20230519T204228Z
UID:5835-1687093200-1687105800@mccjp.org
SUMMARY:ソフトボール
DESCRIPTION:マキキ・エクセルシア　試合\n毎週第３日曜日・１：１５集合・２時　試合開始　アラワイフィールドにて行われます。応援にぜひお越しください！ドネーションも受け付けてます。
URL:https://mccjp.org/event/%e3%82%bd%e3%83%95%e3%83%88%e3%83%9c%e3%83%bc%e3%83%ab-12/
LOCATION:Ala Wai Field
CATEGORIES:ソフトボール,ミニストリー
ATTACH;FMTTYPE=image/jpeg:https://mccjp.org/wp-content/uploads/2022/09/名称未設定のデザイン-11-2.jpg
END:VEVENT
END:VCALENDAR