BEGIN:VCALENDAR
VERSION:2.0
PRODID:-//マキキ日本語教会 - ECPv6.15.20//NONSGML v1.0//EN
CALSCALE:GREGORIAN
METHOD:PUBLISH
X-ORIGINAL-URL:https://mccjp.org
X-WR-CALDESC:マキキ日本語教会 のイベント
REFRESH-INTERVAL;VALUE=DURATION:PT1H
X-Robots-Tag:noindex
X-PUBLISHED-TTL:PT1H
BEGIN:VTIMEZONE
TZID:Pacific/Honolulu
BEGIN:STANDARD
TZOFFSETFROM:-1000
TZOFFSETTO:-1000
TZNAME:HST
DTSTART:20250101T000000
END:STANDARD
END:VTIMEZONE
BEGIN:VEVENT
DTSTART;TZID=Pacific/Honolulu:20260405T070000
DTEND;TZID=Pacific/Honolulu:20260405T073000
DTSTAMP:20260425T164732
CREATED:20260305T004112Z
LAST-MODIFIED:20260404T220425Z
UID:10460-1775372400-1775374200@mccjp.org
SUMMARY:イースター洗礼式　英語部
DESCRIPTION:アラモアナビーチにて午前７時より英語部の洗礼式が行われます。\n祝福を祈りましょう。
URL:https://mccjp.org/event/%e3%82%a4%e3%83%bc%e3%82%b9%e3%82%bf%e3%83%bc%e6%b4%97%e7%a4%bc%e5%bc%8f-3/
LOCATION:Ala Moana Beach Park\, Honolulu\, 米国
CATEGORIES:ミニストリー,教会行事,礼拝
ATTACH;FMTTYPE=image/jpeg:https://mccjp.org/wp-content/uploads/2023/03/名称未設定のデザイン-1.jpg
END:VEVENT
END:VCALENDAR