BEGIN:VCALENDAR
VERSION:2.0
PRODID:-//マキキ日本語教会 - ECPv6.15.20//NONSGML v1.0//EN
CALSCALE:GREGORIAN
METHOD:PUBLISH
X-ORIGINAL-URL:https://mccjp.org
X-WR-CALDESC:マキキ日本語教会 のイベント
REFRESH-INTERVAL;VALUE=DURATION:PT1H
X-Robots-Tag:noindex
X-PUBLISHED-TTL:PT1H
BEGIN:VTIMEZONE
TZID:Pacific/Honolulu
BEGIN:STANDARD
TZOFFSETFROM:-1000
TZOFFSETTO:-1000
TZNAME:HST
DTSTART:20250101T000000
END:STANDARD
END:VTIMEZONE
BEGIN:VEVENT
DTSTART;TZID=Pacific/Honolulu:20260426T100000
DTEND;TZID=Pacific/Honolulu:20260426T103000
DTSTAMP:20260425T052647
CREATED:20260404T220702Z
LAST-MODIFIED:20260404T220702Z
UID:10634-1777197600-1777199400@mccjp.org
SUMMARY:聖書の学び　
DESCRIPTION:毎週日曜日　午前10時〜11時　対面とズームのハイブリッド \n礼拝前に集まり、聖書を共に読みながら信仰を深める学びの時間です。聖書のメッセージを分かりやすく学び、日々の信仰生活にどのように生かすかを共に考えます。聖書をこれから学び始めたい方\n信仰生活を励まされたい方\n教会の仲間と共に聖書を学びたい方\nに適した学びの場です。 \n聖書の言葉を分かち合いながら、信仰を育てていくことを大切にしています。どなたでも安心して参加できますので、どうぞお気軽にご参加ください。 \n共に聖書を学びましょう。 \n  \n 
URL:https://mccjp.org/event/%e8%81%96%e6%9b%b8%e3%81%ae%e5%ad%a6%e3%81%b3%e3%80%80-63/
LOCATION:MAKIKI CHRISTIAN CHURCH\, 829 Pensacola Street\, Honolulu\, 96814\, 米国
CATEGORIES:日曜日聖書の学び
ATTACH;FMTTYPE=image/jpeg:https://mccjp.org/wp-content/uploads/2023/06/Brown-Simple-Special-Promotion-Korean-Menu-Facebook-Post-1-1.jpg
END:VEVENT
END:VCALENDAR