BEGIN:VCALENDAR
VERSION:2.0
PRODID:-//マキキ日本語教会 - ECPv6.15.20//NONSGML v1.0//EN
CALSCALE:GREGORIAN
METHOD:PUBLISH
X-ORIGINAL-URL:https://mccjp.org
X-WR-CALDESC:マキキ日本語教会 のイベント
REFRESH-INTERVAL;VALUE=DURATION:PT1H
X-Robots-Tag:noindex
X-PUBLISHED-TTL:PT1H
BEGIN:VTIMEZONE
TZID:Pacific/Honolulu
BEGIN:STANDARD
TZOFFSETFROM:-1000
TZOFFSETTO:-1000
TZNAME:HST
DTSTART:20250101T000000
END:STANDARD
END:VTIMEZONE
BEGIN:VEVENT
DTSTART;TZID=Pacific/Honolulu:20260201T133000
DTEND;TZID=Pacific/Honolulu:20260201T150000
DTSTAMP:20260425T164732
CREATED:20260109T232711Z
LAST-MODIFIED:20260109T232711Z
UID:10278-1769952600-1769958000@mccjp.org
SUMMARY:韓国クラブ
DESCRIPTION:新しいクラス「韓国クラブ」が始まりました。皆で韓国語の学びや、韓国文化を楽しむ集まりです。どなたでも参加できますのでお友達をお誘いしてご参加ください。
URL:https://mccjp.org/event/%e9%9f%93%e5%9b%bd%e3%82%af%e3%83%a9%e3%83%96-69/
CATEGORIES:ミニストリー
ATTACH;FMTTYPE=image/jpeg:https://mccjp.org/wp-content/uploads/2023/04/Brown-Simple-Special-Promotion-Korean-Menu-Facebook-Post.jpg
END:VEVENT
BEGIN:VEVENT
DTSTART;TZID=Pacific/Honolulu:20260205T123000
DTEND;TZID=Pacific/Honolulu:20260205T140000
DTSTAMP:20260425T164732
CREATED:20260109T214908Z
LAST-MODIFIED:20260109T214908Z
UID:10232-1770294600-1770300000@mccjp.org
SUMMARY:ウクレレクラス 木曜
DESCRIPTION:毎週木曜日　12:30pm   毎週土曜日　10:00am \n会費は１ヶ月５ドル。ウクレレクラスは２０１２年にはじまりました。 \n「賛美歌」「聖歌」クリスチャンソング、「日本の童謡」唱歌を弾いたりして楽しんでいます。ご参加ください。
URL:https://mccjp.org/event/%e3%82%a6%e3%82%af%e3%83%ac%e3%83%ac%e3%82%af%e3%83%a9%e3%82%b9-%e6%9c%a8%e6%9b%9c-17/
LOCATION:MAKIKI CHRISTIAN CHURCH\, 829 Pensacola Street\, Honolulu\, 96814\, 米国
CATEGORIES:ウクレレクラス,ミニストリー
ATTACH;FMTTYPE=image/jpeg:https://mccjp.org/wp-content/uploads/2022/07/20220601_114023-2.jpg
END:VEVENT
BEGIN:VEVENT
DTSTART;TZID=Pacific/Honolulu:20260207T100000
DTEND;TZID=Pacific/Honolulu:20260207T120000
DTSTAMP:20260425T164732
CREATED:20260109T215301Z
LAST-MODIFIED:20260109T215301Z
UID:10240-1770458400-1770465600@mccjp.org
SUMMARY:ウクレレクラス 土曜
DESCRIPTION:毎週木曜日　12:30pm   毎週土曜日　10:00am \n会費は１ヶ月５ドル。ウクレレクラスは２０１２年にはじまりました。 \n「賛美歌」「聖歌」クリスチャンソング、「日本の童謡」唱歌を弾いたりして楽しんでいます。ご参加ください。
URL:https://mccjp.org/event/%e3%82%a6%e3%82%af%e3%83%ac%e3%83%ac%e3%82%af%e3%83%a9%e3%82%b9-%e5%9c%9f%e6%9b%9c-15/
LOCATION:MAKIKI CHRISTIAN CHURCH\, 829 Pensacola Street\, Honolulu\, 96814\, 米国
CATEGORIES:ウクレレクラス,ミニストリー
ATTACH;FMTTYPE=image/jpeg:https://mccjp.org/wp-content/uploads/2022/07/20220601_114023-2.jpg
END:VEVENT
BEGIN:VEVENT
DTSTART;TZID=Pacific/Honolulu:20260212T123000
DTEND;TZID=Pacific/Honolulu:20260212T140000
DTSTAMP:20260425T164732
CREATED:20260109T234448Z
LAST-MODIFIED:20260109T234448Z
UID:10297-1770899400-1770904800@mccjp.org
SUMMARY:ウクレレクラス 木曜
DESCRIPTION:毎週木曜日　12:30pm   毎週土曜日　10:00am \n会費は１ヶ月５ドル。ウクレレクラスは２０１２年にはじまりました。 \n「賛美歌」「聖歌」クリスチャンソング、「日本の童謡」唱歌を弾いたりして楽しんでいます。ご参加ください。
URL:https://mccjp.org/event/%e3%82%a6%e3%82%af%e3%83%ac%e3%83%ac%e3%82%af%e3%83%a9%e3%82%b9-%e6%9c%a8%e6%9b%9c-18/
LOCATION:MAKIKI CHRISTIAN CHURCH\, 829 Pensacola Street\, Honolulu\, 96814\, 米国
CATEGORIES:ウクレレクラス,ミニストリー
ATTACH;FMTTYPE=image/jpeg:https://mccjp.org/wp-content/uploads/2022/07/20220601_114023-2.jpg
END:VEVENT
BEGIN:VEVENT
DTSTART;TZID=Pacific/Honolulu:20260215T133000
DTEND;TZID=Pacific/Honolulu:20260215T150000
DTSTAMP:20260425T164732
CREATED:20260109T232810Z
LAST-MODIFIED:20260109T232810Z
UID:10280-1771162200-1771167600@mccjp.org
SUMMARY:韓国クラブ
DESCRIPTION:新しいクラス「韓国クラブ」が始まりました。皆で韓国語の学びや、韓国文化を楽しむ集まりです。どなたでも参加できますのでお友達をお誘いしてご参加ください。
URL:https://mccjp.org/event/%e9%9f%93%e5%9b%bd%e3%82%af%e3%83%a9%e3%83%96-70/
CATEGORIES:ミニストリー
ATTACH;FMTTYPE=image/jpeg:https://mccjp.org/wp-content/uploads/2023/04/Brown-Simple-Special-Promotion-Korean-Menu-Facebook-Post.jpg
END:VEVENT
BEGIN:VEVENT
DTSTART;TZID=Pacific/Honolulu:20260215T133000
DTEND;TZID=Pacific/Honolulu:20260215T163000
DTSTAMP:20260425T164732
CREATED:20260109T213931Z
LAST-MODIFIED:20260109T213931Z
UID:10213-1771162200-1771173000@mccjp.org
SUMMARY:ソフトボール
DESCRIPTION:マキキ・エクセルシア　試合\n毎月第３日曜日・１：３０集合・２時　試合開始　アラワイフィールドにて行われます。応援にぜひお越しください！ドネーションも受け付けてます。
URL:https://mccjp.org/event/%e3%82%bd%e3%83%95%e3%83%88%e3%83%9c%e3%83%bc%e3%83%ab-39/
LOCATION:Ala Wai Field
CATEGORIES:ソフトボール,ミニストリー
ATTACH;FMTTYPE=image/jpeg:https://mccjp.org/wp-content/uploads/2022/09/名称未設定のデザイン-11-2.jpg
END:VEVENT
BEGIN:VEVENT
DTSTART;TZID=Pacific/Honolulu:20260219T123000
DTEND;TZID=Pacific/Honolulu:20260219T140000
DTSTAMP:20260425T164732
CREATED:20260109T234530Z
LAST-MODIFIED:20260109T234530Z
UID:10299-1771504200-1771509600@mccjp.org
SUMMARY:ウクレレクラス 木曜
DESCRIPTION:毎週木曜日　12:30pm   毎週土曜日　10:00am \n会費は１ヶ月５ドル。ウクレレクラスは２０１２年にはじまりました。 \n「賛美歌」「聖歌」クリスチャンソング、「日本の童謡」唱歌を弾いたりして楽しんでいます。ご参加ください。
URL:https://mccjp.org/event/%e3%82%a6%e3%82%af%e3%83%ac%e3%83%ac%e3%82%af%e3%83%a9%e3%82%b9-%e6%9c%a8%e6%9b%9c-19/
LOCATION:MAKIKI CHRISTIAN CHURCH\, 829 Pensacola Street\, Honolulu\, 96814\, 米国
CATEGORIES:ウクレレクラス,ミニストリー
ATTACH;FMTTYPE=image/jpeg:https://mccjp.org/wp-content/uploads/2022/07/20220601_114023-2.jpg
END:VEVENT
BEGIN:VEVENT
DTSTART;TZID=Pacific/Honolulu:20260221T100000
DTEND;TZID=Pacific/Honolulu:20260221T120000
DTSTAMP:20260425T164732
CREATED:20260109T215433Z
LAST-MODIFIED:20260109T215433Z
UID:10244-1771668000-1771675200@mccjp.org
SUMMARY:ウクレレクラス 土曜
DESCRIPTION:毎週木曜日　12:30pm   毎週土曜日　10:00am \n会費は１ヶ月５ドル。ウクレレクラスは２０１２年にはじまりました。 \n「賛美歌」「聖歌」クリスチャンソング、「日本の童謡」唱歌を弾いたりして楽しんでいます。ご参加ください。
URL:https://mccjp.org/event/%e3%82%a6%e3%82%af%e3%83%ac%e3%83%ac%e3%82%af%e3%83%a9%e3%82%b9-%e5%9c%9f%e6%9b%9c-17/
LOCATION:MAKIKI CHRISTIAN CHURCH\, 829 Pensacola Street\, Honolulu\, 96814\, 米国
CATEGORIES:ウクレレクラス,ミニストリー
ATTACH;FMTTYPE=image/jpeg:https://mccjp.org/wp-content/uploads/2022/07/20220601_114023-2.jpg
END:VEVENT
BEGIN:VEVENT
DTSTART;TZID=Pacific/Honolulu:20260222T133000
DTEND;TZID=Pacific/Honolulu:20260222T150000
DTSTAMP:20260425T164732
CREATED:20260109T232856Z
LAST-MODIFIED:20260109T232856Z
UID:10282-1771767000-1771772400@mccjp.org
SUMMARY:韓国クラブ
DESCRIPTION:新しいクラス「韓国クラブ」が始まりました。皆で韓国語の学びや、韓国文化を楽しむ集まりです。どなたでも参加できますのでお友達をお誘いしてご参加ください。
URL:https://mccjp.org/event/%e9%9f%93%e5%9b%bd%e3%82%af%e3%83%a9%e3%83%96-71/
CATEGORIES:ミニストリー
ATTACH;FMTTYPE=image/jpeg:https://mccjp.org/wp-content/uploads/2023/04/Brown-Simple-Special-Promotion-Korean-Menu-Facebook-Post.jpg
END:VEVENT
BEGIN:VEVENT
DTSTART;TZID=Pacific/Honolulu:20260226T123000
DTEND;TZID=Pacific/Honolulu:20260226T140000
DTSTAMP:20260425T164732
CREATED:20260109T234616Z
LAST-MODIFIED:20260109T234616Z
UID:10301-1772109000-1772114400@mccjp.org
SUMMARY:ウクレレクラス 木曜
DESCRIPTION:毎週木曜日　12:30pm   毎週土曜日　10:00am \n会費は１ヶ月５ドル。ウクレレクラスは２０１２年にはじまりました。 \n「賛美歌」「聖歌」クリスチャンソング、「日本の童謡」唱歌を弾いたりして楽しんでいます。ご参加ください。
URL:https://mccjp.org/event/%e3%82%a6%e3%82%af%e3%83%ac%e3%83%ac%e3%82%af%e3%83%a9%e3%82%b9-%e6%9c%a8%e6%9b%9c-20/
LOCATION:MAKIKI CHRISTIAN CHURCH\, 829 Pensacola Street\, Honolulu\, 96814\, 米国
CATEGORIES:ウクレレクラス,ミニストリー
ATTACH;FMTTYPE=image/jpeg:https://mccjp.org/wp-content/uploads/2022/07/20220601_114023-2.jpg
END:VEVENT
BEGIN:VEVENT
DTSTART;TZID=Pacific/Honolulu:20260228T100000
DTEND;TZID=Pacific/Honolulu:20260228T120000
DTSTAMP:20260425T164732
CREATED:20260109T215351Z
LAST-MODIFIED:20260109T215512Z
UID:10242-1772272800-1772280000@mccjp.org
SUMMARY:ウクレレクラス 土曜
DESCRIPTION:毎週木曜日　12:30pm   毎週土曜日　10:00am \n会費は１ヶ月５ドル。ウクレレクラスは２０１２年にはじまりました。 \n「賛美歌」「聖歌」クリスチャンソング、「日本の童謡」唱歌を弾いたりして楽しんでいます。ご参加ください。
URL:https://mccjp.org/event/%e3%82%a6%e3%82%af%e3%83%ac%e3%83%ac%e3%82%af%e3%83%a9%e3%82%b9-%e5%9c%9f%e6%9b%9c-16/
LOCATION:MAKIKI CHRISTIAN CHURCH\, 829 Pensacola Street\, Honolulu\, 96814\, 米国
CATEGORIES:ウクレレクラス,ミニストリー
ATTACH;FMTTYPE=image/jpeg:https://mccjp.org/wp-content/uploads/2022/07/20220601_114023-2.jpg
END:VEVENT
BEGIN:VEVENT
DTSTART;TZID=Pacific/Honolulu:20260301T133000
DTEND;TZID=Pacific/Honolulu:20260301T150000
DTSTAMP:20260425T164732
CREATED:20260305T005129Z
LAST-MODIFIED:20260305T005129Z
UID:10474-1772371800-1772377200@mccjp.org
SUMMARY:韓国クラブ
DESCRIPTION:新しいクラス「韓国クラブ」が始まりました。皆で韓国語の学びや、韓国文化を楽しむ集まりです。どなたでも参加できますのでお友達をお誘いしてご参加ください。
URL:https://mccjp.org/event/%e9%9f%93%e5%9b%bd%e3%82%af%e3%83%a9%e3%83%96-72/
CATEGORIES:ミニストリー
ATTACH;FMTTYPE=image/jpeg:https://mccjp.org/wp-content/uploads/2023/04/Brown-Simple-Special-Promotion-Korean-Menu-Facebook-Post.jpg
END:VEVENT
BEGIN:VEVENT
DTSTART;TZID=Pacific/Honolulu:20260305T123000
DTEND;TZID=Pacific/Honolulu:20260305T140000
DTSTAMP:20260425T164732
CREATED:20260219T192007Z
LAST-MODIFIED:20260219T192604Z
UID:10396-1772713800-1772719200@mccjp.org
SUMMARY:ウクレレクラス 木曜
DESCRIPTION:毎週木曜日　12:30pm   毎週土曜日　10:00am \n会費は１ヶ月５ドル。ウクレレクラスは２０１２年にはじまりました。 \n「賛美歌」「聖歌」クリスチャンソング、「日本の童謡」唱歌を弾いたりして楽しんでいます。ご参加ください。
URL:https://mccjp.org/event/%e3%82%a6%e3%82%af%e3%83%ac%e3%83%ac%e3%82%af%e3%83%a9%e3%82%b9-%e6%9c%a8%e6%9b%9c-21/
LOCATION:MAKIKI CHRISTIAN CHURCH\, 829 Pensacola Street\, Honolulu\, 96814\, 米国
CATEGORIES:ウクレレクラス,ミニストリー
ATTACH;FMTTYPE=image/jpeg:https://mccjp.org/wp-content/uploads/2022/07/20220601_114023-2.jpg
END:VEVENT
BEGIN:VEVENT
DTSTART;TZID=Pacific/Honolulu:20260307T100000
DTEND;TZID=Pacific/Honolulu:20260307T120000
DTSTAMP:20260425T164732
CREATED:20260305T012136Z
LAST-MODIFIED:20260305T012136Z
UID:10510-1772877600-1772884800@mccjp.org
SUMMARY:ウクレレクラス 土曜
DESCRIPTION:毎週木曜日　12:30pm   毎週土曜日　10:00am \n会費は１ヶ月５ドル。ウクレレクラスは２０１２年にはじまりました。 \n「賛美歌」「聖歌」クリスチャンソング、「日本の童謡」唱歌を弾いたりして楽しんでいます。ご参加ください。
URL:https://mccjp.org/event/%e3%82%a6%e3%82%af%e3%83%ac%e3%83%ac%e3%82%af%e3%83%a9%e3%82%b9-%e5%9c%9f%e6%9b%9c-18/
LOCATION:MAKIKI CHRISTIAN CHURCH\, 829 Pensacola Street\, Honolulu\, 96814\, 米国
CATEGORIES:ウクレレクラス,ミニストリー
ATTACH;FMTTYPE=image/jpeg:https://mccjp.org/wp-content/uploads/2022/07/20220601_114023-2.jpg
END:VEVENT
BEGIN:VEVENT
DTSTART;TZID=Pacific/Honolulu:20260312T123000
DTEND;TZID=Pacific/Honolulu:20260312T140000
DTSTAMP:20260425T164732
CREATED:20260305T011539Z
LAST-MODIFIED:20260305T011539Z
UID:10504-1773318600-1773324000@mccjp.org
SUMMARY:ウクレレクラス 木曜
DESCRIPTION:毎週木曜日　12:30pm   毎週土曜日　10:00am \n会費は１ヶ月５ドル。ウクレレクラスは２０１２年にはじまりました。 \n「賛美歌」「聖歌」クリスチャンソング、「日本の童謡」唱歌を弾いたりして楽しんでいます。ご参加ください。
URL:https://mccjp.org/event/%e3%82%a6%e3%82%af%e3%83%ac%e3%83%ac%e3%82%af%e3%83%a9%e3%82%b9-%e6%9c%a8%e6%9b%9c-22/
LOCATION:MAKIKI CHRISTIAN CHURCH\, 829 Pensacola Street\, Honolulu\, 96814\, 米国
CATEGORIES:ウクレレクラス,ミニストリー
ATTACH;FMTTYPE=image/jpeg:https://mccjp.org/wp-content/uploads/2022/07/20220601_114023-2.jpg
END:VEVENT
BEGIN:VEVENT
DTSTART;TZID=Pacific/Honolulu:20260315T133000
DTEND;TZID=Pacific/Honolulu:20260315T150000
DTSTAMP:20260425T164732
CREATED:20260305T005248Z
LAST-MODIFIED:20260305T005248Z
UID:10476-1773581400-1773586800@mccjp.org
SUMMARY:韓国クラブ
DESCRIPTION:新しいクラス「韓国クラブ」が始まりました。皆で韓国語の学びや、韓国文化を楽しむ集まりです。どなたでも参加できますのでお友達をお誘いしてご参加ください。
URL:https://mccjp.org/event/%e9%9f%93%e5%9b%bd%e3%82%af%e3%83%a9%e3%83%96-73/
CATEGORIES:ミニストリー
ATTACH;FMTTYPE=image/jpeg:https://mccjp.org/wp-content/uploads/2023/04/Brown-Simple-Special-Promotion-Korean-Menu-Facebook-Post.jpg
END:VEVENT
BEGIN:VEVENT
DTSTART;TZID=Pacific/Honolulu:20260315T133000
DTEND;TZID=Pacific/Honolulu:20260315T163000
DTSTAMP:20260425T164732
CREATED:20260305T002147Z
LAST-MODIFIED:20260305T002147Z
UID:10438-1773581400-1773592200@mccjp.org
SUMMARY:ソフトボール
DESCRIPTION:マキキ・エクセルシア　試合\n毎月第３日曜日・１：３０集合・２時　試合開始　アラワイフィールドにて行われます。応援にぜひお越しください！ドネーションも受け付けてます。
URL:https://mccjp.org/event/%e3%82%bd%e3%83%95%e3%83%88%e3%83%9c%e3%83%bc%e3%83%ab-40/
LOCATION:Ala Wai Field
CATEGORIES:ソフトボール,ミニストリー
ATTACH;FMTTYPE=image/jpeg:https://mccjp.org/wp-content/uploads/2022/09/名称未設定のデザイン-11-2.jpg
END:VEVENT
BEGIN:VEVENT
DTSTART;TZID=Pacific/Honolulu:20260319T123000
DTEND;TZID=Pacific/Honolulu:20260319T140000
DTSTAMP:20260425T164732
CREATED:20260305T011718Z
LAST-MODIFIED:20260305T011718Z
UID:10506-1773923400-1773928800@mccjp.org
SUMMARY:ウクレレクラス 木曜
DESCRIPTION:毎週木曜日　12:30pm   毎週土曜日　10:00am \n会費は１ヶ月５ドル。ウクレレクラスは２０１２年にはじまりました。 \n「賛美歌」「聖歌」クリスチャンソング、「日本の童謡」唱歌を弾いたりして楽しんでいます。ご参加ください。
URL:https://mccjp.org/event/%e3%82%a6%e3%82%af%e3%83%ac%e3%83%ac%e3%82%af%e3%83%a9%e3%82%b9-%e6%9c%a8%e6%9b%9c-23/
LOCATION:MAKIKI CHRISTIAN CHURCH\, 829 Pensacola Street\, Honolulu\, 96814\, 米国
CATEGORIES:ウクレレクラス,ミニストリー
ATTACH;FMTTYPE=image/jpeg:https://mccjp.org/wp-content/uploads/2022/07/20220601_114023-2.jpg
END:VEVENT
BEGIN:VEVENT
DTSTART;TZID=Pacific/Honolulu:20260321T100000
DTEND;TZID=Pacific/Honolulu:20260321T120000
DTSTAMP:20260425T164732
CREATED:20260305T012520Z
LAST-MODIFIED:20260305T012520Z
UID:10512-1774087200-1774094400@mccjp.org
SUMMARY:ウクレレクラス 土曜
DESCRIPTION:毎週木曜日　12:30pm   毎週土曜日　10:00am \n会費は１ヶ月５ドル。ウクレレクラスは２０１２年にはじまりました。 \n「賛美歌」「聖歌」クリスチャンソング、「日本の童謡」唱歌を弾いたりして楽しんでいます。ご参加ください。
URL:https://mccjp.org/event/%e3%82%a6%e3%82%af%e3%83%ac%e3%83%ac%e3%82%af%e3%83%a9%e3%82%b9-%e5%9c%9f%e6%9b%9c-19/
LOCATION:MAKIKI CHRISTIAN CHURCH\, 829 Pensacola Street\, Honolulu\, 96814\, 米国
CATEGORIES:ウクレレクラス,ミニストリー
ATTACH;FMTTYPE=image/jpeg:https://mccjp.org/wp-content/uploads/2022/07/20220601_114023-2.jpg
END:VEVENT
BEGIN:VEVENT
DTSTART;TZID=Pacific/Honolulu:20260322T133000
DTEND;TZID=Pacific/Honolulu:20260322T150000
DTSTAMP:20260425T164732
CREATED:20260305T005352Z
LAST-MODIFIED:20260305T005352Z
UID:10478-1774186200-1774191600@mccjp.org
SUMMARY:韓国クラブ
DESCRIPTION:新しいクラス「韓国クラブ」が始まりました。皆で韓国語の学びや、韓国文化を楽しむ集まりです。どなたでも参加できますのでお友達をお誘いしてご参加ください。
URL:https://mccjp.org/event/%e9%9f%93%e5%9b%bd%e3%82%af%e3%83%a9%e3%83%96-74/
CATEGORIES:ミニストリー
ATTACH;FMTTYPE=image/jpeg:https://mccjp.org/wp-content/uploads/2023/04/Brown-Simple-Special-Promotion-Korean-Menu-Facebook-Post.jpg
END:VEVENT
BEGIN:VEVENT
DTSTART;TZID=Pacific/Honolulu:20260326T123000
DTEND;TZID=Pacific/Honolulu:20260326T140000
DTSTAMP:20260425T164732
CREATED:20260305T011932Z
LAST-MODIFIED:20260305T011932Z
UID:10508-1774528200-1774533600@mccjp.org
SUMMARY:ウクレレクラス 木曜
DESCRIPTION:毎週木曜日　12:30pm   毎週土曜日　10:00am \n会費は１ヶ月５ドル。ウクレレクラスは２０１２年にはじまりました。 \n「賛美歌」「聖歌」クリスチャンソング、「日本の童謡」唱歌を弾いたりして楽しんでいます。ご参加ください。
URL:https://mccjp.org/event/%e3%82%a6%e3%82%af%e3%83%ac%e3%83%ac%e3%82%af%e3%83%a9%e3%82%b9-%e6%9c%a8%e6%9b%9c-24/
LOCATION:MAKIKI CHRISTIAN CHURCH\, 829 Pensacola Street\, Honolulu\, 96814\, 米国
CATEGORIES:ウクレレクラス,ミニストリー
ATTACH;FMTTYPE=image/jpeg:https://mccjp.org/wp-content/uploads/2022/07/20220601_114023-2.jpg
END:VEVENT
BEGIN:VEVENT
DTSTART;TZID=Pacific/Honolulu:20260328T100000
DTEND;TZID=Pacific/Honolulu:20260328T120000
DTSTAMP:20260425T164732
CREATED:20260305T012649Z
LAST-MODIFIED:20260305T012649Z
UID:10514-1774692000-1774699200@mccjp.org
SUMMARY:ウクレレクラス 土曜
DESCRIPTION:毎週木曜日　12:30pm   毎週土曜日　10:00am \n会費は１ヶ月５ドル。ウクレレクラスは２０１２年にはじまりました。 \n「賛美歌」「聖歌」クリスチャンソング、「日本の童謡」唱歌を弾いたりして楽しんでいます。ご参加ください。
URL:https://mccjp.org/event/%e3%82%a6%e3%82%af%e3%83%ac%e3%83%ac%e3%82%af%e3%83%a9%e3%82%b9-%e5%9c%9f%e6%9b%9c-20/
LOCATION:MAKIKI CHRISTIAN CHURCH\, 829 Pensacola Street\, Honolulu\, 96814\, 米国
CATEGORIES:ウクレレクラス,ミニストリー
ATTACH;FMTTYPE=image/jpeg:https://mccjp.org/wp-content/uploads/2022/07/20220601_114023-2.jpg
END:VEVENT
BEGIN:VEVENT
DTSTART;TZID=Pacific/Honolulu:20260329T133000
DTEND;TZID=Pacific/Honolulu:20260329T150000
DTSTAMP:20260425T164732
CREATED:20260306T215116Z
LAST-MODIFIED:20260306T215116Z
UID:10523-1774791000-1774796400@mccjp.org
SUMMARY:韓国クラブ
DESCRIPTION:新しいクラス「韓国クラブ」が始まりました。皆で韓国語の学びや、韓国文化を楽しむ集まりです。どなたでも参加できますのでお友達をお誘いしてご参加ください。
URL:https://mccjp.org/event/%e9%9f%93%e5%9b%bd%e3%82%af%e3%83%a9%e3%83%96-75/
CATEGORIES:ミニストリー
ATTACH;FMTTYPE=image/jpeg:https://mccjp.org/wp-content/uploads/2023/04/Brown-Simple-Special-Promotion-Korean-Menu-Facebook-Post.jpg
END:VEVENT
BEGIN:VEVENT
DTSTART;TZID=Pacific/Honolulu:20260402T123000
DTEND;TZID=Pacific/Honolulu:20260402T140000
DTSTAMP:20260425T164732
CREATED:20260408T215254Z
LAST-MODIFIED:20260408T215254Z
UID:10690-1775133000-1775138400@mccjp.org
SUMMARY:ウクレレクラス 木曜
DESCRIPTION:毎週木曜日　12:30pm   毎週土曜日　10:00am \n会費は１ヶ月５ドル。ウクレレクラスは２０１２年にはじまりました。 \n「賛美歌」「聖歌」クリスチャンソング、「日本の童謡」唱歌を弾いたりして楽しんでいます。ご参加ください。
URL:https://mccjp.org/event/%e3%82%a6%e3%82%af%e3%83%ac%e3%83%ac%e3%82%af%e3%83%a9%e3%82%b9-%e6%9c%a8%e6%9b%9c-25/
LOCATION:MAKIKI CHRISTIAN CHURCH\, 829 Pensacola Street\, Honolulu\, 96814\, 米国
CATEGORIES:ウクレレクラス,ミニストリー
ATTACH;FMTTYPE=image/jpeg:https://mccjp.org/wp-content/uploads/2022/07/20220601_114023-2.jpg
END:VEVENT
BEGIN:VEVENT
DTSTART;TZID=Pacific/Honolulu:20260405T133000
DTEND;TZID=Pacific/Honolulu:20260405T150000
DTSTAMP:20260425T164732
CREATED:20260404T222305Z
LAST-MODIFIED:20260404T222305Z
UID:10656-1775395800-1775401200@mccjp.org
SUMMARY:韓国クラブ
DESCRIPTION:新しいクラス「韓国クラブ」が始まりました。皆で韓国語の学びや、韓国文化を楽しむ集まりです。どなたでも参加できますのでお友達をお誘いしてご参加ください。
URL:https://mccjp.org/event/%e9%9f%93%e5%9b%bd%e3%82%af%e3%83%a9%e3%83%96-76/
CATEGORIES:ミニストリー
ATTACH;FMTTYPE=image/jpeg:https://mccjp.org/wp-content/uploads/2023/04/Brown-Simple-Special-Promotion-Korean-Menu-Facebook-Post.jpg
END:VEVENT
BEGIN:VEVENT
DTSTART;TZID=Pacific/Honolulu:20260409T123000
DTEND;TZID=Pacific/Honolulu:20260409T140000
DTSTAMP:20260425T164732
CREATED:20260408T215413Z
LAST-MODIFIED:20260408T215413Z
UID:10692-1775737800-1775743200@mccjp.org
SUMMARY:ウクレレクラス 木曜
DESCRIPTION:毎週木曜日　12:30pm   毎週土曜日　10:00am \n会費は１ヶ月５ドル。ウクレレクラスは２０１２年にはじまりました。 \n「賛美歌」「聖歌」クリスチャンソング、「日本の童謡」唱歌を弾いたりして楽しんでいます。ご参加ください。
URL:https://mccjp.org/event/%e3%82%a6%e3%82%af%e3%83%ac%e3%83%ac%e3%82%af%e3%83%a9%e3%82%b9-%e6%9c%a8%e6%9b%9c-26/
LOCATION:MAKIKI CHRISTIAN CHURCH\, 829 Pensacola Street\, Honolulu\, 96814\, 米国
CATEGORIES:ウクレレクラス,ミニストリー
ATTACH;FMTTYPE=image/jpeg:https://mccjp.org/wp-content/uploads/2022/07/20220601_114023-2.jpg
END:VEVENT
BEGIN:VEVENT
DTSTART;TZID=Pacific/Honolulu:20260416T123000
DTEND;TZID=Pacific/Honolulu:20260416T140000
DTSTAMP:20260425T164732
CREATED:20260408T215539Z
LAST-MODIFIED:20260408T215539Z
UID:10694-1776342600-1776348000@mccjp.org
SUMMARY:ウクレレクラス 木曜
DESCRIPTION:毎週木曜日　12:30pm   毎週土曜日　10:00am \n会費は１ヶ月５ドル。ウクレレクラスは２０１２年にはじまりました。 \n「賛美歌」「聖歌」クリスチャンソング、「日本の童謡」唱歌を弾いたりして楽しんでいます。ご参加ください。
URL:https://mccjp.org/event/%e3%82%a6%e3%82%af%e3%83%ac%e3%83%ac%e3%82%af%e3%83%a9%e3%82%b9-%e6%9c%a8%e6%9b%9c-27/
LOCATION:MAKIKI CHRISTIAN CHURCH\, 829 Pensacola Street\, Honolulu\, 96814\, 米国
CATEGORIES:ウクレレクラス,ミニストリー
ATTACH;FMTTYPE=image/jpeg:https://mccjp.org/wp-content/uploads/2022/07/20220601_114023-2.jpg
END:VEVENT
BEGIN:VEVENT
DTSTART;TZID=Pacific/Honolulu:20260419T133000
DTEND;TZID=Pacific/Honolulu:20260419T150000
DTSTAMP:20260425T164732
CREATED:20260404T222351Z
LAST-MODIFIED:20260404T222351Z
UID:10658-1776605400-1776610800@mccjp.org
SUMMARY:韓国クラブ
DESCRIPTION:新しいクラス「韓国クラブ」が始まりました。皆で韓国語の学びや、韓国文化を楽しむ集まりです。どなたでも参加できますのでお友達をお誘いしてご参加ください。
URL:https://mccjp.org/event/%e9%9f%93%e5%9b%bd%e3%82%af%e3%83%a9%e3%83%96-77/
CATEGORIES:ミニストリー
ATTACH;FMTTYPE=image/jpeg:https://mccjp.org/wp-content/uploads/2023/04/Brown-Simple-Special-Promotion-Korean-Menu-Facebook-Post.jpg
END:VEVENT
BEGIN:VEVENT
DTSTART;TZID=Pacific/Honolulu:20260419T133000
DTEND;TZID=Pacific/Honolulu:20260419T163000
DTSTAMP:20260425T164732
CREATED:20260408T220658Z
LAST-MODIFIED:20260408T220658Z
UID:10710-1776605400-1776616200@mccjp.org
SUMMARY:ソフトボール
DESCRIPTION:マキキ・エクセルシア　試合\n毎月第３日曜日・１：３０集合・２時　試合開始　アラワイフィールドにて行われます。応援にぜひお越しください！ドネーションも受け付けてます。
URL:https://mccjp.org/event/%e3%82%bd%e3%83%95%e3%83%88%e3%83%9c%e3%83%bc%e3%83%ab-41/
LOCATION:Ala Wai Field
CATEGORIES:ソフトボール,ミニストリー
ATTACH;FMTTYPE=image/jpeg:https://mccjp.org/wp-content/uploads/2022/09/名称未設定のデザイン-11-2.jpg
END:VEVENT
BEGIN:VEVENT
DTSTART;TZID=Pacific/Honolulu:20260423T123000
DTEND;TZID=Pacific/Honolulu:20260423T140000
DTSTAMP:20260425T164732
CREATED:20260408T215651Z
LAST-MODIFIED:20260408T215651Z
UID:10696-1776947400-1776952800@mccjp.org
SUMMARY:ウクレレクラス 木曜
DESCRIPTION:毎週木曜日　12:30pm   毎週土曜日　10:00am \n会費は１ヶ月５ドル。ウクレレクラスは２０１２年にはじまりました。 \n「賛美歌」「聖歌」クリスチャンソング、「日本の童謡」唱歌を弾いたりして楽しんでいます。ご参加ください。
URL:https://mccjp.org/event/%e3%82%a6%e3%82%af%e3%83%ac%e3%83%ac%e3%82%af%e3%83%a9%e3%82%b9-%e6%9c%a8%e6%9b%9c-28/
LOCATION:MAKIKI CHRISTIAN CHURCH\, 829 Pensacola Street\, Honolulu\, 96814\, 米国
CATEGORIES:ウクレレクラス,ミニストリー
ATTACH;FMTTYPE=image/jpeg:https://mccjp.org/wp-content/uploads/2022/07/20220601_114023-2.jpg
END:VEVENT
END:VCALENDAR