BEGIN:VCALENDAR
VERSION:2.0
PRODID:-//マキキ日本語教会 - ECPv6.15.20//NONSGML v1.0//EN
CALSCALE:GREGORIAN
METHOD:PUBLISH
X-WR-CALNAME:マキキ日本語教会
X-ORIGINAL-URL:https://mccjp.org
X-WR-CALDESC:マキキ日本語教会 のイベント
REFRESH-INTERVAL;VALUE=DURATION:PT1H
X-Robots-Tag:noindex
X-PUBLISHED-TTL:PT1H
BEGIN:VTIMEZONE
TZID:Pacific/Honolulu
BEGIN:STANDARD
TZOFFSETFROM:-1000
TZOFFSETTO:-1000
TZNAME:HST
DTSTART:20210101T000000
END:STANDARD
END:VTIMEZONE
BEGIN:VEVENT
DTSTART;TZID=Pacific/Honolulu:20240317T133000
DTEND;TZID=Pacific/Honolulu:20240317T153000
DTSTAMP:20260425T160025
CREATED:20240229T005929Z
LAST-MODIFIED:20240229T005929Z
UID:7215-1710682200-1710689400@mccjp.org
SUMMARY:心のリラックスルーム　
DESCRIPTION:日時：毎月第1、第3日曜日：1：30ー3：30\n場所：オフィス横のパーラー\n内容：家庭での問題、子育ての心配、人間関係のトラブルなど、心がお疲れではありませんか？一緒にリラックスする為の時間を過ごしましょう。\n心理のプロがファシリテーターしていますので、安心してお話し下さい。\n個人・グループでお話し伺います。\nお問合せは日本語オフィスまで。
URL:https://mccjp.org/event/%e5%bf%83%e3%81%ae%e3%83%aa%e3%83%a9%e3%83%83%e3%82%af%e3%82%b9%e3%83%ab%e3%83%bc%e3%83%a0%e3%80%80-12/
LOCATION:MAKIKI CHRISTIAN CHURCH\, 829 Pensacola Street\, Honolulu\, 96814\, 米国
CATEGORIES:ミニストリー
ATTACH;FMTTYPE=image/jpeg:https://mccjp.org/wp-content/uploads/2022/08/心のリラックスルーム.jpg
END:VEVENT
BEGIN:VEVENT
DTSTART;TZID=Pacific/Honolulu:20240303T133000
DTEND;TZID=Pacific/Honolulu:20240303T153000
DTSTAMP:20260425T160025
CREATED:20240229T005854Z
LAST-MODIFIED:20240229T005854Z
UID:7213-1709472600-1709479800@mccjp.org
SUMMARY:心のリラックスルーム　
DESCRIPTION:日時：毎月第1、第3日曜日：1：30ー3：30\n場所：オフィス横のパーラー\n内容：家庭での問題、子育ての心配、人間関係のトラブルなど、心がお疲れではありませんか？一緒にリラックスする為の時間を過ごしましょう。\n心理のプロがファシリテーターしていますので、安心してお話し下さい。\n個人・グループでお話し伺います。\nお問合せは日本語オフィスまで。
URL:https://mccjp.org/event/%e5%bf%83%e3%81%ae%e3%83%aa%e3%83%a9%e3%83%83%e3%82%af%e3%82%b9%e3%83%ab%e3%83%bc%e3%83%a0%e3%80%80-11/
LOCATION:MAKIKI CHRISTIAN CHURCH\, 829 Pensacola Street\, Honolulu\, 96814\, 米国
CATEGORIES:ミニストリー
ATTACH;FMTTYPE=image/jpeg:https://mccjp.org/wp-content/uploads/2022/08/心のリラックスルーム.jpg
END:VEVENT
BEGIN:VEVENT
DTSTART;TZID=Pacific/Honolulu:20240218T133000
DTEND;TZID=Pacific/Honolulu:20240218T153000
DTSTAMP:20260425T160025
CREATED:20240201T235618Z
LAST-MODIFIED:20240201T235618Z
UID:7000-1708263000-1708270200@mccjp.org
SUMMARY:心のリラックスルーム　
DESCRIPTION:日時：毎月第1、第3日曜日：1：30ー3：30\n場所：オフィス横のパーラー\n内容：家庭での問題、子育ての心配、人間関係のトラブルなど、心がお疲れではありませんか？一緒にリラックスする為の時間を過ごしましょう。\n心理のプロがファシリテーターしていますので、安心してお話し下さい。\n個人・グループでお話し伺います。\nお問合せは日本語オフィスまで。
URL:https://mccjp.org/event/%e5%bf%83%e3%81%ae%e3%83%aa%e3%83%a9%e3%83%83%e3%82%af%e3%82%b9%e3%83%ab%e3%83%bc%e3%83%a0%e3%80%80-10/
LOCATION:MAKIKI CHRISTIAN CHURCH\, 829 Pensacola Street\, Honolulu\, 96814\, 米国
CATEGORIES:ミニストリー
ATTACH;FMTTYPE=image/jpeg:https://mccjp.org/wp-content/uploads/2022/08/心のリラックスルーム.jpg
END:VEVENT
BEGIN:VEVENT
DTSTART;TZID=Pacific/Honolulu:20240204T133000
DTEND;TZID=Pacific/Honolulu:20240204T153000
DTSTAMP:20260425T160025
CREATED:20240201T235546Z
LAST-MODIFIED:20240201T235546Z
UID:6998-1707053400-1707060600@mccjp.org
SUMMARY:心のリラックスルーム　
DESCRIPTION:日時：毎月第1、第3日曜日：1：30ー3：30\n場所：オフィス横のパーラー\n内容：家庭での問題、子育ての心配、人間関係のトラブルなど、心がお疲れではありませんか？一緒にリラックスする為の時間を過ごしましょう。\n心理のプロがファシリテーターしていますので、安心してお話し下さい。\n個人・グループでお話し伺います。\nお問合せは日本語オフィスまで。
URL:https://mccjp.org/event/%e5%bf%83%e3%81%ae%e3%83%aa%e3%83%a9%e3%83%83%e3%82%af%e3%82%b9%e3%83%ab%e3%83%bc%e3%83%a0%e3%80%80-9/
LOCATION:MAKIKI CHRISTIAN CHURCH\, 829 Pensacola Street\, Honolulu\, 96814\, 米国
CATEGORIES:ミニストリー
ATTACH;FMTTYPE=image/jpeg:https://mccjp.org/wp-content/uploads/2022/08/心のリラックスルーム.jpg
END:VEVENT
BEGIN:VEVENT
DTSTART;TZID=Pacific/Honolulu:20240121T133000
DTEND;TZID=Pacific/Honolulu:20240121T153000
DTSTAMP:20260425T160025
CREATED:20240109T213519Z
LAST-MODIFIED:20240109T213519Z
UID:6953-1705843800-1705851000@mccjp.org
SUMMARY:心のリラックスルーム　
DESCRIPTION:日時：毎月第1、第3日曜日：1：30ー3：30\n場所：オフィス横のパーラー\n内容：家庭での問題、子育ての心配、人間関係のトラブルなど、心がお疲れではありませんか？一緒にリラックスする為の時間を過ごしましょう。\n心理のプロがファシリテーターしていますので、安心してお話し下さい。\n個人・グループでお話し伺います。\nお問合せは日本語オフィスまで。
URL:https://mccjp.org/event/%e5%bf%83%e3%81%ae%e3%83%aa%e3%83%a9%e3%83%83%e3%82%af%e3%82%b9%e3%83%ab%e3%83%bc%e3%83%a0%e3%80%80-8/
LOCATION:MAKIKI CHRISTIAN CHURCH\, 829 Pensacola Street\, Honolulu\, 96814\, 米国
CATEGORIES:ミニストリー
ATTACH;FMTTYPE=image/jpeg:https://mccjp.org/wp-content/uploads/2022/08/心のリラックスルーム.jpg
END:VEVENT
BEGIN:VEVENT
DTSTART;TZID=Pacific/Honolulu:20231119T133000
DTEND;TZID=Pacific/Honolulu:20231119T153000
DTSTAMP:20260425T160025
CREATED:20231109T194616Z
LAST-MODIFIED:20231109T194616Z
UID:6621-1700400600-1700407800@mccjp.org
SUMMARY:心のリラックスルーム　
DESCRIPTION:日時：毎月第1、第3日曜日：1：30ー3：30\n場所：オフィス横のパーラー\n内容：家庭での問題、子育ての心配、人間関係のトラブルなど、心がお疲れではありませんか？一緒にリラックスする為の時間を過ごしましょう。\n心理のプロがファシリテーターしていますので、安心してお話し下さい。\n個人・グループでお話し伺います。\nお問合せは日本語オフィスまで。
URL:https://mccjp.org/event/%e5%bf%83%e3%81%ae%e3%83%aa%e3%83%a9%e3%83%83%e3%82%af%e3%82%b9%e3%83%ab%e3%83%bc%e3%83%a0%e3%80%80-7/
LOCATION:MAKIKI CHRISTIAN CHURCH\, 829 Pensacola Street\, Honolulu\, 96814\, 米国
CATEGORIES:ミニストリー
ATTACH;FMTTYPE=image/jpeg:https://mccjp.org/wp-content/uploads/2022/08/心のリラックスルーム.jpg
END:VEVENT
BEGIN:VEVENT
DTSTART;TZID=Pacific/Honolulu:20231105T133000
DTEND;TZID=Pacific/Honolulu:20231105T153000
DTSTAMP:20260425T160025
CREATED:20231105T231306Z
LAST-MODIFIED:20231105T231306Z
UID:6593-1699191000-1699198200@mccjp.org
SUMMARY:心のリラックスルーム　
DESCRIPTION:日時：毎月第1、第3日曜日：1：30ー3：30\n場所：オフィス横のパーラー\n内容：家庭での問題、子育ての心配、人間関係のトラブルなど、心がお疲れではありませんか？一緒にリラックスする為の時間を過ごしましょう。\n心理のプロがファシリテーターしていますので、安心してお話し下さい。\n個人・グループでお話し伺います。\nお問合せは日本語オフィスまで。
URL:https://mccjp.org/event/%e5%bf%83%e3%81%ae%e3%83%aa%e3%83%a9%e3%83%83%e3%82%af%e3%82%b9%e3%83%ab%e3%83%bc%e3%83%a0%e3%80%80-6/
LOCATION:MAKIKI CHRISTIAN CHURCH\, 829 Pensacola Street\, Honolulu\, 96814\, 米国
CATEGORIES:ミニストリー
ATTACH;FMTTYPE=image/jpeg:https://mccjp.org/wp-content/uploads/2022/08/心のリラックスルーム.jpg
END:VEVENT
BEGIN:VEVENT
DTSTART;TZID=Pacific/Honolulu:20231015T133000
DTEND;TZID=Pacific/Honolulu:20231015T153000
DTSTAMP:20260425T160025
CREATED:20230927T010404Z
LAST-MODIFIED:20230927T010404Z
UID:6480-1697376600-1697383800@mccjp.org
SUMMARY:心のリラックスルーム　
DESCRIPTION:日時：毎月第1、第3日曜日：1：30ー3：30\n場所：オフィス横のパーラー\n内容：家庭での問題、子育ての心配、人間関係のトラブルなど、心がお疲れではありませんか？一緒にリラックスする為の時間を過ごしましょう。\n心理のプロがファシリテーターしていますので、安心してお話し下さい。\n個人・グループでお話し伺います。\nお問合せは日本語オフィスまで。
URL:https://mccjp.org/event/%e5%bf%83%e3%81%ae%e3%83%aa%e3%83%a9%e3%83%83%e3%82%af%e3%82%b9%e3%83%ab%e3%83%bc%e3%83%a0%e3%80%80-5/
LOCATION:MAKIKI CHRISTIAN CHURCH\, 829 Pensacola Street\, Honolulu\, 96814\, 米国
CATEGORIES:ミニストリー
ATTACH;FMTTYPE=image/jpeg:https://mccjp.org/wp-content/uploads/2022/08/心のリラックスルーム.jpg
END:VEVENT
BEGIN:VEVENT
DTSTART;TZID=Pacific/Honolulu:20231001T133000
DTEND;TZID=Pacific/Honolulu:20231001T153000
DTSTAMP:20260425T160025
CREATED:20230927T010322Z
LAST-MODIFIED:20230927T010322Z
UID:6478-1696167000-1696174200@mccjp.org
SUMMARY:心のリラックスルーム　
DESCRIPTION:日時：毎月第1、第3日曜日：1：30ー3：30　（9月は第一のみ）\n場所：オフィス横のパーラー\n内容：家庭での問題、子育ての心配、人間関係のトラブルなど、心がお疲れではありませんか？一緒にリラックスする為の時間を過ごしましょう。\n心理のプロがファシリテーターしていますので、安心してお話し下さい。\n個人・グループでお話し伺います。\nお問合せは日本語オフィスまで。
URL:https://mccjp.org/event/%e5%bf%83%e3%81%ae%e3%83%aa%e3%83%a9%e3%83%83%e3%82%af%e3%82%b9%e3%83%ab%e3%83%bc%e3%83%a0%e3%80%80-4/
LOCATION:MAKIKI CHRISTIAN CHURCH\, 829 Pensacola Street\, Honolulu\, 96814\, 米国
CATEGORIES:ミニストリー
ATTACH;FMTTYPE=image/jpeg:https://mccjp.org/wp-content/uploads/2022/08/心のリラックスルーム.jpg
END:VEVENT
BEGIN:VEVENT
DTSTART;TZID=Pacific/Honolulu:20230903T133000
DTEND;TZID=Pacific/Honolulu:20230903T153000
DTSTAMP:20260425T160025
CREATED:20230902T221024Z
LAST-MODIFIED:20230902T221024Z
UID:6323-1693747800-1693755000@mccjp.org
SUMMARY:心のリラックスルーム　
DESCRIPTION:日時：毎月第1、第3日曜日：1：30ー3：30　（9月は第一のみ）\n場所：オフィス横のパーラー\n内容：家庭での問題、子育ての心配、人間関係のトラブルなど、心がお疲れではありませんか？一緒にリラックスする為の時間を過ごしましょう。\n心理のプロがファシリテーターしていますので、安心してお話し下さい。\n個人・グループでお話し伺います。\nお問合せは日本語オフィスまで。
URL:https://mccjp.org/event/%e5%bf%83%e3%81%ae%e3%83%aa%e3%83%a9%e3%83%83%e3%82%af%e3%82%b9%e3%83%ab%e3%83%bc%e3%83%a0%e3%80%80-3/
LOCATION:MAKIKI CHRISTIAN CHURCH\, 829 Pensacola Street\, Honolulu\, 96814\, 米国
CATEGORIES:ミニストリー
ATTACH;FMTTYPE=image/jpeg:https://mccjp.org/wp-content/uploads/2022/08/心のリラックスルーム.jpg
END:VEVENT
BEGIN:VEVENT
DTSTART;TZID=Pacific/Honolulu:20230820T133000
DTEND;TZID=Pacific/Honolulu:20230820T153000
DTSTAMP:20260425T160025
CREATED:20230725T224159Z
LAST-MODIFIED:20230725T224159Z
UID:6219-1692538200-1692545400@mccjp.org
SUMMARY:心のリラックスルーム　
DESCRIPTION:日時：毎月第1、第3日曜日：1：30ー3：30\n場所：オフィス横のパーラー\n内容：家庭での問題、子育ての心配、人間関係のトラブルなど、心がお疲れではありませんか？一緒にリラックスする為の時間を過ごしましょう。\n心理のプロがファシリテーターしていますので、安心してお話し下さい。\n個人・グループでお話し伺います。\nお問合せは日本語オフィスまで。
URL:https://mccjp.org/event/%e5%bf%83%e3%81%ae%e3%83%aa%e3%83%a9%e3%83%83%e3%82%af%e3%82%b9%e3%83%ab%e3%83%bc%e3%83%a0%e3%80%80-2/
LOCATION:MAKIKI CHRISTIAN CHURCH\, 829 Pensacola Street\, Honolulu\, 96814\, 米国
CATEGORIES:ミニストリー
ATTACH;FMTTYPE=image/jpeg:https://mccjp.org/wp-content/uploads/2022/08/心のリラックスルーム.jpg
END:VEVENT
BEGIN:VEVENT
DTSTART;TZID=Pacific/Honolulu:20230806T133000
DTEND;TZID=Pacific/Honolulu:20230806T153000
DTSTAMP:20260425T160025
CREATED:20230725T223112Z
LAST-MODIFIED:20230725T223112Z
UID:6217-1691328600-1691335800@mccjp.org
SUMMARY:心のリラックスルーム　
DESCRIPTION:日時：毎月第1、第3日曜日：1：30ー3：30\n場所：オフィス横のパーラー\n内容：家庭での問題、子育ての心配、人間関係のトラブルなど、心がお疲れではありませんか？一緒にリラックスする為の時間を過ごしましょう。\n心理のプロがファシリテーターしていますので、安心してお話し下さい。\n個人・グループでお話し伺います。\nお問合せは日本語オフィスまで。
URL:https://mccjp.org/event/%e5%bf%83%e3%81%ae%e3%83%aa%e3%83%a9%e3%83%83%e3%82%af%e3%82%b9%e3%83%ab%e3%83%bc%e3%83%a0%e3%80%80/
LOCATION:MAKIKI CHRISTIAN CHURCH\, 829 Pensacola Street\, Honolulu\, 96814\, 米国
CATEGORIES:ミニストリー
ATTACH;FMTTYPE=image/jpeg:https://mccjp.org/wp-content/uploads/2022/08/心のリラックスルーム.jpg
END:VEVENT
BEGIN:VEVENT
DTSTART;TZID=Pacific/Honolulu:20230702T133000
DTEND;TZID=Pacific/Honolulu:20230702T153000
DTSTAMP:20260425T160025
CREATED:20230623T200032Z
LAST-MODIFIED:20230623T200032Z
UID:6074-1688304600-1688311800@mccjp.org
SUMMARY:心のリラックスルーム　7月はお休み
DESCRIPTION:7月はお休み\n日時：毎月第1、第3日曜日：1：30ー3：30\n場所：オフィス横のパーラー\n内容：家庭での問題、子育ての心配、人間関係のトラブルなど、心がお疲れではありませんか？一緒にリラックスする為の時間を過ごしましょう。\n心理のプロがファシリテーターしていますので、安心してお話し下さい。\n個人・グループでお話し伺います。\nお問合せは日本語オフィスまで。
URL:https://mccjp.org/event/%e5%bf%83%e3%81%ae%e3%83%aa%e3%83%a9%e3%83%83%e3%82%af%e3%82%b9%e3%83%ab%e3%83%bc%e3%83%a0%e3%80%807%e6%9c%88%e3%81%af%e3%81%8a%e4%bc%91%e3%81%bf/
LOCATION:MAKIKI CHRISTIAN CHURCH\, 829 Pensacola Street\, Honolulu\, 96814\, 米国
CATEGORIES:ミニストリー
ATTACH;FMTTYPE=image/jpeg:https://mccjp.org/wp-content/uploads/2022/08/心のリラックスルーム.jpg
END:VEVENT
BEGIN:VEVENT
DTSTART;TZID=Pacific/Honolulu:20230618T133000
DTEND;TZID=Pacific/Honolulu:20230618T153000
DTSTAMP:20260425T160025
CREATED:20230519T195317Z
LAST-MODIFIED:20230519T195317Z
UID:5828-1687095000-1687102200@mccjp.org
SUMMARY:心のリラックスルーム
DESCRIPTION:日時：毎月第1、第3日曜日：1：30ー3：30\n場所：オフィス横のパーラー\n内容：家庭での問題、子育ての心配、人間関係のトラブルなど、心がお疲れではありませんか？一緒にリラックスする為の時間を過ごしましょう。\n心理のプロがファシリテーターしていますので、安心してお話し下さい。\n個人・グループでお話し伺います。\nお問合せは日本語オフィスまで。
URL:https://mccjp.org/event/%e5%bf%83%e3%81%ae%e3%83%aa%e3%83%a9%e3%83%83%e3%82%af%e3%82%b9%e3%83%ab%e3%83%bc%e3%83%a0-18/
LOCATION:MAKIKI CHRISTIAN CHURCH\, 829 Pensacola Street\, Honolulu\, 96814\, 米国
CATEGORIES:ミニストリー
ATTACH;FMTTYPE=image/jpeg:https://mccjp.org/wp-content/uploads/2022/08/心のリラックスルーム.jpg
END:VEVENT
BEGIN:VEVENT
DTSTART;TZID=Pacific/Honolulu:20230507T133000
DTEND;TZID=Pacific/Honolulu:20230507T153000
DTSTAMP:20260425T160025
CREATED:20230429T002925Z
LAST-MODIFIED:20230429T002925Z
UID:5704-1683466200-1683473400@mccjp.org
SUMMARY:心のリラックスルーム
DESCRIPTION:日時：毎月第1、第3日曜日：1：30ー3：30\n場所：オフィス横のパーラー\n内容：家庭での問題、子育ての心配、人間関係のトラブルなど、心がお疲れではありませんか？一緒にリラックスする為の時間を過ごしましょう。\n心理のプロがファシリテーターしていますので、安心してお話し下さい。\n個人・グループでお話し伺います。\nお問合せは日本語オフィスまで。
URL:https://mccjp.org/event/%e5%bf%83%e3%81%ae%e3%83%aa%e3%83%a9%e3%83%83%e3%82%af%e3%82%b9%e3%83%ab%e3%83%bc%e3%83%a0-17/
LOCATION:MAKIKI CHRISTIAN CHURCH\, 829 Pensacola Street\, Honolulu\, 96814\, 米国
CATEGORIES:ミニストリー
ATTACH;FMTTYPE=image/jpeg:https://mccjp.org/wp-content/uploads/2022/08/心のリラックスルーム.jpg
END:VEVENT
BEGIN:VEVENT
DTSTART;TZID=Pacific/Honolulu:20230416T133000
DTEND;TZID=Pacific/Honolulu:20230416T153000
DTSTAMP:20260425T160025
CREATED:20230324T234342Z
LAST-MODIFIED:20230324T234342Z
UID:5477-1681651800-1681659000@mccjp.org
SUMMARY:心のリラックスルーム
DESCRIPTION:日時：毎月第1、第3日曜日：1：30ー3：30\n場所：オフィス横のパーラー\n内容：家庭での問題、子育ての心配、人間関係のトラブルなど、心がお疲れではありませんか？一緒にリラックスする為の時間を過ごしましょう。\n心理のプロがファシリテーターしていますので、安心してお話し下さい。\n個人・グループでお話し伺います。\nお問合せは日本語オフィスまで。
URL:https://mccjp.org/event/%e5%bf%83%e3%81%ae%e3%83%aa%e3%83%a9%e3%83%83%e3%82%af%e3%82%b9%e3%83%ab%e3%83%bc%e3%83%a0-16/
LOCATION:MAKIKI CHRISTIAN CHURCH\, 829 Pensacola Street\, Honolulu\, 96814\, 米国
CATEGORIES:ミニストリー
ATTACH;FMTTYPE=image/jpeg:https://mccjp.org/wp-content/uploads/2022/08/心のリラックスルーム.jpg
END:VEVENT
BEGIN:VEVENT
DTSTART;TZID=Pacific/Honolulu:20230402T133000
DTEND;TZID=Pacific/Honolulu:20230402T153000
DTSTAMP:20260425T160025
CREATED:20230324T234244Z
LAST-MODIFIED:20230324T234244Z
UID:5475-1680442200-1680449400@mccjp.org
SUMMARY:心のリラックスルーム
DESCRIPTION:日時：毎月第1、第3日曜日：1：30ー3：30\n場所：オフィス横のパーラー\n内容：家庭での問題、子育ての心配、人間関係のトラブルなど、心がお疲れではありませんか？一緒にリラックスする為の時間を過ごしましょう。\n心理のプロがファシリテーターしていますので、安心してお話し下さい。\n個人・グループでお話し伺います。\nお問合せは日本語オフィスまで。
URL:https://mccjp.org/event/%e5%bf%83%e3%81%ae%e3%83%aa%e3%83%a9%e3%83%83%e3%82%af%e3%82%b9%e3%83%ab%e3%83%bc%e3%83%a0-15/
LOCATION:MAKIKI CHRISTIAN CHURCH\, 829 Pensacola Street\, Honolulu\, 96814\, 米国
CATEGORIES:ミニストリー
ATTACH;FMTTYPE=image/jpeg:https://mccjp.org/wp-content/uploads/2022/08/心のリラックスルーム.jpg
END:VEVENT
BEGIN:VEVENT
DTSTART;TZID=Pacific/Honolulu:20230319T133000
DTEND;TZID=Pacific/Honolulu:20230319T153000
DTSTAMP:20260425T160025
CREATED:20230225T212413Z
LAST-MODIFIED:20230225T212413Z
UID:5348-1679232600-1679239800@mccjp.org
SUMMARY:心のリラックスルーム
DESCRIPTION:日時：毎月第1、第3日曜日：1：30ー3：30\n場所：オフィス横のパーラー\n内容：家庭での問題、子育ての心配、人間関係のトラブルなど、心がお疲れではありませんか？一緒にリラックスする為の時間を過ごしましょう。\n心理のプロがファシリテーターしていますので、安心してお話し下さい。\n個人・グループでお話し伺います。\nお問合せは日本語オフィスまで。
URL:https://mccjp.org/event/%e5%bf%83%e3%81%ae%e3%83%aa%e3%83%a9%e3%83%83%e3%82%af%e3%82%b9%e3%83%ab%e3%83%bc%e3%83%a0-14/
LOCATION:MAKIKI CHRISTIAN CHURCH\, 829 Pensacola Street\, Honolulu\, 96814\, 米国
CATEGORIES:ミニストリー
ATTACH;FMTTYPE=image/jpeg:https://mccjp.org/wp-content/uploads/2022/08/心のリラックスルーム.jpg
END:VEVENT
BEGIN:VEVENT
DTSTART;TZID=Pacific/Honolulu:20230305T133000
DTEND;TZID=Pacific/Honolulu:20230305T153000
DTSTAMP:20260425T160025
CREATED:20230225T212322Z
LAST-MODIFIED:20230225T212322Z
UID:5346-1678023000-1678030200@mccjp.org
SUMMARY:心のリラックスルーム
DESCRIPTION:日時：毎月第1、第3日曜日：1：30ー3：30\n場所：オフィス横のパーラー\n内容：家庭での問題、子育ての心配、人間関係のトラブルなど、心がお疲れではありませんか？一緒にリラックスする為の時間を過ごしましょう。\n心理のプロがファシリテーターしていますので、安心してお話し下さい。\n個人・グループでお話し伺います。\nお問合せは日本語オフィスまで。
URL:https://mccjp.org/event/%e5%bf%83%e3%81%ae%e3%83%aa%e3%83%a9%e3%83%83%e3%82%af%e3%82%b9%e3%83%ab%e3%83%bc%e3%83%a0-13/
LOCATION:MAKIKI CHRISTIAN CHURCH\, 829 Pensacola Street\, Honolulu\, 96814\, 米国
CATEGORIES:ミニストリー
ATTACH;FMTTYPE=image/jpeg:https://mccjp.org/wp-content/uploads/2022/08/心のリラックスルーム.jpg
END:VEVENT
BEGIN:VEVENT
DTSTART;TZID=Pacific/Honolulu:20230219T133000
DTEND;TZID=Pacific/Honolulu:20230219T153000
DTSTAMP:20260425T160025
CREATED:20230204T001821Z
LAST-MODIFIED:20230204T001821Z
UID:5180-1676813400-1676820600@mccjp.org
SUMMARY:心のリラックスルーム
DESCRIPTION:日時：毎月第1、第3日曜日：1：30ー3：30\n場所：オフィス横のパーラー\n内容：家庭での問題、子育ての心配、人間関係のトラブルなど、心がお疲れではありませんか？一緒にリラックスする為の時間を過ごしましょう。\n心理のプロがファシリテーターしていますので、安心してお話し下さい。\n個人・グループでお話し伺います。\nお問合せは日本語オフィスまで。
URL:https://mccjp.org/event/%e5%bf%83%e3%81%ae%e3%83%aa%e3%83%a9%e3%83%83%e3%82%af%e3%82%b9%e3%83%ab%e3%83%bc%e3%83%a0-12/
LOCATION:MAKIKI CHRISTIAN CHURCH\, 829 Pensacola Street\, Honolulu\, 96814\, 米国
CATEGORIES:ミニストリー
ATTACH;FMTTYPE=image/jpeg:https://mccjp.org/wp-content/uploads/2022/08/心のリラックスルーム.jpg
END:VEVENT
BEGIN:VEVENT
DTSTART;TZID=Pacific/Honolulu:20230205T133000
DTEND;TZID=Pacific/Honolulu:20230205T153000
DTSTAMP:20260425T160025
CREATED:20230204T001753Z
LAST-MODIFIED:20230204T001753Z
UID:5178-1675603800-1675611000@mccjp.org
SUMMARY:心のリラックスルーム
DESCRIPTION:日時：毎月第1、第3日曜日：1：30ー3：30\n場所：オフィス横のパーラー\n内容：家庭での問題、子育ての心配、人間関係のトラブルなど、心がお疲れではありませんか？一緒にリラックスする為の時間を過ごしましょう。\n心理のプロがファシリテーターしていますので、安心してお話し下さい。\n個人・グループでお話し伺います。\nお問合せは日本語オフィスまで。
URL:https://mccjp.org/event/%e5%bf%83%e3%81%ae%e3%83%aa%e3%83%a9%e3%83%83%e3%82%af%e3%82%b9%e3%83%ab%e3%83%bc%e3%83%a0-11/
LOCATION:MAKIKI CHRISTIAN CHURCH\, 829 Pensacola Street\, Honolulu\, 96814\, 米国
CATEGORIES:ミニストリー
ATTACH;FMTTYPE=image/jpeg:https://mccjp.org/wp-content/uploads/2022/08/心のリラックスルーム.jpg
END:VEVENT
BEGIN:VEVENT
DTSTART;TZID=Pacific/Honolulu:20230126T100000
DTEND;TZID=Pacific/Honolulu:20230126T110000
DTSTAMP:20260425T160025
CREATED:20221213T211249Z
LAST-MODIFIED:20221213T211249Z
UID:2802-1674727200-1674730800@mccjp.org
SUMMARY:楽しく学べる聖書クラス　
DESCRIPTION:毎週木曜日（第一木曜休み）　午前10時〜11時　現在Zoomにて\n毎日の生活の中での疑問や問題は聖書的にどうやって解決するの？聖書には何と書かれているの？など、日常の中にある疑問を牧師先生を交えて話し合うクラスです。聖書初心者やノンクリスチャンの方も大歓迎です。
URL:https://mccjp.org/event/%e6%a5%bd%e3%81%97%e3%81%8f%e5%ad%a6%e3%81%b9%e3%82%8b%e8%81%96%e6%9b%b8%e3%82%af%e3%83%a9%e3%82%b9%e3%80%80-3/
CATEGORIES:ミニストリー,木曜楽しく学べる聖書クラス
ATTACH;FMTTYPE=image/jpeg:https://mccjp.org/wp-content/uploads/2022/09/Design-1.jpg
END:VEVENT
BEGIN:VEVENT
DTSTART;TZID=Pacific/Honolulu:20230119T100000
DTEND;TZID=Pacific/Honolulu:20230119T110000
DTSTAMP:20260425T160025
CREATED:20221213T211215Z
LAST-MODIFIED:20221213T211215Z
UID:2800-1674122400-1674126000@mccjp.org
SUMMARY:楽しく学べる聖書クラス　
DESCRIPTION:毎週木曜日（第一木曜休み）　午前10時〜11時　現在Zoomにて\n毎日の生活の中での疑問や問題は聖書的にどうやって解決するの？聖書には何と書かれているの？など、日常の中にある疑問を牧師先生を交えて話し合うクラスです。聖書初心者やノンクリスチャンの方も大歓迎です。
URL:https://mccjp.org/event/%e6%a5%bd%e3%81%97%e3%81%8f%e5%ad%a6%e3%81%b9%e3%82%8b%e8%81%96%e6%9b%b8%e3%82%af%e3%83%a9%e3%82%b9%e3%80%80-2/
CATEGORIES:ミニストリー,木曜楽しく学べる聖書クラス
ATTACH;FMTTYPE=image/jpeg:https://mccjp.org/wp-content/uploads/2022/09/Design-1.jpg
END:VEVENT
BEGIN:VEVENT
DTSTART;TZID=Pacific/Honolulu:20230115T133000
DTEND;TZID=Pacific/Honolulu:20230115T153000
DTSTAMP:20260425T160025
CREATED:20221213T212216Z
LAST-MODIFIED:20221213T212216Z
UID:2812-1673789400-1673796600@mccjp.org
SUMMARY:心のリラックスルーム
DESCRIPTION:日時：毎月第1、第3日曜日：1：30ー3：30\n場所：オフィス横のパーラー\n内容：家庭での問題、子育ての心配、人間関係のトラブルなど、心がお疲れではありませんか？一緒にリラックスする為の時間を過ごしましょう。\n心理のプロがファシリテーターしていますので、安心してお話し下さい。\n個人・グループでお話し伺います。\nお問合せは日本語オフィスまで。
URL:https://mccjp.org/event/%e5%bf%83%e3%81%ae%e3%83%aa%e3%83%a9%e3%83%83%e3%82%af%e3%82%b9%e3%83%ab%e3%83%bc%e3%83%a0-10/
LOCATION:MAKIKI CHRISTIAN CHURCH\, 829 Pensacola Street\, Honolulu\, 96814\, 米国
CATEGORIES:ミニストリー
ATTACH;FMTTYPE=image/jpeg:https://mccjp.org/wp-content/uploads/2022/08/心のリラックスルーム.jpg
END:VEVENT
BEGIN:VEVENT
DTSTART;TZID=Pacific/Honolulu:20230115T133000
DTEND;TZID=Pacific/Honolulu:20230115T153000
DTSTAMP:20260425T160025
CREATED:20221210T205051Z
LAST-MODIFIED:20221210T205051Z
UID:2775-1673789400-1673796600@mccjp.org
SUMMARY:心のリラックスルーム
DESCRIPTION:日時：毎月第1、第3日曜日：1：30ー3：30\n場所：オフィス横のパーラー\n内容：家庭での問題、子育ての心配、人間関係のトラブルなど、心がお疲れではありませんか？一緒にリラックスする為の時間を過ごしましょう。\n心理のプロがファシリテーターしていますので、安心してお話し下さい。\n個人・グループでお話し伺います。\nお問合せは日本語オフィスまで。
URL:https://mccjp.org/event/%e5%bf%83%e3%81%ae%e3%83%aa%e3%83%a9%e3%83%83%e3%82%af%e3%82%b9%e3%83%ab%e3%83%bc%e3%83%a0-9/
LOCATION:MAKIKI CHRISTIAN CHURCH\, 829 Pensacola Street\, Honolulu\, 96814\, 米国
CATEGORIES:ミニストリー
ATTACH;FMTTYPE=image/jpeg:https://mccjp.org/wp-content/uploads/2022/08/心のリラックスルーム.jpg
END:VEVENT
BEGIN:VEVENT
DTSTART;TZID=Pacific/Honolulu:20230112T100000
DTEND;TZID=Pacific/Honolulu:20230112T110000
DTSTAMP:20260425T160025
CREATED:20221213T211128Z
LAST-MODIFIED:20230106T012230Z
UID:2798-1673517600-1673521200@mccjp.org
SUMMARY:楽しく学べる聖書クラス　お休み
DESCRIPTION:毎週木曜日（第一木曜休み）　午前10時〜11時　現在Zoomにて\n毎日の生活の中での疑問や問題は聖書的にどうやって解決するの？聖書には何と書かれているの？など、日常の中にある疑問を牧師先生を交えて話し合うクラスです。聖書初心者やノンクリスチャンの方も大歓迎です。
URL:https://mccjp.org/event/%e6%a5%bd%e3%81%97%e3%81%8f%e5%ad%a6%e3%81%b9%e3%82%8b%e8%81%96%e6%9b%b8%e3%82%af%e3%83%a9%e3%82%b9%e3%80%80/
CATEGORIES:ミニストリー,木曜楽しく学べる聖書クラス
ATTACH;FMTTYPE=image/jpeg:https://mccjp.org/wp-content/uploads/2022/09/Design-1.jpg
END:VEVENT
BEGIN:VEVENT
DTSTART;TZID=Pacific/Honolulu:20221229T100000
DTEND;TZID=Pacific/Honolulu:20221229T110000
DTSTAMP:20260425T160025
CREATED:20221213T210949Z
LAST-MODIFIED:20221213T210949Z
UID:2796-1672308000-1672311600@mccjp.org
SUMMARY:楽しく学べる聖書クラス　 お休み
DESCRIPTION:12/15\,22\,29はお休みとなります。\n毎週木曜日（第一木曜休み）　午前10時〜11時　現在Zoomにて\n毎日の生活の中での疑問や問題は聖書的にどうやって解決するの？聖書には何と書かれているの？など、日常の中にある疑問を牧師先生を交えて話し合うクラスです。聖書初心者やノンクリスチャンの方も大歓迎です。
URL:https://mccjp.org/event/%e6%a5%bd%e3%81%97%e3%81%8f%e5%ad%a6%e3%81%b9%e3%82%8b%e8%81%96%e6%9b%b8%e3%82%af%e3%83%a9%e3%82%b9%e3%80%80-%e3%81%8a%e4%bc%91%e3%81%bf-3/
CATEGORIES:ミニストリー,木曜楽しく学べる聖書クラス
ATTACH;FMTTYPE=image/jpeg:https://mccjp.org/wp-content/uploads/2022/09/Design-1.jpg
END:VEVENT
BEGIN:VEVENT
DTSTART;TZID=Pacific/Honolulu:20221222T100000
DTEND;TZID=Pacific/Honolulu:20221222T110000
DTSTAMP:20260425T160025
CREATED:20221213T210852Z
LAST-MODIFIED:20221213T210852Z
UID:2794-1671703200-1671706800@mccjp.org
SUMMARY:楽しく学べる聖書クラス　 お休み
DESCRIPTION:12/15\,22\,29はお休みとなります。\n毎週木曜日（第一木曜休み）　午前10時〜11時　現在Zoomにて\n毎日の生活の中での疑問や問題は聖書的にどうやって解決するの？聖書には何と書かれているの？など、日常の中にある疑問を牧師先生を交えて話し合うクラスです。聖書初心者やノンクリスチャンの方も大歓迎です。
URL:https://mccjp.org/event/%e6%a5%bd%e3%81%97%e3%81%8f%e5%ad%a6%e3%81%b9%e3%82%8b%e8%81%96%e6%9b%b8%e3%82%af%e3%83%a9%e3%82%b9%e3%80%80-%e3%81%8a%e4%bc%91%e3%81%bf-2/
CATEGORIES:ミニストリー,木曜楽しく学べる聖書クラス
ATTACH;FMTTYPE=image/jpeg:https://mccjp.org/wp-content/uploads/2022/09/Design-1.jpg
END:VEVENT
BEGIN:VEVENT
DTSTART;TZID=Pacific/Honolulu:20221215T100000
DTEND;TZID=Pacific/Honolulu:20221215T110000
DTSTAMP:20260425T160025
CREATED:20221213T210513Z
LAST-MODIFIED:20221213T210513Z
UID:2789-1671098400-1671102000@mccjp.org
SUMMARY:楽しく学べる聖書クラス　 お休み
DESCRIPTION:12/15\,22\,29はお休みとなります。\n毎週木曜日（第一木曜休み）　午前10時〜11時　現在Zoomにて\n毎日の生活の中での疑問や問題は聖書的にどうやって解決するの？聖書には何と書かれているの？など、日常の中にある疑問を牧師先生を交えて話し合うクラスです。聖書初心者やノンクリスチャンの方も大歓迎です。
URL:https://mccjp.org/event/%e6%a5%bd%e3%81%97%e3%81%8f%e5%ad%a6%e3%81%b9%e3%82%8b%e8%81%96%e6%9b%b8%e3%82%af%e3%83%a9%e3%82%b9%e3%80%80-%e3%81%8a%e4%bc%91%e3%81%bf/
CATEGORIES:ミニストリー,木曜楽しく学べる聖書クラス
ATTACH;FMTTYPE=image/jpeg:https://mccjp.org/wp-content/uploads/2022/09/Design-1.jpg
END:VEVENT
BEGIN:VEVENT
DTSTART;TZID=Pacific/Honolulu:20221124T100000
DTEND;TZID=Pacific/Honolulu:20221124T110000
DTSTAMP:20260425T160025
CREATED:20221021T000925Z
LAST-MODIFIED:20221021T000925Z
UID:2490-1669284000-1669287600@mccjp.org
SUMMARY:楽しく学べる聖書クラス
DESCRIPTION:毎週木曜日（第一木曜休み）　午前10時〜11時　現在Zoomにて\n毎日の生活の中での疑問や問題は聖書的にどうやって解決するの？聖書には何と書かれているの？など、日常の中にある疑問を牧師先生を交えて話し合うクラスです。聖書初心者やノンクリスチャンの方も大歓迎です。
URL:https://mccjp.org/event/%e6%a5%bd%e3%81%97%e3%81%8f%e5%ad%a6%e3%81%b9%e3%82%8b%e8%81%96%e6%9b%b8%e3%82%af%e3%83%a9%e3%82%b9-11/
CATEGORIES:ミニストリー,木曜楽しく学べる聖書クラス
ATTACH;FMTTYPE=image/jpeg:https://mccjp.org/wp-content/uploads/2022/09/Design-1.jpg
END:VEVENT
END:VCALENDAR