BEGIN:VCALENDAR
VERSION:2.0
PRODID:-//マキキ日本語教会 - ECPv6.15.20//NONSGML v1.0//EN
CALSCALE:GREGORIAN
METHOD:PUBLISH
X-WR-CALNAME:マキキ日本語教会
X-ORIGINAL-URL:https://mccjp.org
X-WR-CALDESC:マキキ日本語教会 のイベント
REFRESH-INTERVAL;VALUE=DURATION:PT1H
X-Robots-Tag:noindex
X-PUBLISHED-TTL:PT1H
BEGIN:VTIMEZONE
TZID:Pacific/Honolulu
BEGIN:STANDARD
TZOFFSETFROM:-1000
TZOFFSETTO:-1000
TZNAME:HST
DTSTART:20240101T000000
END:STANDARD
END:VTIMEZONE
BEGIN:VEVENT
DTSTART;TZID=Pacific/Honolulu:20260426T133000
DTEND;TZID=Pacific/Honolulu:20260426T150000
DTSTAMP:20260425T164845
CREATED:20260404T222436Z
LAST-MODIFIED:20260404T222436Z
UID:10660-1777210200-1777215600@mccjp.org
SUMMARY:韓国クラブ
DESCRIPTION:新しいクラス「韓国クラブ」が始まりました。皆で韓国語の学びや、韓国文化を楽しむ集まりです。どなたでも参加できますのでお友達をお誘いしてご参加ください。
URL:https://mccjp.org/event/%e9%9f%93%e5%9b%bd%e3%82%af%e3%83%a9%e3%83%96-78/
CATEGORIES:ミニストリー
ATTACH;FMTTYPE=image/jpeg:https://mccjp.org/wp-content/uploads/2023/04/Brown-Simple-Special-Promotion-Korean-Menu-Facebook-Post.jpg
END:VEVENT
BEGIN:VEVENT
DTSTART;TZID=Pacific/Honolulu:20260419T133000
DTEND;TZID=Pacific/Honolulu:20260419T150000
DTSTAMP:20260425T164845
CREATED:20260404T222351Z
LAST-MODIFIED:20260404T222351Z
UID:10658-1776605400-1776610800@mccjp.org
SUMMARY:韓国クラブ
DESCRIPTION:新しいクラス「韓国クラブ」が始まりました。皆で韓国語の学びや、韓国文化を楽しむ集まりです。どなたでも参加できますのでお友達をお誘いしてご参加ください。
URL:https://mccjp.org/event/%e9%9f%93%e5%9b%bd%e3%82%af%e3%83%a9%e3%83%96-77/
CATEGORIES:ミニストリー
ATTACH;FMTTYPE=image/jpeg:https://mccjp.org/wp-content/uploads/2023/04/Brown-Simple-Special-Promotion-Korean-Menu-Facebook-Post.jpg
END:VEVENT
BEGIN:VEVENT
DTSTART;TZID=Pacific/Honolulu:20260405T133000
DTEND;TZID=Pacific/Honolulu:20260405T150000
DTSTAMP:20260425T164845
CREATED:20260404T222305Z
LAST-MODIFIED:20260404T222305Z
UID:10656-1775395800-1775401200@mccjp.org
SUMMARY:韓国クラブ
DESCRIPTION:新しいクラス「韓国クラブ」が始まりました。皆で韓国語の学びや、韓国文化を楽しむ集まりです。どなたでも参加できますのでお友達をお誘いしてご参加ください。
URL:https://mccjp.org/event/%e9%9f%93%e5%9b%bd%e3%82%af%e3%83%a9%e3%83%96-76/
CATEGORIES:ミニストリー
ATTACH;FMTTYPE=image/jpeg:https://mccjp.org/wp-content/uploads/2023/04/Brown-Simple-Special-Promotion-Korean-Menu-Facebook-Post.jpg
END:VEVENT
BEGIN:VEVENT
DTSTART;TZID=Pacific/Honolulu:20260329T133000
DTEND;TZID=Pacific/Honolulu:20260329T150000
DTSTAMP:20260425T164845
CREATED:20260306T215116Z
LAST-MODIFIED:20260306T215116Z
UID:10523-1774791000-1774796400@mccjp.org
SUMMARY:韓国クラブ
DESCRIPTION:新しいクラス「韓国クラブ」が始まりました。皆で韓国語の学びや、韓国文化を楽しむ集まりです。どなたでも参加できますのでお友達をお誘いしてご参加ください。
URL:https://mccjp.org/event/%e9%9f%93%e5%9b%bd%e3%82%af%e3%83%a9%e3%83%96-75/
CATEGORIES:ミニストリー
ATTACH;FMTTYPE=image/jpeg:https://mccjp.org/wp-content/uploads/2023/04/Brown-Simple-Special-Promotion-Korean-Menu-Facebook-Post.jpg
END:VEVENT
BEGIN:VEVENT
DTSTART;TZID=Pacific/Honolulu:20260322T133000
DTEND;TZID=Pacific/Honolulu:20260322T150000
DTSTAMP:20260425T164845
CREATED:20260305T005352Z
LAST-MODIFIED:20260305T005352Z
UID:10478-1774186200-1774191600@mccjp.org
SUMMARY:韓国クラブ
DESCRIPTION:新しいクラス「韓国クラブ」が始まりました。皆で韓国語の学びや、韓国文化を楽しむ集まりです。どなたでも参加できますのでお友達をお誘いしてご参加ください。
URL:https://mccjp.org/event/%e9%9f%93%e5%9b%bd%e3%82%af%e3%83%a9%e3%83%96-74/
CATEGORIES:ミニストリー
ATTACH;FMTTYPE=image/jpeg:https://mccjp.org/wp-content/uploads/2023/04/Brown-Simple-Special-Promotion-Korean-Menu-Facebook-Post.jpg
END:VEVENT
BEGIN:VEVENT
DTSTART;TZID=Pacific/Honolulu:20260315T133000
DTEND;TZID=Pacific/Honolulu:20260315T150000
DTSTAMP:20260425T164845
CREATED:20260305T005248Z
LAST-MODIFIED:20260305T005248Z
UID:10476-1773581400-1773586800@mccjp.org
SUMMARY:韓国クラブ
DESCRIPTION:新しいクラス「韓国クラブ」が始まりました。皆で韓国語の学びや、韓国文化を楽しむ集まりです。どなたでも参加できますのでお友達をお誘いしてご参加ください。
URL:https://mccjp.org/event/%e9%9f%93%e5%9b%bd%e3%82%af%e3%83%a9%e3%83%96-73/
CATEGORIES:ミニストリー
ATTACH;FMTTYPE=image/jpeg:https://mccjp.org/wp-content/uploads/2023/04/Brown-Simple-Special-Promotion-Korean-Menu-Facebook-Post.jpg
END:VEVENT
BEGIN:VEVENT
DTSTART;TZID=Pacific/Honolulu:20260301T133000
DTEND;TZID=Pacific/Honolulu:20260301T150000
DTSTAMP:20260425T164845
CREATED:20260305T005129Z
LAST-MODIFIED:20260305T005129Z
UID:10474-1772371800-1772377200@mccjp.org
SUMMARY:韓国クラブ
DESCRIPTION:新しいクラス「韓国クラブ」が始まりました。皆で韓国語の学びや、韓国文化を楽しむ集まりです。どなたでも参加できますのでお友達をお誘いしてご参加ください。
URL:https://mccjp.org/event/%e9%9f%93%e5%9b%bd%e3%82%af%e3%83%a9%e3%83%96-72/
CATEGORIES:ミニストリー
ATTACH;FMTTYPE=image/jpeg:https://mccjp.org/wp-content/uploads/2023/04/Brown-Simple-Special-Promotion-Korean-Menu-Facebook-Post.jpg
END:VEVENT
BEGIN:VEVENT
DTSTART;TZID=Pacific/Honolulu:20260222T133000
DTEND;TZID=Pacific/Honolulu:20260222T150000
DTSTAMP:20260425T164845
CREATED:20260109T232856Z
LAST-MODIFIED:20260109T232856Z
UID:10282-1771767000-1771772400@mccjp.org
SUMMARY:韓国クラブ
DESCRIPTION:新しいクラス「韓国クラブ」が始まりました。皆で韓国語の学びや、韓国文化を楽しむ集まりです。どなたでも参加できますのでお友達をお誘いしてご参加ください。
URL:https://mccjp.org/event/%e9%9f%93%e5%9b%bd%e3%82%af%e3%83%a9%e3%83%96-71/
CATEGORIES:ミニストリー
ATTACH;FMTTYPE=image/jpeg:https://mccjp.org/wp-content/uploads/2023/04/Brown-Simple-Special-Promotion-Korean-Menu-Facebook-Post.jpg
END:VEVENT
BEGIN:VEVENT
DTSTART;TZID=Pacific/Honolulu:20260215T133000
DTEND;TZID=Pacific/Honolulu:20260215T150000
DTSTAMP:20260425T164845
CREATED:20260109T232810Z
LAST-MODIFIED:20260109T232810Z
UID:10280-1771162200-1771167600@mccjp.org
SUMMARY:韓国クラブ
DESCRIPTION:新しいクラス「韓国クラブ」が始まりました。皆で韓国語の学びや、韓国文化を楽しむ集まりです。どなたでも参加できますのでお友達をお誘いしてご参加ください。
URL:https://mccjp.org/event/%e9%9f%93%e5%9b%bd%e3%82%af%e3%83%a9%e3%83%96-70/
CATEGORIES:ミニストリー
ATTACH;FMTTYPE=image/jpeg:https://mccjp.org/wp-content/uploads/2023/04/Brown-Simple-Special-Promotion-Korean-Menu-Facebook-Post.jpg
END:VEVENT
BEGIN:VEVENT
DTSTART;TZID=Pacific/Honolulu:20260201T133000
DTEND;TZID=Pacific/Honolulu:20260201T150000
DTSTAMP:20260425T164845
CREATED:20260109T232711Z
LAST-MODIFIED:20260109T232711Z
UID:10278-1769952600-1769958000@mccjp.org
SUMMARY:韓国クラブ
DESCRIPTION:新しいクラス「韓国クラブ」が始まりました。皆で韓国語の学びや、韓国文化を楽しむ集まりです。どなたでも参加できますのでお友達をお誘いしてご参加ください。
URL:https://mccjp.org/event/%e9%9f%93%e5%9b%bd%e3%82%af%e3%83%a9%e3%83%96-69/
CATEGORIES:ミニストリー
ATTACH;FMTTYPE=image/jpeg:https://mccjp.org/wp-content/uploads/2023/04/Brown-Simple-Special-Promotion-Korean-Menu-Facebook-Post.jpg
END:VEVENT
BEGIN:VEVENT
DTSTART;TZID=Pacific/Honolulu:20260125T133000
DTEND;TZID=Pacific/Honolulu:20260125T150000
DTSTAMP:20260425T164845
CREATED:20251210T002623Z
LAST-MODIFIED:20251210T002623Z
UID:10115-1769347800-1769353200@mccjp.org
SUMMARY:韓国クラブ
DESCRIPTION:新しいクラス「韓国クラブ」が始まりました。皆で韓国語の学びや、韓国文化を楽しむ集まりです。どなたでも参加できますのでお友達をお誘いしてご参加ください。
URL:https://mccjp.org/event/%e9%9f%93%e5%9b%bd%e3%82%af%e3%83%a9%e3%83%96-68/
CATEGORIES:ミニストリー
ATTACH;FMTTYPE=image/jpeg:https://mccjp.org/wp-content/uploads/2023/04/Brown-Simple-Special-Promotion-Korean-Menu-Facebook-Post.jpg
END:VEVENT
BEGIN:VEVENT
DTSTART;TZID=Pacific/Honolulu:20260118T133000
DTEND;TZID=Pacific/Honolulu:20260118T150000
DTSTAMP:20260425T164845
CREATED:20251210T002549Z
LAST-MODIFIED:20251210T002549Z
UID:10113-1768743000-1768748400@mccjp.org
SUMMARY:韓国クラブ
DESCRIPTION:新しいクラス「韓国クラブ」が始まりました。皆で韓国語の学びや、韓国文化を楽しむ集まりです。どなたでも参加できますのでお友達をお誘いしてご参加ください。
URL:https://mccjp.org/event/%e9%9f%93%e5%9b%bd%e3%82%af%e3%83%a9%e3%83%96-67/
CATEGORIES:ミニストリー
ATTACH;FMTTYPE=image/jpeg:https://mccjp.org/wp-content/uploads/2023/04/Brown-Simple-Special-Promotion-Korean-Menu-Facebook-Post.jpg
END:VEVENT
BEGIN:VEVENT
DTSTART;TZID=Pacific/Honolulu:20260104T133000
DTEND;TZID=Pacific/Honolulu:20260104T150000
DTSTAMP:20260425T164845
CREATED:20251210T002513Z
LAST-MODIFIED:20251210T002513Z
UID:10111-1767533400-1767538800@mccjp.org
SUMMARY:韓国クラブ
DESCRIPTION:新しいクラス「韓国クラブ」が始まりました。皆で韓国語の学びや、韓国文化を楽しむ集まりです。どなたでも参加できますのでお友達をお誘いしてご参加ください。
URL:https://mccjp.org/event/%e9%9f%93%e5%9b%bd%e3%82%af%e3%83%a9%e3%83%96-66/
CATEGORIES:ミニストリー
ATTACH;FMTTYPE=image/jpeg:https://mccjp.org/wp-content/uploads/2023/04/Brown-Simple-Special-Promotion-Korean-Menu-Facebook-Post.jpg
END:VEVENT
BEGIN:VEVENT
DTSTART;TZID=Pacific/Honolulu:20251228T133000
DTEND;TZID=Pacific/Honolulu:20251228T150000
DTSTAMP:20260425T164845
CREATED:20251210T001915Z
LAST-MODIFIED:20251211T012023Z
UID:10099-1766928600-1766934000@mccjp.org
SUMMARY:韓国クラブ 12/28はお休み
DESCRIPTION:新しいクラス「韓国クラブ」が始まりました。皆で韓国語の学びや、韓国文化を楽しむ集まりです。どなたでも参加できますのでお友達をお誘いしてご参加ください。
URL:https://mccjp.org/event/%e9%9f%93%e5%9b%bd%e3%82%af%e3%83%a9%e3%83%96-65/
CATEGORIES:ミニストリー
ATTACH;FMTTYPE=image/jpeg:https://mccjp.org/wp-content/uploads/2023/04/Brown-Simple-Special-Promotion-Korean-Menu-Facebook-Post.jpg
END:VEVENT
BEGIN:VEVENT
DTSTART;TZID=Pacific/Honolulu:20251221T133000
DTEND;TZID=Pacific/Honolulu:20251221T150000
DTSTAMP:20260425T164845
CREATED:20251210T001838Z
LAST-MODIFIED:20251210T001838Z
UID:10097-1766323800-1766329200@mccjp.org
SUMMARY:韓国クラブ
DESCRIPTION:新しいクラス「韓国クラブ」が始まりました。皆で韓国語の学びや、韓国文化を楽しむ集まりです。どなたでも参加できますのでお友達をお誘いしてご参加ください。
URL:https://mccjp.org/event/%e9%9f%93%e5%9b%bd%e3%82%af%e3%83%a9%e3%83%96-64/
CATEGORIES:ミニストリー
ATTACH;FMTTYPE=image/jpeg:https://mccjp.org/wp-content/uploads/2023/04/Brown-Simple-Special-Promotion-Korean-Menu-Facebook-Post.jpg
END:VEVENT
BEGIN:VEVENT
DTSTART;TZID=Pacific/Honolulu:20251123T133000
DTEND;TZID=Pacific/Honolulu:20251123T150000
DTSTAMP:20260425T164845
CREATED:20251106T004500Z
LAST-MODIFIED:20251106T004500Z
UID:9964-1763904600-1763910000@mccjp.org
SUMMARY:韓国クラブ
DESCRIPTION:新しいクラス「韓国クラブ」が始まりました。皆で韓国語の学びや、韓国文化を楽しむ集まりです。どなたでも参加できますのでお友達をお誘いしてご参加ください。
URL:https://mccjp.org/event/%e9%9f%93%e5%9b%bd%e3%82%af%e3%83%a9%e3%83%96-63/
CATEGORIES:ミニストリー
ATTACH;FMTTYPE=image/jpeg:https://mccjp.org/wp-content/uploads/2023/04/Brown-Simple-Special-Promotion-Korean-Menu-Facebook-Post.jpg
END:VEVENT
BEGIN:VEVENT
DTSTART;TZID=Pacific/Honolulu:20251116T133000
DTEND;TZID=Pacific/Honolulu:20251116T150000
DTSTAMP:20260425T164845
CREATED:20251106T004424Z
LAST-MODIFIED:20251106T004424Z
UID:9962-1763299800-1763305200@mccjp.org
SUMMARY:韓国クラブ
DESCRIPTION:新しいクラス「韓国クラブ」が始まりました。皆で韓国語の学びや、韓国文化を楽しむ集まりです。どなたでも参加できますのでお友達をお誘いしてご参加ください。
URL:https://mccjp.org/event/%e9%9f%93%e5%9b%bd%e3%82%af%e3%83%a9%e3%83%96-62/
CATEGORIES:ミニストリー
ATTACH;FMTTYPE=image/jpeg:https://mccjp.org/wp-content/uploads/2023/04/Brown-Simple-Special-Promotion-Korean-Menu-Facebook-Post.jpg
END:VEVENT
BEGIN:VEVENT
DTSTART;TZID=Pacific/Honolulu:20250928T133000
DTEND;TZID=Pacific/Honolulu:20250928T150000
DTSTAMP:20260425T164845
CREATED:20250830T215330Z
LAST-MODIFIED:20250830T215330Z
UID:9759-1759066200-1759071600@mccjp.org
SUMMARY:韓国クラブ
DESCRIPTION:新しいクラス「韓国クラブ」が始まりました。皆で韓国語の学びや、韓国文化を楽しむ集まりです。どなたでも参加できますのでお友達をお誘いしてご参加ください。
URL:https://mccjp.org/event/%e9%9f%93%e5%9b%bd%e3%82%af%e3%83%a9%e3%83%96-61/
CATEGORIES:ミニストリー
ATTACH;FMTTYPE=image/jpeg:https://mccjp.org/wp-content/uploads/2023/04/Brown-Simple-Special-Promotion-Korean-Menu-Facebook-Post.jpg
END:VEVENT
BEGIN:VEVENT
DTSTART;TZID=Pacific/Honolulu:20250921T133000
DTEND;TZID=Pacific/Honolulu:20250921T150000
DTSTAMP:20260425T164845
CREATED:20250830T215253Z
LAST-MODIFIED:20250830T215253Z
UID:9757-1758461400-1758466800@mccjp.org
SUMMARY:韓国クラブ
DESCRIPTION:新しいクラス「韓国クラブ」が始まりました。皆で韓国語の学びや、韓国文化を楽しむ集まりです。どなたでも参加できますのでお友達をお誘いしてご参加ください。
URL:https://mccjp.org/event/%e9%9f%93%e5%9b%bd%e3%82%af%e3%83%a9%e3%83%96-60/
CATEGORIES:ミニストリー
ATTACH;FMTTYPE=image/jpeg:https://mccjp.org/wp-content/uploads/2023/04/Brown-Simple-Special-Promotion-Korean-Menu-Facebook-Post.jpg
END:VEVENT
BEGIN:VEVENT
DTSTART;TZID=Pacific/Honolulu:20250907T133000
DTEND;TZID=Pacific/Honolulu:20250907T150000
DTSTAMP:20260425T164845
CREATED:20250830T215206Z
LAST-MODIFIED:20250830T215206Z
UID:9755-1757251800-1757257200@mccjp.org
SUMMARY:韓国クラブ
DESCRIPTION:新しいクラス「韓国クラブ」が始まりました。皆で韓国語の学びや、韓国文化を楽しむ集まりです。どなたでも参加できますのでお友達をお誘いしてご参加ください。
URL:https://mccjp.org/event/%e9%9f%93%e5%9b%bd%e3%82%af%e3%83%a9%e3%83%96-59/
CATEGORIES:ミニストリー
ATTACH;FMTTYPE=image/jpeg:https://mccjp.org/wp-content/uploads/2023/04/Brown-Simple-Special-Promotion-Korean-Menu-Facebook-Post.jpg
END:VEVENT
BEGIN:VEVENT
DTSTART;TZID=Pacific/Honolulu:20250824T133000
DTEND;TZID=Pacific/Honolulu:20250824T150000
DTSTAMP:20260425T164845
CREATED:20250726T222422Z
LAST-MODIFIED:20250726T222422Z
UID:9649-1756042200-1756047600@mccjp.org
SUMMARY:韓国クラブ
DESCRIPTION:新しいクラス「韓国クラブ」が始まりました。皆で韓国語の学びや、韓国文化を楽しむ集まりです。どなたでも参加できますのでお友達をお誘いしてご参加ください。
URL:https://mccjp.org/event/%e9%9f%93%e5%9b%bd%e3%82%af%e3%83%a9%e3%83%96-58/
CATEGORIES:ミニストリー
ATTACH;FMTTYPE=image/jpeg:https://mccjp.org/wp-content/uploads/2023/04/Brown-Simple-Special-Promotion-Korean-Menu-Facebook-Post.jpg
END:VEVENT
BEGIN:VEVENT
DTSTART;TZID=Pacific/Honolulu:20250817T133000
DTEND;TZID=Pacific/Honolulu:20250817T150000
DTSTAMP:20260425T164845
CREATED:20250726T222343Z
LAST-MODIFIED:20250726T222343Z
UID:9647-1755437400-1755442800@mccjp.org
SUMMARY:韓国クラブ
DESCRIPTION:新しいクラス「韓国クラブ」が始まりました。皆で韓国語の学びや、韓国文化を楽しむ集まりです。どなたでも参加できますのでお友達をお誘いしてご参加ください。
URL:https://mccjp.org/event/%e9%9f%93%e5%9b%bd%e3%82%af%e3%83%a9%e3%83%96-57/
CATEGORIES:ミニストリー
ATTACH;FMTTYPE=image/jpeg:https://mccjp.org/wp-content/uploads/2023/04/Brown-Simple-Special-Promotion-Korean-Menu-Facebook-Post.jpg
END:VEVENT
BEGIN:VEVENT
DTSTART;TZID=Pacific/Honolulu:20250803T133000
DTEND;TZID=Pacific/Honolulu:20250803T150000
DTSTAMP:20260425T164845
CREATED:20250726T222301Z
LAST-MODIFIED:20250726T222301Z
UID:9645-1754227800-1754233200@mccjp.org
SUMMARY:韓国クラブ
DESCRIPTION:新しいクラス「韓国クラブ」が始まりました。皆で韓国語の学びや、韓国文化を楽しむ集まりです。どなたでも参加できますのでお友達をお誘いしてご参加ください。
URL:https://mccjp.org/event/%e9%9f%93%e5%9b%bd%e3%82%af%e3%83%a9%e3%83%96-56/
CATEGORIES:ミニストリー
ATTACH;FMTTYPE=image/jpeg:https://mccjp.org/wp-content/uploads/2023/04/Brown-Simple-Special-Promotion-Korean-Menu-Facebook-Post.jpg
END:VEVENT
BEGIN:VEVENT
DTSTART;TZID=Pacific/Honolulu:20250727T133000
DTEND;TZID=Pacific/Honolulu:20250727T150000
DTSTAMP:20260425T164845
CREATED:20250617T224542Z
LAST-MODIFIED:20250617T224542Z
UID:9456-1753623000-1753628400@mccjp.org
SUMMARY:韓国クラブ
DESCRIPTION:新しいクラス「韓国クラブ」が始まりました。皆で韓国語の学びや、韓国文化を楽しむ集まりです。どなたでも参加できますのでお友達をお誘いしてご参加ください。
URL:https://mccjp.org/event/%e9%9f%93%e5%9b%bd%e3%82%af%e3%83%a9%e3%83%96-54/
CATEGORIES:ミニストリー
ATTACH;FMTTYPE=image/jpeg:https://mccjp.org/wp-content/uploads/2023/04/Brown-Simple-Special-Promotion-Korean-Menu-Facebook-Post.jpg
END:VEVENT
BEGIN:VEVENT
DTSTART;TZID=Pacific/Honolulu:20250720T133000
DTEND;TZID=Pacific/Honolulu:20250720T150000
DTSTAMP:20260425T164845
CREATED:20250617T224457Z
LAST-MODIFIED:20250617T224457Z
UID:9455-1753018200-1753023600@mccjp.org
SUMMARY:韓国クラブ
DESCRIPTION:新しいクラス「韓国クラブ」が始まりました。皆で韓国語の学びや、韓国文化を楽しむ集まりです。どなたでも参加できますのでお友達をお誘いしてご参加ください。
URL:https://mccjp.org/event/%e9%9f%93%e5%9b%bd%e3%82%af%e3%83%a9%e3%83%96-53/
CATEGORIES:ミニストリー
ATTACH;FMTTYPE=image/jpeg:https://mccjp.org/wp-content/uploads/2023/04/Brown-Simple-Special-Promotion-Korean-Menu-Facebook-Post.jpg
END:VEVENT
BEGIN:VEVENT
DTSTART;TZID=Pacific/Honolulu:20250706T133000
DTEND;TZID=Pacific/Honolulu:20250706T150000
DTSTAMP:20260425T164845
CREATED:20250617T224421Z
LAST-MODIFIED:20250617T224421Z
UID:9454-1751808600-1751814000@mccjp.org
SUMMARY:韓国クラブ
DESCRIPTION:新しいクラス「韓国クラブ」が始まりました。皆で韓国語の学びや、韓国文化を楽しむ集まりです。どなたでも参加できますのでお友達をお誘いしてご参加ください。
URL:https://mccjp.org/event/%e9%9f%93%e5%9b%bd%e3%82%af%e3%83%a9%e3%83%96-52/
CATEGORIES:ミニストリー
ATTACH;FMTTYPE=image/jpeg:https://mccjp.org/wp-content/uploads/2023/04/Brown-Simple-Special-Promotion-Korean-Menu-Facebook-Post.jpg
END:VEVENT
BEGIN:VEVENT
DTSTART;TZID=Pacific/Honolulu:20250622T133000
DTEND;TZID=Pacific/Honolulu:20250622T150000
DTSTAMP:20260425T164845
CREATED:20250617T224345Z
LAST-MODIFIED:20250617T224345Z
UID:9453-1750599000-1750604400@mccjp.org
SUMMARY:韓国クラブ
DESCRIPTION:新しいクラス「韓国クラブ」が始まりました。皆で韓国語の学びや、韓国文化を楽しむ集まりです。どなたでも参加できますのでお友達をお誘いしてご参加ください。
URL:https://mccjp.org/event/%e9%9f%93%e5%9b%bd%e3%82%af%e3%83%a9%e3%83%96-51/
CATEGORIES:ミニストリー
ATTACH;FMTTYPE=image/jpeg:https://mccjp.org/wp-content/uploads/2023/04/Brown-Simple-Special-Promotion-Korean-Menu-Facebook-Post.jpg
END:VEVENT
BEGIN:VEVENT
DTSTART;TZID=Pacific/Honolulu:20250615T133000
DTEND;TZID=Pacific/Honolulu:20250615T150000
DTSTAMP:20260425T164845
CREATED:20250617T224635Z
LAST-MODIFIED:20250617T224635Z
UID:9457-1749994200-1749999600@mccjp.org
SUMMARY:韓国クラブ
DESCRIPTION:新しいクラス「韓国クラブ」が始まりました。皆で韓国語の学びや、韓国文化を楽しむ集まりです。どなたでも参加できますのでお友達をお誘いしてご参加ください。
URL:https://mccjp.org/event/%e9%9f%93%e5%9b%bd%e3%82%af%e3%83%a9%e3%83%96-55/
CATEGORIES:ミニストリー
ATTACH;FMTTYPE=image/jpeg:https://mccjp.org/wp-content/uploads/2023/04/Brown-Simple-Special-Promotion-Korean-Menu-Facebook-Post.jpg
END:VEVENT
BEGIN:VEVENT
DTSTART;TZID=Pacific/Honolulu:20250525T133000
DTEND;TZID=Pacific/Honolulu:20250525T150000
DTSTAMP:20260425T164845
CREATED:20250504T001000Z
LAST-MODIFIED:20250504T001000Z
UID:9246-1748179800-1748185200@mccjp.org
SUMMARY:韓国クラブ
DESCRIPTION:新しいクラス「韓国クラブ」が始まりました。皆で韓国語の学びや、韓国文化を楽しむ集まりです。どなたでも参加できますのでお友達をお誘いしてご参加ください。
URL:https://mccjp.org/event/%e9%9f%93%e5%9b%bd%e3%82%af%e3%83%a9%e3%83%96-50/
CATEGORIES:ミニストリー
ATTACH;FMTTYPE=image/jpeg:https://mccjp.org/wp-content/uploads/2023/04/Brown-Simple-Special-Promotion-Korean-Menu-Facebook-Post.jpg
END:VEVENT
BEGIN:VEVENT
DTSTART;TZID=Pacific/Honolulu:20250518T133000
DTEND;TZID=Pacific/Honolulu:20250518T150000
DTSTAMP:20260425T164845
CREATED:20250504T000856Z
LAST-MODIFIED:20250504T000856Z
UID:9244-1747575000-1747580400@mccjp.org
SUMMARY:韓国クラブ
DESCRIPTION:新しいクラス「韓国クラブ」が始まりました。皆で韓国語の学びや、韓国文化を楽しむ集まりです。どなたでも参加できますのでお友達をお誘いしてご参加ください。
URL:https://mccjp.org/event/%e9%9f%93%e5%9b%bd%e3%82%af%e3%83%a9%e3%83%96-49/
CATEGORIES:ミニストリー
ATTACH;FMTTYPE=image/jpeg:https://mccjp.org/wp-content/uploads/2023/04/Brown-Simple-Special-Promotion-Korean-Menu-Facebook-Post.jpg
END:VEVENT
END:VCALENDAR