BEGIN:VCALENDAR
VERSION:2.0
PRODID:-//マキキ日本語教会 - ECPv6.15.20//NONSGML v1.0//EN
CALSCALE:GREGORIAN
METHOD:PUBLISH
X-ORIGINAL-URL:https://mccjp.org
X-WR-CALDESC:マキキ日本語教会 のイベント
REFRESH-INTERVAL;VALUE=DURATION:PT1H
X-Robots-Tag:noindex
X-PUBLISHED-TTL:PT1H
BEGIN:VTIMEZONE
TZID:Pacific/Honolulu
BEGIN:STANDARD
TZOFFSETFROM:-1000
TZOFFSETTO:-1000
TZNAME:HST
DTSTART:20240101T000000
END:STANDARD
END:VTIMEZONE
BEGIN:VEVENT
DTSTART;TZID=Pacific/Honolulu:20251004T090000
DTEND;TZID=Pacific/Honolulu:20251004T130000
DTSTAMP:20260425T174831
CREATED:20251002T220702Z
LAST-MODIFIED:20251002T220934Z
UID:9825-1759568400-1759582800@mccjp.org
SUMMARY:感謝祭フェスティバル
DESCRIPTION:今年もやって来ましたマキキフェスティバル！ \n名物イカ焼き、ホットドック、バーガー、シェーブアイスなど出店します。クラフトや洋服、家庭用品などもたくさんあります。クッキーやパイ、いなり寿司や惣菜など、日頃の腕をきかせた美味しい料理に舌鼓をうち、楽しい秋の一日を過ごしましょう。 \n是非、ご近所の方やお友達をお誘いあわせの上おいでください。
URL:https://mccjp.org/event/%e6%84%9f%e8%ac%9d%e7%a5%ad%e3%83%95%e3%82%a7%e3%82%b9%e3%83%86%e3%82%a3%e3%83%90%e3%83%ab-3/
LOCATION:MAKIKI CHRISTIAN CHURCH\, 829 Pensacola Street\, Honolulu\, 96814\, 米国
ATTACH;FMTTYPE=image/jpeg:https://mccjp.org/wp-content/uploads/2023/06/Brown-Simple-Special-Promotion-Korean-Menu-Facebook-Post.jpg
END:VEVENT
END:VCALENDAR