BEGIN:VCALENDAR
VERSION:2.0
PRODID:-//マキキ日本語教会 - ECPv6.15.20//NONSGML v1.0//EN
CALSCALE:GREGORIAN
METHOD:PUBLISH
X-ORIGINAL-URL:https://mccjp.org
X-WR-CALDESC:マキキ日本語教会 のイベント
REFRESH-INTERVAL;VALUE=DURATION:PT1H
X-Robots-Tag:noindex
X-PUBLISHED-TTL:PT1H
BEGIN:VTIMEZONE
TZID:Pacific/Honolulu
BEGIN:STANDARD
TZOFFSETFROM:-1000
TZOFFSETTO:-1000
TZNAME:HST
DTSTART:20240101T000000
END:STANDARD
END:VTIMEZONE
BEGIN:VEVENT
DTSTART;TZID=Pacific/Honolulu:20260423T130000
DTEND;TZID=Pacific/Honolulu:20260423T140000
DTSTAMP:20260425T090624
CREATED:20260408T220250Z
LAST-MODIFIED:20260408T220331Z
UID:10704-1776949200-1776952800@mccjp.org
SUMMARY:木曜祈祷会
DESCRIPTION:毎週木曜日　午後1時　日語部ラウンジ　現在対面とZoomにて行われています。 \n神への賛美と感謝で満たされ、様々な課題のために心を一つにして祈る会です。参加ご希望の方は、日本語オフィスまでご連絡ください。
URL:https://mccjp.org/event/%e6%9c%a8%e6%9b%9c%e7%a5%88%e7%a5%b7%e4%bc%9a-155/
CATEGORIES:ミニストリー,木曜祈祷会
ATTACH;FMTTYPE=image/jpeg:https://mccjp.org/wp-content/uploads/2022/07/hands-g5eaab4891_1280-e1661201499656.jpg
END:VEVENT
BEGIN:VEVENT
DTSTART;TZID=Pacific/Honolulu:20260416T130000
DTEND;TZID=Pacific/Honolulu:20260416T140000
DTSTAMP:20260425T090624
CREATED:20260408T220543Z
LAST-MODIFIED:20260408T220543Z
UID:10708-1776344400-1776348000@mccjp.org
SUMMARY:木曜祈祷会
DESCRIPTION:毎週木曜日　午後1時　日語部ラウンジ　現在対面とZoomにて行われています。 \n神への賛美と感謝で満たされ、様々な課題のために心を一つにして祈る会です。参加ご希望の方は、日本語オフィスまでご連絡ください。
URL:https://mccjp.org/event/%e6%9c%a8%e6%9b%9c%e7%a5%88%e7%a5%b7%e4%bc%9a-157/
CATEGORIES:ミニストリー,木曜祈祷会
ATTACH;FMTTYPE=image/jpeg:https://mccjp.org/wp-content/uploads/2022/07/hands-g5eaab4891_1280-e1661201499656.jpg
END:VEVENT
BEGIN:VEVENT
DTSTART;TZID=Pacific/Honolulu:20260409T130000
DTEND;TZID=Pacific/Honolulu:20260409T140000
DTSTAMP:20260425T090624
CREATED:20260408T220125Z
LAST-MODIFIED:20260408T220125Z
UID:10702-1775739600-1775743200@mccjp.org
SUMMARY:木曜祈祷会
DESCRIPTION:毎週木曜日　午後1時　日語部ラウンジ　現在対面とZoomにて行われています。 \n神への賛美と感謝で満たされ、様々な課題のために心を一つにして祈る会です。参加ご希望の方は、日本語オフィスまでご連絡ください。
URL:https://mccjp.org/event/%e6%9c%a8%e6%9b%9c%e7%a5%88%e7%a5%b7%e4%bc%9a-154/
CATEGORIES:ミニストリー,木曜祈祷会
ATTACH;FMTTYPE=image/jpeg:https://mccjp.org/wp-content/uploads/2022/07/hands-g5eaab4891_1280-e1661201499656.jpg
END:VEVENT
BEGIN:VEVENT
DTSTART;TZID=Pacific/Honolulu:20260402T130000
DTEND;TZID=Pacific/Honolulu:20260402T140000
DTSTAMP:20260425T090624
CREATED:20260408T220000Z
LAST-MODIFIED:20260408T220000Z
UID:10700-1775134800-1775138400@mccjp.org
SUMMARY:木曜祈祷会
DESCRIPTION:毎週木曜日　午後1時　日語部ラウンジ　現在対面とZoomにて行われています。 \n神への賛美と感謝で満たされ、様々な課題のために心を一つにして祈る会です。参加ご希望の方は、日本語オフィスまでご連絡ください。
URL:https://mccjp.org/event/%e6%9c%a8%e6%9b%9c%e7%a5%88%e7%a5%b7%e4%bc%9a-153/
CATEGORIES:ミニストリー,木曜祈祷会
ATTACH;FMTTYPE=image/jpeg:https://mccjp.org/wp-content/uploads/2022/07/hands-g5eaab4891_1280-e1661201499656.jpg
END:VEVENT
BEGIN:VEVENT
DTSTART;TZID=Pacific/Honolulu:20260326T130000
DTEND;TZID=Pacific/Honolulu:20260326T140000
DTSTAMP:20260425T090624
CREATED:20260305T011230Z
LAST-MODIFIED:20260305T011230Z
UID:10502-1774530000-1774533600@mccjp.org
SUMMARY:木曜祈祷会
DESCRIPTION:毎週木曜日　午後1時　日語部ラウンジ　現在対面とZoomにて行われています。 \n神への賛美と感謝で満たされ、様々な課題のために心を一つにして祈る会です。参加ご希望の方は、日本語オフィスまでご連絡ください。
URL:https://mccjp.org/event/%e6%9c%a8%e6%9b%9c%e7%a5%88%e7%a5%b7%e4%bc%9a-152/
CATEGORIES:ミニストリー,木曜祈祷会
ATTACH;FMTTYPE=image/jpeg:https://mccjp.org/wp-content/uploads/2022/07/hands-g5eaab4891_1280-e1661201499656.jpg
END:VEVENT
BEGIN:VEVENT
DTSTART;TZID=Pacific/Honolulu:20260319T130000
DTEND;TZID=Pacific/Honolulu:20260319T140000
DTSTAMP:20260425T090624
CREATED:20260305T011104Z
LAST-MODIFIED:20260305T011104Z
UID:10500-1773925200-1773928800@mccjp.org
SUMMARY:木曜祈祷会
DESCRIPTION:毎週木曜日　午後1時　日語部ラウンジ　現在対面とZoomにて行われています。 \n神への賛美と感謝で満たされ、様々な課題のために心を一つにして祈る会です。参加ご希望の方は、日本語オフィスまでご連絡ください。
URL:https://mccjp.org/event/%e6%9c%a8%e6%9b%9c%e7%a5%88%e7%a5%b7%e4%bc%9a-151/
CATEGORIES:ミニストリー,木曜祈祷会
ATTACH;FMTTYPE=image/jpeg:https://mccjp.org/wp-content/uploads/2022/07/hands-g5eaab4891_1280-e1661201499656.jpg
END:VEVENT
BEGIN:VEVENT
DTSTART;TZID=Pacific/Honolulu:20260312T130000
DTEND;TZID=Pacific/Honolulu:20260312T140000
DTSTAMP:20260425T090624
CREATED:20260305T010934Z
LAST-MODIFIED:20260305T010934Z
UID:10498-1773320400-1773324000@mccjp.org
SUMMARY:木曜祈祷会
DESCRIPTION:毎週木曜日　午後1時　日語部ラウンジ　現在対面とZoomにて行われています。 \n神への賛美と感謝で満たされ、様々な課題のために心を一つにして祈る会です。参加ご希望の方は、日本語オフィスまでご連絡ください。
URL:https://mccjp.org/event/%e6%9c%a8%e6%9b%9c%e7%a5%88%e7%a5%b7%e4%bc%9a-150/
CATEGORIES:ミニストリー,木曜祈祷会
ATTACH;FMTTYPE=image/jpeg:https://mccjp.org/wp-content/uploads/2022/07/hands-g5eaab4891_1280-e1661201499656.jpg
END:VEVENT
BEGIN:VEVENT
DTSTART;TZID=Pacific/Honolulu:20260305T130000
DTEND;TZID=Pacific/Honolulu:20260305T140000
DTSTAMP:20260425T090624
CREATED:20260305T010733Z
LAST-MODIFIED:20260305T010733Z
UID:10496-1772715600-1772719200@mccjp.org
SUMMARY:木曜祈祷会
DESCRIPTION:毎週木曜日　午後1時　日語部ラウンジ　現在対面とZoomにて行われています。 \n神への賛美と感謝で満たされ、様々な課題のために心を一つにして祈る会です。参加ご希望の方は、日本語オフィスまでご連絡ください。
URL:https://mccjp.org/event/%e6%9c%a8%e6%9b%9c%e7%a5%88%e7%a5%b7%e4%bc%9a-149/
CATEGORIES:ミニストリー,木曜祈祷会
ATTACH;FMTTYPE=image/jpeg:https://mccjp.org/wp-content/uploads/2022/07/hands-g5eaab4891_1280-e1661201499656.jpg
END:VEVENT
BEGIN:VEVENT
DTSTART;TZID=Pacific/Honolulu:20260226T130000
DTEND;TZID=Pacific/Honolulu:20260226T140000
DTSTAMP:20260425T090624
CREATED:20260109T233855Z
LAST-MODIFIED:20260109T233855Z
UID:10290-1772110800-1772114400@mccjp.org
SUMMARY:木曜祈祷会
DESCRIPTION:毎週木曜日　午後1時　日語部ラウンジ　現在対面とZoomにて行われています。 \n神への賛美と感謝で満たされ、様々な課題のために心を一つにして祈る会です。参加ご希望の方は、日本語オフィスまでご連絡ください。
URL:https://mccjp.org/event/%e6%9c%a8%e6%9b%9c%e7%a5%88%e7%a5%b7%e4%bc%9a-148/
CATEGORIES:ミニストリー,木曜祈祷会
ATTACH;FMTTYPE=image/jpeg:https://mccjp.org/wp-content/uploads/2022/07/hands-g5eaab4891_1280-e1661201499656.jpg
END:VEVENT
BEGIN:VEVENT
DTSTART;TZID=Pacific/Honolulu:20260219T130000
DTEND;TZID=Pacific/Honolulu:20260219T140000
DTSTAMP:20260425T090624
CREATED:20260109T233342Z
LAST-MODIFIED:20260109T233342Z
UID:10288-1771506000-1771509600@mccjp.org
SUMMARY:木曜祈祷会
DESCRIPTION:毎週木曜日　午後1時　日語部ラウンジ　現在対面とZoomにて行われています。 \n神への賛美と感謝で満たされ、様々な課題のために心を一つにして祈る会です。参加ご希望の方は、日本語オフィスまでご連絡ください。
URL:https://mccjp.org/event/%e6%9c%a8%e6%9b%9c%e7%a5%88%e7%a5%b7%e4%bc%9a-147/
CATEGORIES:ミニストリー,木曜祈祷会
ATTACH;FMTTYPE=image/jpeg:https://mccjp.org/wp-content/uploads/2022/07/hands-g5eaab4891_1280-e1661201499656.jpg
END:VEVENT
BEGIN:VEVENT
DTSTART;TZID=Pacific/Honolulu:20260212T130000
DTEND;TZID=Pacific/Honolulu:20260212T140000
DTSTAMP:20260425T090624
CREATED:20260109T233226Z
LAST-MODIFIED:20260109T233226Z
UID:10286-1770901200-1770904800@mccjp.org
SUMMARY:木曜祈祷会
DESCRIPTION:毎週木曜日　午後1時　日語部ラウンジ　現在対面とZoomにて行われています。 \n神への賛美と感謝で満たされ、様々な課題のために心を一つにして祈る会です。参加ご希望の方は、日本語オフィスまでご連絡ください。
URL:https://mccjp.org/event/%e6%9c%a8%e6%9b%9c%e7%a5%88%e7%a5%b7%e4%bc%9a-146/
CATEGORIES:ミニストリー,木曜祈祷会
ATTACH;FMTTYPE=image/jpeg:https://mccjp.org/wp-content/uploads/2022/07/hands-g5eaab4891_1280-e1661201499656.jpg
END:VEVENT
BEGIN:VEVENT
DTSTART;TZID=Pacific/Honolulu:20260205T130000
DTEND;TZID=Pacific/Honolulu:20260205T140000
DTSTAMP:20260425T090624
CREATED:20260109T232959Z
LAST-MODIFIED:20260109T232959Z
UID:10284-1770296400-1770300000@mccjp.org
SUMMARY:木曜祈祷会
DESCRIPTION:毎週木曜日　午後1時　日語部ラウンジ　現在対面とZoomにて行われています。 \n神への賛美と感謝で満たされ、様々な課題のために心を一つにして祈る会です。参加ご希望の方は、日本語オフィスまでご連絡ください。
URL:https://mccjp.org/event/%e6%9c%a8%e6%9b%9c%e7%a5%88%e7%a5%b7%e4%bc%9a-145/
CATEGORIES:ミニストリー,木曜祈祷会
ATTACH;FMTTYPE=image/jpeg:https://mccjp.org/wp-content/uploads/2022/07/hands-g5eaab4891_1280-e1661201499656.jpg
END:VEVENT
BEGIN:VEVENT
DTSTART;TZID=Pacific/Honolulu:20260129T130000
DTEND;TZID=Pacific/Honolulu:20260129T140000
DTSTAMP:20260425T090624
CREATED:20251210T001449Z
LAST-MODIFIED:20251210T001449Z
UID:10087-1769691600-1769695200@mccjp.org
SUMMARY:木曜祈祷会
DESCRIPTION:毎週木曜日　午後1時　日語部ラウンジ　現在対面とZoomにて行われています。 \n神への賛美と感謝で満たされ、様々な課題のために心を一つにして祈る会です。参加ご希望の方は、日本語オフィスまでご連絡ください。
URL:https://mccjp.org/event/%e6%9c%a8%e6%9b%9c%e7%a5%88%e7%a5%b7%e4%bc%9a-144/
CATEGORIES:ミニストリー,木曜祈祷会
ATTACH;FMTTYPE=image/jpeg:https://mccjp.org/wp-content/uploads/2022/07/hands-g5eaab4891_1280-e1661201499656.jpg
END:VEVENT
BEGIN:VEVENT
DTSTART;TZID=Pacific/Honolulu:20260122T130000
DTEND;TZID=Pacific/Honolulu:20260122T140000
DTSTAMP:20260425T090624
CREATED:20251210T001411Z
LAST-MODIFIED:20251210T001411Z
UID:10085-1769086800-1769090400@mccjp.org
SUMMARY:木曜祈祷会
DESCRIPTION:毎週木曜日　午後1時　日語部ラウンジ　現在対面とZoomにて行われています。 \n神への賛美と感謝で満たされ、様々な課題のために心を一つにして祈る会です。参加ご希望の方は、日本語オフィスまでご連絡ください。
URL:https://mccjp.org/event/%e6%9c%a8%e6%9b%9c%e7%a5%88%e7%a5%b7%e4%bc%9a-143/
CATEGORIES:ミニストリー,木曜祈祷会
ATTACH;FMTTYPE=image/jpeg:https://mccjp.org/wp-content/uploads/2022/07/hands-g5eaab4891_1280-e1661201499656.jpg
END:VEVENT
BEGIN:VEVENT
DTSTART;TZID=Pacific/Honolulu:20260115T130000
DTEND;TZID=Pacific/Honolulu:20260115T140000
DTSTAMP:20260425T090624
CREATED:20251210T001327Z
LAST-MODIFIED:20251210T001327Z
UID:10083-1768482000-1768485600@mccjp.org
SUMMARY:木曜祈祷会
DESCRIPTION:毎週木曜日　午後1時　日語部ラウンジ　現在対面とZoomにて行われています。 \n神への賛美と感謝で満たされ、様々な課題のために心を一つにして祈る会です。参加ご希望の方は、日本語オフィスまでご連絡ください。
URL:https://mccjp.org/event/%e6%9c%a8%e6%9b%9c%e7%a5%88%e7%a5%b7%e4%bc%9a-142/
CATEGORIES:ミニストリー,木曜祈祷会
ATTACH;FMTTYPE=image/jpeg:https://mccjp.org/wp-content/uploads/2022/07/hands-g5eaab4891_1280-e1661201499656.jpg
END:VEVENT
BEGIN:VEVENT
DTSTART;TZID=Pacific/Honolulu:20260108T130000
DTEND;TZID=Pacific/Honolulu:20260108T140000
DTSTAMP:20260425T090624
CREATED:20251210T001246Z
LAST-MODIFIED:20251210T001246Z
UID:10079-1767877200-1767880800@mccjp.org
SUMMARY:木曜祈祷会
DESCRIPTION:毎週木曜日　午後1時　日語部ラウンジ　現在対面とZoomにて行われています。 \n神への賛美と感謝で満たされ、様々な課題のために心を一つにして祈る会です。参加ご希望の方は、日本語オフィスまでご連絡ください。
URL:https://mccjp.org/event/%e6%9c%a8%e6%9b%9c%e7%a5%88%e7%a5%b7%e4%bc%9a-141/
CATEGORIES:ミニストリー,木曜祈祷会
ATTACH;FMTTYPE=image/jpeg:https://mccjp.org/wp-content/uploads/2022/07/hands-g5eaab4891_1280-e1661201499656.jpg
END:VEVENT
BEGIN:VEVENT
DTSTART;TZID=Pacific/Honolulu:20251218T130000
DTEND;TZID=Pacific/Honolulu:20251218T140000
DTSTAMP:20260425T090624
CREATED:20251210T001015Z
LAST-MODIFIED:20251210T001015Z
UID:10077-1766062800-1766066400@mccjp.org
SUMMARY:木曜祈祷会
DESCRIPTION:毎週木曜日　午後1時　日語部ラウンジ　現在対面とZoomにて行われています。 \n神への賛美と感謝で満たされ、様々な課題のために心を一つにして祈る会です。参加ご希望の方は、日本語オフィスまでご連絡ください。
URL:https://mccjp.org/event/%e6%9c%a8%e6%9b%9c%e7%a5%88%e7%a5%b7%e4%bc%9a-140/
CATEGORIES:ミニストリー,木曜祈祷会
ATTACH;FMTTYPE=image/jpeg:https://mccjp.org/wp-content/uploads/2022/07/hands-g5eaab4891_1280-e1661201499656.jpg
END:VEVENT
BEGIN:VEVENT
DTSTART;TZID=Pacific/Honolulu:20251211T130000
DTEND;TZID=Pacific/Honolulu:20251211T140000
DTSTAMP:20260425T090624
CREATED:20251210T000926Z
LAST-MODIFIED:20251210T000926Z
UID:10075-1765458000-1765461600@mccjp.org
SUMMARY:木曜祈祷会
DESCRIPTION:毎週木曜日　午後1時　日語部ラウンジ　現在対面とZoomにて行われています。 \n神への賛美と感謝で満たされ、様々な課題のために心を一つにして祈る会です。参加ご希望の方は、日本語オフィスまでご連絡ください。
URL:https://mccjp.org/event/%e6%9c%a8%e6%9b%9c%e7%a5%88%e7%a5%b7%e4%bc%9a-139/
CATEGORIES:ミニストリー,木曜祈祷会
ATTACH;FMTTYPE=image/jpeg:https://mccjp.org/wp-content/uploads/2022/07/hands-g5eaab4891_1280-e1661201499656.jpg
END:VEVENT
BEGIN:VEVENT
DTSTART;TZID=Pacific/Honolulu:20251120T130000
DTEND;TZID=Pacific/Honolulu:20251120T140000
DTSTAMP:20260425T090624
CREATED:20251106T003916Z
LAST-MODIFIED:20251106T003916Z
UID:9950-1763643600-1763647200@mccjp.org
SUMMARY:木曜祈祷会
DESCRIPTION:毎週木曜日　午後1時　日語部ラウンジ　現在対面とZoomにて行われています。 \n神への賛美と感謝で満たされ、様々な課題のために心を一つにして祈る会です。参加ご希望の方は、日本語オフィスまでご連絡ください。
URL:https://mccjp.org/event/%e6%9c%a8%e6%9b%9c%e7%a5%88%e7%a5%b7%e4%bc%9a-138/
CATEGORIES:ミニストリー,木曜祈祷会
ATTACH;FMTTYPE=image/jpeg:https://mccjp.org/wp-content/uploads/2022/07/hands-g5eaab4891_1280-e1661201499656.jpg
END:VEVENT
BEGIN:VEVENT
DTSTART;TZID=Pacific/Honolulu:20251113T130000
DTEND;TZID=Pacific/Honolulu:20251113T140000
DTSTAMP:20260425T090624
CREATED:20251106T003830Z
LAST-MODIFIED:20251106T003830Z
UID:9948-1763038800-1763042400@mccjp.org
SUMMARY:木曜祈祷会
DESCRIPTION:毎週木曜日　午後1時　日語部ラウンジ　現在対面とZoomにて行われています。 \n神への賛美と感謝で満たされ、様々な課題のために心を一つにして祈る会です。参加ご希望の方は、日本語オフィスまでご連絡ください。
URL:https://mccjp.org/event/%e6%9c%a8%e6%9b%9c%e7%a5%88%e7%a5%b7%e4%bc%9a-137/
CATEGORIES:ミニストリー,木曜祈祷会
ATTACH;FMTTYPE=image/jpeg:https://mccjp.org/wp-content/uploads/2022/07/hands-g5eaab4891_1280-e1661201499656.jpg
END:VEVENT
BEGIN:VEVENT
DTSTART;TZID=Pacific/Honolulu:20251106T130000
DTEND;TZID=Pacific/Honolulu:20251106T140000
DTSTAMP:20260425T090624
CREATED:20251106T003747Z
LAST-MODIFIED:20251106T003747Z
UID:9946-1762434000-1762437600@mccjp.org
SUMMARY:木曜祈祷会
DESCRIPTION:毎週木曜日　午後1時　日語部ラウンジ　現在対面とZoomにて行われています。 \n神への賛美と感謝で満たされ、様々な課題のために心を一つにして祈る会です。参加ご希望の方は、日本語オフィスまでご連絡ください。
URL:https://mccjp.org/event/%e6%9c%a8%e6%9b%9c%e7%a5%88%e7%a5%b7%e4%bc%9a-136/
CATEGORIES:ミニストリー,木曜祈祷会
ATTACH;FMTTYPE=image/jpeg:https://mccjp.org/wp-content/uploads/2022/07/hands-g5eaab4891_1280-e1661201499656.jpg
END:VEVENT
BEGIN:VEVENT
DTSTART;TZID=Pacific/Honolulu:20250828T130000
DTEND;TZID=Pacific/Honolulu:20250828T140000
DTSTAMP:20260425T090624
CREATED:20250726T222100Z
LAST-MODIFIED:20250726T222100Z
UID:9641-1756386000-1756389600@mccjp.org
SUMMARY:木曜祈祷会
DESCRIPTION:毎週木曜日　午後1時　日語部ラウンジ　現在対面とZoomにて行われています。 \n神への賛美と感謝で満たされ、様々な課題のために心を一つにして祈る会です。参加ご希望の方は、日本語オフィスまでご連絡ください。
URL:https://mccjp.org/event/%e6%9c%a8%e6%9b%9c%e7%a5%88%e7%a5%b7%e4%bc%9a-135/
CATEGORIES:ミニストリー,木曜祈祷会
ATTACH;FMTTYPE=image/jpeg:https://mccjp.org/wp-content/uploads/2022/07/hands-g5eaab4891_1280-e1661201499656.jpg
END:VEVENT
BEGIN:VEVENT
DTSTART;TZID=Pacific/Honolulu:20250821T130000
DTEND;TZID=Pacific/Honolulu:20250821T140000
DTSTAMP:20260425T090624
CREATED:20250726T222018Z
LAST-MODIFIED:20250726T222018Z
UID:9639-1755781200-1755784800@mccjp.org
SUMMARY:木曜祈祷会
DESCRIPTION:毎週木曜日　午後1時　日語部ラウンジ　現在対面とZoomにて行われています。 \n神への賛美と感謝で満たされ、様々な課題のために心を一つにして祈る会です。参加ご希望の方は、日本語オフィスまでご連絡ください。
URL:https://mccjp.org/event/%e6%9c%a8%e6%9b%9c%e7%a5%88%e7%a5%b7%e4%bc%9a-134/
CATEGORIES:ミニストリー,木曜祈祷会
ATTACH;FMTTYPE=image/jpeg:https://mccjp.org/wp-content/uploads/2022/07/hands-g5eaab4891_1280-e1661201499656.jpg
END:VEVENT
BEGIN:VEVENT
DTSTART;TZID=Pacific/Honolulu:20250814T130000
DTEND;TZID=Pacific/Honolulu:20250814T140000
DTSTAMP:20260425T090624
CREATED:20250726T221939Z
LAST-MODIFIED:20250726T221939Z
UID:9637-1755176400-1755180000@mccjp.org
SUMMARY:木曜祈祷会
DESCRIPTION:毎週木曜日　午後1時　日語部ラウンジ　現在対面とZoomにて行われています。 \n神への賛美と感謝で満たされ、様々な課題のために心を一つにして祈る会です。参加ご希望の方は、日本語オフィスまでご連絡ください。
URL:https://mccjp.org/event/%e6%9c%a8%e6%9b%9c%e7%a5%88%e7%a5%b7%e4%bc%9a-133/
CATEGORIES:ミニストリー,木曜祈祷会
ATTACH;FMTTYPE=image/jpeg:https://mccjp.org/wp-content/uploads/2022/07/hands-g5eaab4891_1280-e1661201499656.jpg
END:VEVENT
BEGIN:VEVENT
DTSTART;TZID=Pacific/Honolulu:20250807T130000
DTEND;TZID=Pacific/Honolulu:20250807T140000
DTSTAMP:20260425T090624
CREATED:20250726T221859Z
LAST-MODIFIED:20250726T221859Z
UID:9635-1754571600-1754575200@mccjp.org
SUMMARY:木曜祈祷会
DESCRIPTION:毎週木曜日　午後1時　日語部ラウンジ　現在対面とZoomにて行われています。 \n神への賛美と感謝で満たされ、様々な課題のために心を一つにして祈る会です。参加ご希望の方は、日本語オフィスまでご連絡ください。
URL:https://mccjp.org/event/%e6%9c%a8%e6%9b%9c%e7%a5%88%e7%a5%b7%e4%bc%9a-132/
CATEGORIES:ミニストリー,木曜祈祷会
ATTACH;FMTTYPE=image/jpeg:https://mccjp.org/wp-content/uploads/2022/07/hands-g5eaab4891_1280-e1661201499656.jpg
END:VEVENT
BEGIN:VEVENT
DTSTART;TZID=Pacific/Honolulu:20250731T130000
DTEND;TZID=Pacific/Honolulu:20250731T140000
DTSTAMP:20260425T090624
CREATED:20250617T223651Z
LAST-MODIFIED:20250617T223651Z
UID:9433-1753966800-1753970400@mccjp.org
SUMMARY:木曜祈祷会
DESCRIPTION:毎週木曜日　午後1時　日語部ラウンジ　現在対面とZoomにて行われています。 \n神への賛美と感謝で満たされ、様々な課題のために心を一つにして祈る会です。参加ご希望の方は、日本語オフィスまでご連絡ください。
URL:https://mccjp.org/event/%e6%9c%a8%e6%9b%9c%e7%a5%88%e7%a5%b7%e4%bc%9a-129/
CATEGORIES:ミニストリー,木曜祈祷会
ATTACH;FMTTYPE=image/jpeg:https://mccjp.org/wp-content/uploads/2022/07/hands-g5eaab4891_1280-e1661201499656.jpg
END:VEVENT
BEGIN:VEVENT
DTSTART;TZID=Pacific/Honolulu:20250724T130000
DTEND;TZID=Pacific/Honolulu:20250724T140000
DTSTAMP:20260425T090624
CREATED:20250617T223610Z
LAST-MODIFIED:20250617T223610Z
UID:9434-1753362000-1753365600@mccjp.org
SUMMARY:木曜祈祷会
DESCRIPTION:毎週木曜日　午後1時　日語部ラウンジ　現在対面とZoomにて行われています。 \n神への賛美と感謝で満たされ、様々な課題のために心を一つにして祈る会です。参加ご希望の方は、日本語オフィスまでご連絡ください。
URL:https://mccjp.org/event/%e6%9c%a8%e6%9b%9c%e7%a5%88%e7%a5%b7%e4%bc%9a-128/
CATEGORIES:ミニストリー,木曜祈祷会
ATTACH;FMTTYPE=image/jpeg:https://mccjp.org/wp-content/uploads/2022/07/hands-g5eaab4891_1280-e1661201499656.jpg
END:VEVENT
BEGIN:VEVENT
DTSTART;TZID=Pacific/Honolulu:20250717T130000
DTEND;TZID=Pacific/Honolulu:20250717T140000
DTSTAMP:20260425T090624
CREATED:20250617T223216Z
LAST-MODIFIED:20250617T223502Z
UID:9430-1752757200-1752760800@mccjp.org
SUMMARY:木曜祈祷会
DESCRIPTION:毎週木曜日　午後1時　日語部ラウンジ　現在対面とZoomにて行われています。 \n神への賛美と感謝で満たされ、様々な課題のために心を一つにして祈る会です。参加ご希望の方は、日本語オフィスまでご連絡ください。
URL:https://mccjp.org/event/%e6%9c%a8%e6%9b%9c%e7%a5%88%e7%a5%b7%e4%bc%9a-125/
CATEGORIES:ミニストリー,木曜祈祷会
ATTACH;FMTTYPE=image/jpeg:https://mccjp.org/wp-content/uploads/2022/07/hands-g5eaab4891_1280-e1661201499656.jpg
END:VEVENT
BEGIN:VEVENT
DTSTART;TZID=Pacific/Honolulu:20250710T130000
DTEND;TZID=Pacific/Honolulu:20250710T140000
DTSTAMP:20260425T090624
CREATED:20250617T223358Z
LAST-MODIFIED:20250617T223422Z
UID:9432-1752152400-1752156000@mccjp.org
SUMMARY:木曜祈祷会
DESCRIPTION:毎週木曜日　午後1時　日語部ラウンジ　現在対面とZoomにて行われています。 \n神への賛美と感謝で満たされ、様々な課題のために心を一つにして祈る会です。参加ご希望の方は、日本語オフィスまでご連絡ください。
URL:https://mccjp.org/event/%e6%9c%a8%e6%9b%9c%e7%a5%88%e7%a5%b7%e4%bc%9a-127/
CATEGORIES:ミニストリー,木曜祈祷会
ATTACH;FMTTYPE=image/jpeg:https://mccjp.org/wp-content/uploads/2022/07/hands-g5eaab4891_1280-e1661201499656.jpg
END:VEVENT
BEGIN:VEVENT
DTSTART;TZID=Pacific/Honolulu:20250703T130000
DTEND;TZID=Pacific/Honolulu:20250703T140000
DTSTAMP:20260425T090624
CREATED:20250617T223308Z
LAST-MODIFIED:20250617T223308Z
UID:9431-1751547600-1751551200@mccjp.org
SUMMARY:木曜祈祷会
DESCRIPTION:毎週木曜日　午後1時　日語部ラウンジ　現在対面とZoomにて行われています。 \n神への賛美と感謝で満たされ、様々な課題のために心を一つにして祈る会です。参加ご希望の方は、日本語オフィスまでご連絡ください。
URL:https://mccjp.org/event/%e6%9c%a8%e6%9b%9c%e7%a5%88%e7%a5%b7%e4%bc%9a-126/
CATEGORIES:ミニストリー,木曜祈祷会
ATTACH;FMTTYPE=image/jpeg:https://mccjp.org/wp-content/uploads/2022/07/hands-g5eaab4891_1280-e1661201499656.jpg
END:VEVENT
END:VCALENDAR