BEGIN:VCALENDAR
VERSION:2.0
PRODID:-//マキキ日本語教会 - ECPv6.15.20//NONSGML v1.0//EN
CALSCALE:GREGORIAN
METHOD:PUBLISH
X-WR-CALNAME:マキキ日本語教会
X-ORIGINAL-URL:https://mccjp.org
X-WR-CALDESC:マキキ日本語教会 のイベント
REFRESH-INTERVAL;VALUE=DURATION:PT1H
X-Robots-Tag:noindex
X-PUBLISHED-TTL:PT1H
BEGIN:VTIMEZONE
TZID:Pacific/Honolulu
BEGIN:STANDARD
TZOFFSETFROM:-1000
TZOFFSETTO:-1000
TZNAME:HST
DTSTART:20240101T000000
END:STANDARD
END:VTIMEZONE
BEGIN:VEVENT
DTSTART;TZID=Pacific/Honolulu:20260412T090000
DTEND;TZID=Pacific/Honolulu:20260412T100000
DTSTAMP:20260425T164733
CREATED:20260404T221220Z
LAST-MODIFIED:20260404T221220Z
UID:10646-1775984400-1775988000@mccjp.org
SUMMARY:聖歌隊 練習
DESCRIPTION:マキキ教会聖歌隊「城」は、初めて教会に来られる方でもどなたでも練習に参加して頂けます。毎週日曜日、朝9:15~10:00音楽室にて、幅広い年齢層で祈りをもって神様を賛美しています。讃美歌＆聖歌に留まらず、近代プレイズソングも取り入れながら、いろんな楽器とのアンサンブルで素敵なハーモニーを奏でています。是非私たちと一緒に、神様に喜びと感謝の賛美を捧げましょう！「感謝の歌をもって御前に進み行き、賛美の歌をもって主に喜び叫ぼう！詩編95:2」
URL:https://mccjp.org/event/%e8%81%96%e6%ad%8c%e9%9a%8a-%e7%b7%b4%e7%bf%92-102/
LOCATION:MAKIKI CHRISTIAN CHURCH\, 829 Pensacola Street\, Honolulu\, 96814\, 米国
CATEGORIES:ミニストリー,礼拝,聖歌隊
ATTACH;FMTTYPE=image/jpeg:https://mccjp.org/wp-content/uploads/2022/09/聖歌隊２-e1664058023403.jpg
END:VEVENT
BEGIN:VEVENT
DTSTART;TZID=Pacific/Honolulu:20260405T090000
DTEND;TZID=Pacific/Honolulu:20260405T100000
DTSTAMP:20260425T164733
CREATED:20260404T221056Z
LAST-MODIFIED:20260404T221056Z
UID:10644-1775379600-1775383200@mccjp.org
SUMMARY:聖歌隊 練習
DESCRIPTION:マキキ教会聖歌隊「城」は、初めて教会に来られる方でもどなたでも練習に参加して頂けます。毎週日曜日、朝9:15~10:00音楽室にて、幅広い年齢層で祈りをもって神様を賛美しています。讃美歌＆聖歌に留まらず、近代プレイズソングも取り入れながら、いろんな楽器とのアンサンブルで素敵なハーモニーを奏でています。是非私たちと一緒に、神様に喜びと感謝の賛美を捧げましょう！「感謝の歌をもって御前に進み行き、賛美の歌をもって主に喜び叫ぼう！詩編95:2」
URL:https://mccjp.org/event/%e8%81%96%e6%ad%8c%e9%9a%8a-%e7%b7%b4%e7%bf%92-101/
LOCATION:MAKIKI CHRISTIAN CHURCH\, 829 Pensacola Street\, Honolulu\, 96814\, 米国
CATEGORIES:ミニストリー,礼拝,聖歌隊
ATTACH;FMTTYPE=image/jpeg:https://mccjp.org/wp-content/uploads/2022/09/聖歌隊２-e1664058023403.jpg
END:VEVENT
BEGIN:VEVENT
DTSTART;TZID=Pacific/Honolulu:20260329T090000
DTEND;TZID=Pacific/Honolulu:20260329T100000
DTSTAMP:20260425T164733
CREATED:20260305T003725Z
LAST-MODIFIED:20260305T003725Z
UID:10456-1774774800-1774778400@mccjp.org
SUMMARY:聖歌隊 練習
DESCRIPTION:マキキ教会聖歌隊「城」は、初めて教会に来られる方でもどなたでも練習に参加して頂けます。毎週日曜日、朝9:15~10:00音楽室にて、幅広い年齢層で祈りをもって神様を賛美しています。讃美歌＆聖歌に留まらず、近代プレイズソングも取り入れながら、いろんな楽器とのアンサンブルで素敵なハーモニーを奏でています。是非私たちと一緒に、神様に喜びと感謝の賛美を捧げましょう！「感謝の歌をもって御前に進み行き、賛美の歌をもって主に喜び叫ぼう！詩編95:2」
URL:https://mccjp.org/event/%e8%81%96%e6%ad%8c%e9%9a%8a-%e7%b7%b4%e7%bf%92-100/
LOCATION:MAKIKI CHRISTIAN CHURCH\, 829 Pensacola Street\, Honolulu\, 96814\, 米国
CATEGORIES:ミニストリー,礼拝,聖歌隊
ATTACH;FMTTYPE=image/jpeg:https://mccjp.org/wp-content/uploads/2022/09/聖歌隊２-e1664058023403.jpg
END:VEVENT
BEGIN:VEVENT
DTSTART;TZID=Pacific/Honolulu:20260322T090000
DTEND;TZID=Pacific/Honolulu:20260322T100000
DTSTAMP:20260425T164733
CREATED:20260305T003611Z
LAST-MODIFIED:20260305T003611Z
UID:10454-1774170000-1774173600@mccjp.org
SUMMARY:聖歌隊 練習
DESCRIPTION:マキキ教会聖歌隊「城」は、初めて教会に来られる方でもどなたでも練習に参加して頂けます。毎週日曜日、朝9:15~10:00音楽室にて、幅広い年齢層で祈りをもって神様を賛美しています。讃美歌＆聖歌に留まらず、近代プレイズソングも取り入れながら、いろんな楽器とのアンサンブルで素敵なハーモニーを奏でています。是非私たちと一緒に、神様に喜びと感謝の賛美を捧げましょう！「感謝の歌をもって御前に進み行き、賛美の歌をもって主に喜び叫ぼう！詩編95:2」
URL:https://mccjp.org/event/%e8%81%96%e6%ad%8c%e9%9a%8a-%e7%b7%b4%e7%bf%92-99/
LOCATION:MAKIKI CHRISTIAN CHURCH\, 829 Pensacola Street\, Honolulu\, 96814\, 米国
CATEGORIES:ミニストリー,礼拝,聖歌隊
ATTACH;FMTTYPE=image/jpeg:https://mccjp.org/wp-content/uploads/2022/09/聖歌隊２-e1664058023403.jpg
END:VEVENT
BEGIN:VEVENT
DTSTART;TZID=Pacific/Honolulu:20260315T090000
DTEND;TZID=Pacific/Honolulu:20260315T100000
DTSTAMP:20260425T164733
CREATED:20260305T003456Z
LAST-MODIFIED:20260305T003456Z
UID:10452-1773565200-1773568800@mccjp.org
SUMMARY:聖歌隊 練習
DESCRIPTION:マキキ教会聖歌隊「城」は、初めて教会に来られる方でもどなたでも練習に参加して頂けます。毎週日曜日、朝9:15~10:00音楽室にて、幅広い年齢層で祈りをもって神様を賛美しています。讃美歌＆聖歌に留まらず、近代プレイズソングも取り入れながら、いろんな楽器とのアンサンブルで素敵なハーモニーを奏でています。是非私たちと一緒に、神様に喜びと感謝の賛美を捧げましょう！「感謝の歌をもって御前に進み行き、賛美の歌をもって主に喜び叫ぼう！詩編95:2」
URL:https://mccjp.org/event/%e8%81%96%e6%ad%8c%e9%9a%8a-%e7%b7%b4%e7%bf%92-98/
LOCATION:MAKIKI CHRISTIAN CHURCH\, 829 Pensacola Street\, Honolulu\, 96814\, 米国
CATEGORIES:ミニストリー,礼拝,聖歌隊
ATTACH;FMTTYPE=image/jpeg:https://mccjp.org/wp-content/uploads/2022/09/聖歌隊２-e1664058023403.jpg
END:VEVENT
BEGIN:VEVENT
DTSTART;TZID=Pacific/Honolulu:20260308T090000
DTEND;TZID=Pacific/Honolulu:20260308T100000
DTSTAMP:20260425T164733
CREATED:20260305T003346Z
LAST-MODIFIED:20260305T003346Z
UID:10450-1772960400-1772964000@mccjp.org
SUMMARY:聖歌隊 練習
DESCRIPTION:マキキ教会聖歌隊「城」は、初めて教会に来られる方でもどなたでも練習に参加して頂けます。毎週日曜日、朝9:15~10:00音楽室にて、幅広い年齢層で祈りをもって神様を賛美しています。讃美歌＆聖歌に留まらず、近代プレイズソングも取り入れながら、いろんな楽器とのアンサンブルで素敵なハーモニーを奏でています。是非私たちと一緒に、神様に喜びと感謝の賛美を捧げましょう！「感謝の歌をもって御前に進み行き、賛美の歌をもって主に喜び叫ぼう！詩編95:2」
URL:https://mccjp.org/event/%e8%81%96%e6%ad%8c%e9%9a%8a-%e7%b7%b4%e7%bf%92-97/
LOCATION:MAKIKI CHRISTIAN CHURCH\, 829 Pensacola Street\, Honolulu\, 96814\, 米国
CATEGORIES:ミニストリー,礼拝,聖歌隊
ATTACH;FMTTYPE=image/jpeg:https://mccjp.org/wp-content/uploads/2022/09/聖歌隊２-e1664058023403.jpg
END:VEVENT
BEGIN:VEVENT
DTSTART;TZID=Pacific/Honolulu:20260222T090000
DTEND;TZID=Pacific/Honolulu:20260222T100000
DTSTAMP:20260425T164733
CREATED:20260109T231059Z
LAST-MODIFIED:20260109T231059Z
UID:10276-1771750800-1771754400@mccjp.org
SUMMARY:聖歌隊 練習
DESCRIPTION:マキキ教会聖歌隊「城」は、初めて教会に来られる方でもどなたでも練習に参加して頂けます。毎週日曜日、朝9:15~10:00音楽室にて、幅広い年齢層で祈りをもって神様を賛美しています。讃美歌＆聖歌に留まらず、近代プレイズソングも取り入れながら、いろんな楽器とのアンサンブルで素敵なハーモニーを奏でています。是非私たちと一緒に、神様に喜びと感謝の賛美を捧げましょう！「感謝の歌をもって御前に進み行き、賛美の歌をもって主に喜び叫ぼう！詩編95:2」
URL:https://mccjp.org/event/%e8%81%96%e6%ad%8c%e9%9a%8a-%e7%b7%b4%e7%bf%92-96/
LOCATION:MAKIKI CHRISTIAN CHURCH\, 829 Pensacola Street\, Honolulu\, 96814\, 米国
CATEGORIES:ミニストリー,礼拝,聖歌隊
ATTACH;FMTTYPE=image/jpeg:https://mccjp.org/wp-content/uploads/2022/09/聖歌隊２-e1664058023403.jpg
END:VEVENT
BEGIN:VEVENT
DTSTART;TZID=Pacific/Honolulu:20260215T090000
DTEND;TZID=Pacific/Honolulu:20260215T100000
DTSTAMP:20260425T164733
CREATED:20260109T230937Z
LAST-MODIFIED:20260109T230937Z
UID:10274-1771146000-1771149600@mccjp.org
SUMMARY:聖歌隊 練習
DESCRIPTION:マキキ教会聖歌隊「城」は、初めて教会に来られる方でもどなたでも練習に参加して頂けます。毎週日曜日、朝9:15~10:00音楽室にて、幅広い年齢層で祈りをもって神様を賛美しています。讃美歌＆聖歌に留まらず、近代プレイズソングも取り入れながら、いろんな楽器とのアンサンブルで素敵なハーモニーを奏でています。是非私たちと一緒に、神様に喜びと感謝の賛美を捧げましょう！「感謝の歌をもって御前に進み行き、賛美の歌をもって主に喜び叫ぼう！詩編95:2」
URL:https://mccjp.org/event/%e8%81%96%e6%ad%8c%e9%9a%8a-%e7%b7%b4%e7%bf%92-95/
LOCATION:MAKIKI CHRISTIAN CHURCH\, 829 Pensacola Street\, Honolulu\, 96814\, 米国
CATEGORIES:ミニストリー,礼拝,聖歌隊
ATTACH;FMTTYPE=image/jpeg:https://mccjp.org/wp-content/uploads/2022/09/聖歌隊２-e1664058023403.jpg
END:VEVENT
BEGIN:VEVENT
DTSTART;TZID=Pacific/Honolulu:20260208T090000
DTEND;TZID=Pacific/Honolulu:20260208T100000
DTSTAMP:20260425T164733
CREATED:20260109T230843Z
LAST-MODIFIED:20260109T230843Z
UID:10272-1770541200-1770544800@mccjp.org
SUMMARY:聖歌隊 練習
DESCRIPTION:マキキ教会聖歌隊「城」は、初めて教会に来られる方でもどなたでも練習に参加して頂けます。毎週日曜日、朝9:15~10:00音楽室にて、幅広い年齢層で祈りをもって神様を賛美しています。讃美歌＆聖歌に留まらず、近代プレイズソングも取り入れながら、いろんな楽器とのアンサンブルで素敵なハーモニーを奏でています。是非私たちと一緒に、神様に喜びと感謝の賛美を捧げましょう！「感謝の歌をもって御前に進み行き、賛美の歌をもって主に喜び叫ぼう！詩編95:2」
URL:https://mccjp.org/event/%e8%81%96%e6%ad%8c%e9%9a%8a-%e7%b7%b4%e7%bf%92-94/
LOCATION:MAKIKI CHRISTIAN CHURCH\, 829 Pensacola Street\, Honolulu\, 96814\, 米国
CATEGORIES:ミニストリー,礼拝,聖歌隊
ATTACH;FMTTYPE=image/jpeg:https://mccjp.org/wp-content/uploads/2022/09/聖歌隊２-e1664058023403.jpg
END:VEVENT
BEGIN:VEVENT
DTSTART;TZID=Pacific/Honolulu:20260201T090000
DTEND;TZID=Pacific/Honolulu:20260201T100000
DTSTAMP:20260425T164733
CREATED:20260109T230746Z
LAST-MODIFIED:20260109T230746Z
UID:10270-1769936400-1769940000@mccjp.org
SUMMARY:聖歌隊 練習
DESCRIPTION:マキキ教会聖歌隊「城」は、初めて教会に来られる方でもどなたでも練習に参加して頂けます。毎週日曜日、朝9:15~10:00音楽室にて、幅広い年齢層で祈りをもって神様を賛美しています。讃美歌＆聖歌に留まらず、近代プレイズソングも取り入れながら、いろんな楽器とのアンサンブルで素敵なハーモニーを奏でています。是非私たちと一緒に、神様に喜びと感謝の賛美を捧げましょう！「感謝の歌をもって御前に進み行き、賛美の歌をもって主に喜び叫ぼう！詩編95:2」
URL:https://mccjp.org/event/%e8%81%96%e6%ad%8c%e9%9a%8a-%e7%b7%b4%e7%bf%92-93/
LOCATION:MAKIKI CHRISTIAN CHURCH\, 829 Pensacola Street\, Honolulu\, 96814\, 米国
CATEGORIES:ミニストリー,礼拝,聖歌隊
ATTACH;FMTTYPE=image/jpeg:https://mccjp.org/wp-content/uploads/2022/09/聖歌隊２-e1664058023403.jpg
END:VEVENT
BEGIN:VEVENT
DTSTART;TZID=Pacific/Honolulu:20260125T090000
DTEND;TZID=Pacific/Honolulu:20260125T100000
DTSTAMP:20260425T164733
CREATED:20251210T002938Z
LAST-MODIFIED:20251210T002938Z
UID:10123-1769331600-1769335200@mccjp.org
SUMMARY:聖歌隊 練習
DESCRIPTION:マキキ教会聖歌隊「城」は、初めて教会に来られる方でもどなたでも練習に参加して頂けます。毎週日曜日、朝9:15~10:00音楽室にて、幅広い年齢層で祈りをもって神様を賛美しています。讃美歌＆聖歌に留まらず、近代プレイズソングも取り入れながら、いろんな楽器とのアンサンブルで素敵なハーモニーを奏でています。是非私たちと一緒に、神様に喜びと感謝の賛美を捧げましょう！「感謝の歌をもって御前に進み行き、賛美の歌をもって主に喜び叫ぼう！詩編95:2」
URL:https://mccjp.org/event/%e8%81%96%e6%ad%8c%e9%9a%8a-%e7%b7%b4%e7%bf%92-92/
LOCATION:MAKIKI CHRISTIAN CHURCH\, 829 Pensacola Street\, Honolulu\, 96814\, 米国
CATEGORIES:ミニストリー,礼拝,聖歌隊
ATTACH;FMTTYPE=image/jpeg:https://mccjp.org/wp-content/uploads/2022/09/聖歌隊２-e1664058023403.jpg
END:VEVENT
BEGIN:VEVENT
DTSTART;TZID=Pacific/Honolulu:20260118T090000
DTEND;TZID=Pacific/Honolulu:20260118T100000
DTSTAMP:20260425T164733
CREATED:20251210T002859Z
LAST-MODIFIED:20251210T002859Z
UID:10121-1768726800-1768730400@mccjp.org
SUMMARY:聖歌隊 練習
DESCRIPTION:マキキ教会聖歌隊「城」は、初めて教会に来られる方でもどなたでも練習に参加して頂けます。毎週日曜日、朝9:15~10:00音楽室にて、幅広い年齢層で祈りをもって神様を賛美しています。讃美歌＆聖歌に留まらず、近代プレイズソングも取り入れながら、いろんな楽器とのアンサンブルで素敵なハーモニーを奏でています。是非私たちと一緒に、神様に喜びと感謝の賛美を捧げましょう！「感謝の歌をもって御前に進み行き、賛美の歌をもって主に喜び叫ぼう！詩編95:2」
URL:https://mccjp.org/event/%e8%81%96%e6%ad%8c%e9%9a%8a-%e7%b7%b4%e7%bf%92-91/
LOCATION:MAKIKI CHRISTIAN CHURCH\, 829 Pensacola Street\, Honolulu\, 96814\, 米国
CATEGORIES:ミニストリー,礼拝,聖歌隊
ATTACH;FMTTYPE=image/jpeg:https://mccjp.org/wp-content/uploads/2022/09/聖歌隊２-e1664058023403.jpg
END:VEVENT
BEGIN:VEVENT
DTSTART;TZID=Pacific/Honolulu:20260111T090000
DTEND;TZID=Pacific/Honolulu:20260111T100000
DTSTAMP:20260425T164733
CREATED:20251210T002812Z
LAST-MODIFIED:20251210T002812Z
UID:10119-1768122000-1768125600@mccjp.org
SUMMARY:聖歌隊 練習
DESCRIPTION:マキキ教会聖歌隊「城」は、初めて教会に来られる方でもどなたでも練習に参加して頂けます。毎週日曜日、朝9:15~10:00音楽室にて、幅広い年齢層で祈りをもって神様を賛美しています。讃美歌＆聖歌に留まらず、近代プレイズソングも取り入れながら、いろんな楽器とのアンサンブルで素敵なハーモニーを奏でています。是非私たちと一緒に、神様に喜びと感謝の賛美を捧げましょう！「感謝の歌をもって御前に進み行き、賛美の歌をもって主に喜び叫ぼう！詩編95:2」
URL:https://mccjp.org/event/%e8%81%96%e6%ad%8c%e9%9a%8a-%e7%b7%b4%e7%bf%92-90/
LOCATION:MAKIKI CHRISTIAN CHURCH\, 829 Pensacola Street\, Honolulu\, 96814\, 米国
CATEGORIES:ミニストリー,礼拝,聖歌隊
ATTACH;FMTTYPE=image/jpeg:https://mccjp.org/wp-content/uploads/2022/09/聖歌隊２-e1664058023403.jpg
END:VEVENT
BEGIN:VEVENT
DTSTART;TZID=Pacific/Honolulu:20260104T090000
DTEND;TZID=Pacific/Honolulu:20260104T100000
DTSTAMP:20260425T164733
CREATED:20251210T002705Z
LAST-MODIFIED:20251210T002705Z
UID:10117-1767517200-1767520800@mccjp.org
SUMMARY:聖歌隊 練習
DESCRIPTION:マキキ教会聖歌隊「城」は、初めて教会に来られる方でもどなたでも練習に参加して頂けます。毎週日曜日、朝9:15~10:00音楽室にて、幅広い年齢層で祈りをもって神様を賛美しています。讃美歌＆聖歌に留まらず、近代プレイズソングも取り入れながら、いろんな楽器とのアンサンブルで素敵なハーモニーを奏でています。是非私たちと一緒に、神様に喜びと感謝の賛美を捧げましょう！「感謝の歌をもって御前に進み行き、賛美の歌をもって主に喜び叫ぼう！詩編95:2」
URL:https://mccjp.org/event/%e8%81%96%e6%ad%8c%e9%9a%8a-%e7%b7%b4%e7%bf%92-89/
LOCATION:MAKIKI CHRISTIAN CHURCH\, 829 Pensacola Street\, Honolulu\, 96814\, 米国
CATEGORIES:ミニストリー,礼拝,聖歌隊
ATTACH;FMTTYPE=image/jpeg:https://mccjp.org/wp-content/uploads/2022/09/聖歌隊２-e1664058023403.jpg
END:VEVENT
BEGIN:VEVENT
DTSTART;TZID=Pacific/Honolulu:20251228T090000
DTEND;TZID=Pacific/Honolulu:20251228T100000
DTSTAMP:20260425T164733
CREATED:20251209T234219Z
LAST-MODIFIED:20251209T234219Z
UID:10053-1766912400-1766916000@mccjp.org
SUMMARY:聖歌隊 練習
DESCRIPTION:マキキ教会聖歌隊「城」は、初めて教会に来られる方でもどなたでも練習に参加して頂けます。毎週日曜日、朝9:15~10:00音楽室にて、幅広い年齢層で祈りをもって神様を賛美しています。讃美歌＆聖歌に留まらず、近代プレイズソングも取り入れながら、いろんな楽器とのアンサンブルで素敵なハーモニーを奏でています。是非私たちと一緒に、神様に喜びと感謝の賛美を捧げましょう！「感謝の歌をもって御前に進み行き、賛美の歌をもって主に喜び叫ぼう！詩編95:2」
URL:https://mccjp.org/event/%e8%81%96%e6%ad%8c%e9%9a%8a-%e7%b7%b4%e7%bf%92-88/
LOCATION:MAKIKI CHRISTIAN CHURCH\, 829 Pensacola Street\, Honolulu\, 96814\, 米国
CATEGORIES:ミニストリー,礼拝,聖歌隊
ATTACH;FMTTYPE=image/jpeg:https://mccjp.org/wp-content/uploads/2022/09/聖歌隊２-e1664058023403.jpg
END:VEVENT
BEGIN:VEVENT
DTSTART;TZID=Pacific/Honolulu:20251221T090000
DTEND;TZID=Pacific/Honolulu:20251221T100000
DTSTAMP:20260425T164733
CREATED:20251209T234117Z
LAST-MODIFIED:20251209T234117Z
UID:10051-1766307600-1766311200@mccjp.org
SUMMARY:聖歌隊 練習
DESCRIPTION:マキキ教会聖歌隊「城」は、初めて教会に来られる方でもどなたでも練習に参加して頂けます。毎週日曜日、朝9:15~10:00音楽室にて、幅広い年齢層で祈りをもって神様を賛美しています。讃美歌＆聖歌に留まらず、近代プレイズソングも取り入れながら、いろんな楽器とのアンサンブルで素敵なハーモニーを奏でています。是非私たちと一緒に、神様に喜びと感謝の賛美を捧げましょう！「感謝の歌をもって御前に進み行き、賛美の歌をもって主に喜び叫ぼう！詩編95:2」
URL:https://mccjp.org/event/%e8%81%96%e6%ad%8c%e9%9a%8a-%e7%b7%b4%e7%bf%92-87/
LOCATION:MAKIKI CHRISTIAN CHURCH\, 829 Pensacola Street\, Honolulu\, 96814\, 米国
CATEGORIES:ミニストリー,礼拝,聖歌隊
ATTACH;FMTTYPE=image/jpeg:https://mccjp.org/wp-content/uploads/2022/09/聖歌隊２-e1664058023403.jpg
END:VEVENT
BEGIN:VEVENT
DTSTART;TZID=Pacific/Honolulu:20251214T090000
DTEND;TZID=Pacific/Honolulu:20251214T100000
DTSTAMP:20260425T164733
CREATED:20251209T234006Z
LAST-MODIFIED:20251209T234006Z
UID:10049-1765702800-1765706400@mccjp.org
SUMMARY:聖歌隊 練習
DESCRIPTION:マキキ教会聖歌隊「城」は、初めて教会に来られる方でもどなたでも練習に参加して頂けます。毎週日曜日、朝9:15~10:00音楽室にて、幅広い年齢層で祈りをもって神様を賛美しています。讃美歌＆聖歌に留まらず、近代プレイズソングも取り入れながら、いろんな楽器とのアンサンブルで素敵なハーモニーを奏でています。是非私たちと一緒に、神様に喜びと感謝の賛美を捧げましょう！「感謝の歌をもって御前に進み行き、賛美の歌をもって主に喜び叫ぼう！詩編95:2」
URL:https://mccjp.org/event/%e8%81%96%e6%ad%8c%e9%9a%8a-%e7%b7%b4%e7%bf%92-86/
LOCATION:MAKIKI CHRISTIAN CHURCH\, 829 Pensacola Street\, Honolulu\, 96814\, 米国
CATEGORIES:ミニストリー,礼拝,聖歌隊
ATTACH;FMTTYPE=image/jpeg:https://mccjp.org/wp-content/uploads/2022/09/聖歌隊２-e1664058023403.jpg
END:VEVENT
BEGIN:VEVENT
DTSTART;TZID=Pacific/Honolulu:20251123T090000
DTEND;TZID=Pacific/Honolulu:20251123T100000
DTSTAMP:20260425T164733
CREATED:20251025T220454Z
LAST-MODIFIED:20251025T220454Z
UID:9920-1763888400-1763892000@mccjp.org
SUMMARY:聖歌隊 練習
DESCRIPTION:マキキ教会聖歌隊「城」は、初めて教会に来られる方でもどなたでも練習に参加して頂けます。毎週日曜日、朝9:15~10:00音楽室にて、幅広い年齢層で祈りをもって神様を賛美しています。讃美歌＆聖歌に留まらず、近代プレイズソングも取り入れながら、いろんな楽器とのアンサンブルで素敵なハーモニーを奏でています。是非私たちと一緒に、神様に喜びと感謝の賛美を捧げましょう！「感謝の歌をもって御前に進み行き、賛美の歌をもって主に喜び叫ぼう！詩編95:2」
URL:https://mccjp.org/event/%e8%81%96%e6%ad%8c%e9%9a%8a-%e7%b7%b4%e7%bf%92-85/
LOCATION:MAKIKI CHRISTIAN CHURCH\, 829 Pensacola Street\, Honolulu\, 96814\, 米国
CATEGORIES:ミニストリー,礼拝,聖歌隊
ATTACH;FMTTYPE=image/jpeg:https://mccjp.org/wp-content/uploads/2022/09/聖歌隊２-e1664058023403.jpg
END:VEVENT
BEGIN:VEVENT
DTSTART;TZID=Pacific/Honolulu:20251116T090000
DTEND;TZID=Pacific/Honolulu:20251116T100000
DTSTAMP:20260425T164733
CREATED:20251025T220417Z
LAST-MODIFIED:20251025T220417Z
UID:9918-1763283600-1763287200@mccjp.org
SUMMARY:聖歌隊 練習
DESCRIPTION:マキキ教会聖歌隊「城」は、初めて教会に来られる方でもどなたでも練習に参加して頂けます。毎週日曜日、朝9:15~10:00音楽室にて、幅広い年齢層で祈りをもって神様を賛美しています。讃美歌＆聖歌に留まらず、近代プレイズソングも取り入れながら、いろんな楽器とのアンサンブルで素敵なハーモニーを奏でています。是非私たちと一緒に、神様に喜びと感謝の賛美を捧げましょう！「感謝の歌をもって御前に進み行き、賛美の歌をもって主に喜び叫ぼう！詩編95:2」
URL:https://mccjp.org/event/%e8%81%96%e6%ad%8c%e9%9a%8a-%e7%b7%b4%e7%bf%92-84/
LOCATION:MAKIKI CHRISTIAN CHURCH\, 829 Pensacola Street\, Honolulu\, 96814\, 米国
CATEGORIES:ミニストリー,礼拝,聖歌隊
ATTACH;FMTTYPE=image/jpeg:https://mccjp.org/wp-content/uploads/2022/09/聖歌隊２-e1664058023403.jpg
END:VEVENT
BEGIN:VEVENT
DTSTART;TZID=Pacific/Honolulu:20251109T090000
DTEND;TZID=Pacific/Honolulu:20251109T100000
DTSTAMP:20260425T164733
CREATED:20251025T220334Z
LAST-MODIFIED:20251025T220334Z
UID:9916-1762678800-1762682400@mccjp.org
SUMMARY:聖歌隊 練習
DESCRIPTION:マキキ教会聖歌隊「城」は、初めて教会に来られる方でもどなたでも練習に参加して頂けます。毎週日曜日、朝9:15~10:00音楽室にて、幅広い年齢層で祈りをもって神様を賛美しています。讃美歌＆聖歌に留まらず、近代プレイズソングも取り入れながら、いろんな楽器とのアンサンブルで素敵なハーモニーを奏でています。是非私たちと一緒に、神様に喜びと感謝の賛美を捧げましょう！「感謝の歌をもって御前に進み行き、賛美の歌をもって主に喜び叫ぼう！詩編95:2」
URL:https://mccjp.org/event/%e8%81%96%e6%ad%8c%e9%9a%8a-%e7%b7%b4%e7%bf%92-83/
LOCATION:MAKIKI CHRISTIAN CHURCH\, 829 Pensacola Street\, Honolulu\, 96814\, 米国
CATEGORIES:ミニストリー,礼拝,聖歌隊
ATTACH;FMTTYPE=image/jpeg:https://mccjp.org/wp-content/uploads/2022/09/聖歌隊２-e1664058023403.jpg
END:VEVENT
BEGIN:VEVENT
DTSTART;TZID=Pacific/Honolulu:20251102T090000
DTEND;TZID=Pacific/Honolulu:20251102T100000
DTSTAMP:20260425T164733
CREATED:20251025T220248Z
LAST-MODIFIED:20251025T220248Z
UID:9914-1762074000-1762077600@mccjp.org
SUMMARY:聖歌隊 練習
DESCRIPTION:マキキ教会聖歌隊「城」は、初めて教会に来られる方でもどなたでも練習に参加して頂けます。毎週日曜日、朝9:15~10:00音楽室にて、幅広い年齢層で祈りをもって神様を賛美しています。讃美歌＆聖歌に留まらず、近代プレイズソングも取り入れながら、いろんな楽器とのアンサンブルで素敵なハーモニーを奏でています。是非私たちと一緒に、神様に喜びと感謝の賛美を捧げましょう！「感謝の歌をもって御前に進み行き、賛美の歌をもって主に喜び叫ぼう！詩編95:2」
URL:https://mccjp.org/event/%e8%81%96%e6%ad%8c%e9%9a%8a-%e7%b7%b4%e7%bf%92-82/
LOCATION:MAKIKI CHRISTIAN CHURCH\, 829 Pensacola Street\, Honolulu\, 96814\, 米国
CATEGORIES:ミニストリー,礼拝,聖歌隊
ATTACH;FMTTYPE=image/jpeg:https://mccjp.org/wp-content/uploads/2022/09/聖歌隊２-e1664058023403.jpg
END:VEVENT
BEGIN:VEVENT
DTSTART;TZID=Pacific/Honolulu:20250928T090000
DTEND;TZID=Pacific/Honolulu:20250928T100000
DTSTAMP:20260425T164733
CREATED:20250830T214724Z
LAST-MODIFIED:20250830T214724Z
UID:9743-1759050000-1759053600@mccjp.org
SUMMARY:聖歌隊 練習
DESCRIPTION:マキキ教会聖歌隊「城」は、初めて教会に来られる方でもどなたでも練習に参加して頂けます。毎週日曜日、朝9:15~10:00音楽室にて、幅広い年齢層で祈りをもって神様を賛美しています。讃美歌＆聖歌に留まらず、近代プレイズソングも取り入れながら、いろんな楽器とのアンサンブルで素敵なハーモニーを奏でています。是非私たちと一緒に、神様に喜びと感謝の賛美を捧げましょう！「感謝の歌をもって御前に進み行き、賛美の歌をもって主に喜び叫ぼう！詩編95:2」
URL:https://mccjp.org/event/%e8%81%96%e6%ad%8c%e9%9a%8a-%e7%b7%b4%e7%bf%92-81/
LOCATION:MAKIKI CHRISTIAN CHURCH\, 829 Pensacola Street\, Honolulu\, 96814\, 米国
CATEGORIES:ミニストリー,礼拝,聖歌隊
ATTACH;FMTTYPE=image/jpeg:https://mccjp.org/wp-content/uploads/2022/09/聖歌隊２-e1664058023403.jpg
END:VEVENT
BEGIN:VEVENT
DTSTART;TZID=Pacific/Honolulu:20250921T090000
DTEND;TZID=Pacific/Honolulu:20250921T100000
DTSTAMP:20260425T164733
CREATED:20250830T214635Z
LAST-MODIFIED:20250830T214635Z
UID:9741-1758445200-1758448800@mccjp.org
SUMMARY:聖歌隊 練習
DESCRIPTION:マキキ教会聖歌隊「城」は、初めて教会に来られる方でもどなたでも練習に参加して頂けます。毎週日曜日、朝9:15~10:00音楽室にて、幅広い年齢層で祈りをもって神様を賛美しています。讃美歌＆聖歌に留まらず、近代プレイズソングも取り入れながら、いろんな楽器とのアンサンブルで素敵なハーモニーを奏でています。是非私たちと一緒に、神様に喜びと感謝の賛美を捧げましょう！「感謝の歌をもって御前に進み行き、賛美の歌をもって主に喜び叫ぼう！詩編95:2」
URL:https://mccjp.org/event/%e8%81%96%e6%ad%8c%e9%9a%8a-%e7%b7%b4%e7%bf%92-80/
LOCATION:MAKIKI CHRISTIAN CHURCH\, 829 Pensacola Street\, Honolulu\, 96814\, 米国
CATEGORIES:ミニストリー,礼拝,聖歌隊
ATTACH;FMTTYPE=image/jpeg:https://mccjp.org/wp-content/uploads/2022/09/聖歌隊２-e1664058023403.jpg
END:VEVENT
BEGIN:VEVENT
DTSTART;TZID=Pacific/Honolulu:20250914T090000
DTEND;TZID=Pacific/Honolulu:20250914T100000
DTSTAMP:20260425T164733
CREATED:20250830T214554Z
LAST-MODIFIED:20250830T214554Z
UID:9739-1757840400-1757844000@mccjp.org
SUMMARY:聖歌隊 練習
DESCRIPTION:マキキ教会聖歌隊「城」は、初めて教会に来られる方でもどなたでも練習に参加して頂けます。毎週日曜日、朝9:15~10:00音楽室にて、幅広い年齢層で祈りをもって神様を賛美しています。讃美歌＆聖歌に留まらず、近代プレイズソングも取り入れながら、いろんな楽器とのアンサンブルで素敵なハーモニーを奏でています。是非私たちと一緒に、神様に喜びと感謝の賛美を捧げましょう！「感謝の歌をもって御前に進み行き、賛美の歌をもって主に喜び叫ぼう！詩編95:2」
URL:https://mccjp.org/event/%e8%81%96%e6%ad%8c%e9%9a%8a-%e7%b7%b4%e7%bf%92-79/
LOCATION:MAKIKI CHRISTIAN CHURCH\, 829 Pensacola Street\, Honolulu\, 96814\, 米国
CATEGORIES:ミニストリー,礼拝,聖歌隊
ATTACH;FMTTYPE=image/jpeg:https://mccjp.org/wp-content/uploads/2022/09/聖歌隊２-e1664058023403.jpg
END:VEVENT
BEGIN:VEVENT
DTSTART;TZID=Pacific/Honolulu:20250907T090000
DTEND;TZID=Pacific/Honolulu:20250907T100000
DTSTAMP:20260425T164733
CREATED:20250830T214453Z
LAST-MODIFIED:20250830T214453Z
UID:9737-1757235600-1757239200@mccjp.org
SUMMARY:聖歌隊 練習
DESCRIPTION:マキキ教会聖歌隊「城」は、初めて教会に来られる方でもどなたでも練習に参加して頂けます。毎週日曜日、朝9:15~10:00音楽室にて、幅広い年齢層で祈りをもって神様を賛美しています。讃美歌＆聖歌に留まらず、近代プレイズソングも取り入れながら、いろんな楽器とのアンサンブルで素敵なハーモニーを奏でています。是非私たちと一緒に、神様に喜びと感謝の賛美を捧げましょう！「感謝の歌をもって御前に進み行き、賛美の歌をもって主に喜び叫ぼう！詩編95:2」
URL:https://mccjp.org/event/%e8%81%96%e6%ad%8c%e9%9a%8a-%e7%b7%b4%e7%bf%92-78/
LOCATION:MAKIKI CHRISTIAN CHURCH\, 829 Pensacola Street\, Honolulu\, 96814\, 米国
CATEGORIES:ミニストリー,礼拝,聖歌隊
ATTACH;FMTTYPE=image/jpeg:https://mccjp.org/wp-content/uploads/2022/09/聖歌隊２-e1664058023403.jpg
END:VEVENT
BEGIN:VEVENT
DTSTART;TZID=Pacific/Honolulu:20250831T090000
DTEND;TZID=Pacific/Honolulu:20250831T100000
DTSTAMP:20260425T164733
CREATED:20250717T205419Z
LAST-MODIFIED:20250717T205419Z
UID:9598-1756630800-1756634400@mccjp.org
SUMMARY:聖歌隊 練習
DESCRIPTION:マキキ教会聖歌隊「城」は、初めて教会に来られる方でもどなたでも練習に参加して頂けます。毎週日曜日、朝9:15~10:00音楽室にて、幅広い年齢層で祈りをもって神様を賛美しています。讃美歌＆聖歌に留まらず、近代プレイズソングも取り入れながら、いろんな楽器とのアンサンブルで素敵なハーモニーを奏でています。是非私たちと一緒に、神様に喜びと感謝の賛美を捧げましょう！「感謝の歌をもって御前に進み行き、賛美の歌をもって主に喜び叫ぼう！詩編95:2」
URL:https://mccjp.org/event/%e8%81%96%e6%ad%8c%e9%9a%8a-%e7%b7%b4%e7%bf%92-77/
LOCATION:MAKIKI CHRISTIAN CHURCH\, 829 Pensacola Street\, Honolulu\, 96814\, 米国
CATEGORIES:ミニストリー,礼拝,聖歌隊
ATTACH;FMTTYPE=image/jpeg:https://mccjp.org/wp-content/uploads/2022/09/聖歌隊２-e1664058023403.jpg
END:VEVENT
BEGIN:VEVENT
DTSTART;TZID=Pacific/Honolulu:20250824T090000
DTEND;TZID=Pacific/Honolulu:20250824T100000
DTSTAMP:20260425T164733
CREATED:20250717T205332Z
LAST-MODIFIED:20250717T205332Z
UID:9596-1756026000-1756029600@mccjp.org
SUMMARY:聖歌隊 練習
DESCRIPTION:マキキ教会聖歌隊「城」は、初めて教会に来られる方でもどなたでも練習に参加して頂けます。毎週日曜日、朝9:15~10:00音楽室にて、幅広い年齢層で祈りをもって神様を賛美しています。讃美歌＆聖歌に留まらず、近代プレイズソングも取り入れながら、いろんな楽器とのアンサンブルで素敵なハーモニーを奏でています。是非私たちと一緒に、神様に喜びと感謝の賛美を捧げましょう！「感謝の歌をもって御前に進み行き、賛美の歌をもって主に喜び叫ぼう！詩編95:2」
URL:https://mccjp.org/event/%e8%81%96%e6%ad%8c%e9%9a%8a-%e7%b7%b4%e7%bf%92-76/
LOCATION:MAKIKI CHRISTIAN CHURCH\, 829 Pensacola Street\, Honolulu\, 96814\, 米国
CATEGORIES:ミニストリー,礼拝,聖歌隊
ATTACH;FMTTYPE=image/jpeg:https://mccjp.org/wp-content/uploads/2022/09/聖歌隊２-e1664058023403.jpg
END:VEVENT
BEGIN:VEVENT
DTSTART;TZID=Pacific/Honolulu:20250817T090000
DTEND;TZID=Pacific/Honolulu:20250817T100000
DTSTAMP:20260425T164733
CREATED:20250717T205250Z
LAST-MODIFIED:20250717T205250Z
UID:9594-1755421200-1755424800@mccjp.org
SUMMARY:聖歌隊 練習
DESCRIPTION:マキキ教会聖歌隊「城」は、初めて教会に来られる方でもどなたでも練習に参加して頂けます。毎週日曜日、朝9:15~10:00音楽室にて、幅広い年齢層で祈りをもって神様を賛美しています。讃美歌＆聖歌に留まらず、近代プレイズソングも取り入れながら、いろんな楽器とのアンサンブルで素敵なハーモニーを奏でています。是非私たちと一緒に、神様に喜びと感謝の賛美を捧げましょう！「感謝の歌をもって御前に進み行き、賛美の歌をもって主に喜び叫ぼう！詩編95:2」
URL:https://mccjp.org/event/%e8%81%96%e6%ad%8c%e9%9a%8a-%e7%b7%b4%e7%bf%92-75/
LOCATION:MAKIKI CHRISTIAN CHURCH\, 829 Pensacola Street\, Honolulu\, 96814\, 米国
CATEGORIES:ミニストリー,礼拝,聖歌隊
ATTACH;FMTTYPE=image/jpeg:https://mccjp.org/wp-content/uploads/2022/09/聖歌隊２-e1664058023403.jpg
END:VEVENT
BEGIN:VEVENT
DTSTART;TZID=Pacific/Honolulu:20250810T090000
DTEND;TZID=Pacific/Honolulu:20250810T100000
DTSTAMP:20260425T164733
CREATED:20250717T205146Z
LAST-MODIFIED:20250717T205146Z
UID:9592-1754816400-1754820000@mccjp.org
SUMMARY:聖歌隊 練習
DESCRIPTION:マキキ教会聖歌隊「城」は、初めて教会に来られる方でもどなたでも練習に参加して頂けます。毎週日曜日、朝9:15~10:00音楽室にて、幅広い年齢層で祈りをもって神様を賛美しています。讃美歌＆聖歌に留まらず、近代プレイズソングも取り入れながら、いろんな楽器とのアンサンブルで素敵なハーモニーを奏でています。是非私たちと一緒に、神様に喜びと感謝の賛美を捧げましょう！「感謝の歌をもって御前に進み行き、賛美の歌をもって主に喜び叫ぼう！詩編95:2」
URL:https://mccjp.org/event/%e8%81%96%e6%ad%8c%e9%9a%8a-%e7%b7%b4%e7%bf%92-74/
LOCATION:MAKIKI CHRISTIAN CHURCH\, 829 Pensacola Street\, Honolulu\, 96814\, 米国
CATEGORIES:ミニストリー,礼拝,聖歌隊
ATTACH;FMTTYPE=image/jpeg:https://mccjp.org/wp-content/uploads/2022/09/聖歌隊２-e1664058023403.jpg
END:VEVENT
BEGIN:VEVENT
DTSTART;TZID=Pacific/Honolulu:20250803T090000
DTEND;TZID=Pacific/Honolulu:20250803T100000
DTSTAMP:20260425T164733
CREATED:20250717T205051Z
LAST-MODIFIED:20250717T205051Z
UID:9590-1754211600-1754215200@mccjp.org
SUMMARY:聖歌隊 練習
DESCRIPTION:マキキ教会聖歌隊「城」は、初めて教会に来られる方でもどなたでも練習に参加して頂けます。毎週日曜日、朝9:15~10:00音楽室にて、幅広い年齢層で祈りをもって神様を賛美しています。讃美歌＆聖歌に留まらず、近代プレイズソングも取り入れながら、いろんな楽器とのアンサンブルで素敵なハーモニーを奏でています。是非私たちと一緒に、神様に喜びと感謝の賛美を捧げましょう！「感謝の歌をもって御前に進み行き、賛美の歌をもって主に喜び叫ぼう！詩編95:2」
URL:https://mccjp.org/event/%e8%81%96%e6%ad%8c%e9%9a%8a-%e7%b7%b4%e7%bf%92-73/
LOCATION:MAKIKI CHRISTIAN CHURCH\, 829 Pensacola Street\, Honolulu\, 96814\, 米国
CATEGORIES:ミニストリー,礼拝,聖歌隊
ATTACH;FMTTYPE=image/jpeg:https://mccjp.org/wp-content/uploads/2022/09/聖歌隊２-e1664058023403.jpg
END:VEVENT
END:VCALENDAR