BEGIN:VCALENDAR
VERSION:2.0
PRODID:-//マキキ日本語教会 - ECPv6.15.20//NONSGML v1.0//EN
CALSCALE:GREGORIAN
METHOD:PUBLISH
X-WR-CALNAME:マキキ日本語教会
X-ORIGINAL-URL:https://mccjp.org
X-WR-CALDESC:マキキ日本語教会 のイベント
REFRESH-INTERVAL;VALUE=DURATION:PT1H
X-Robots-Tag:noindex
X-PUBLISHED-TTL:PT1H
BEGIN:VTIMEZONE
TZID:Pacific/Honolulu
BEGIN:STANDARD
TZOFFSETFROM:-1000
TZOFFSETTO:-1000
TZNAME:HST
DTSTART:20250101T000000
END:STANDARD
END:VTIMEZONE
BEGIN:VEVENT
DTSTART;TZID=Pacific/Honolulu:20260222T090000
DTEND;TZID=Pacific/Honolulu:20260222T100000
DTSTAMP:20260425T184107
CREATED:20260109T231059Z
LAST-MODIFIED:20260109T231059Z
UID:10276-1771750800-1771754400@mccjp.org
SUMMARY:聖歌隊 練習
DESCRIPTION:マキキ教会聖歌隊「城」は、初めて教会に来られる方でもどなたでも練習に参加して頂けます。毎週日曜日、朝9:15~10:00音楽室にて、幅広い年齢層で祈りをもって神様を賛美しています。讃美歌＆聖歌に留まらず、近代プレイズソングも取り入れながら、いろんな楽器とのアンサンブルで素敵なハーモニーを奏でています。是非私たちと一緒に、神様に喜びと感謝の賛美を捧げましょう！「感謝の歌をもって御前に進み行き、賛美の歌をもって主に喜び叫ぼう！詩編95:2」
URL:https://mccjp.org/event/%e8%81%96%e6%ad%8c%e9%9a%8a-%e7%b7%b4%e7%bf%92-96/
LOCATION:MAKIKI CHRISTIAN CHURCH\, 829 Pensacola Street\, Honolulu\, 96814\, 米国
CATEGORIES:ミニストリー,礼拝,聖歌隊
ATTACH;FMTTYPE=image/jpeg:https://mccjp.org/wp-content/uploads/2022/09/聖歌隊２-e1664058023403.jpg
END:VEVENT
BEGIN:VEVENT
DTSTART;TZID=Pacific/Honolulu:20260308T090000
DTEND;TZID=Pacific/Honolulu:20260308T100000
DTSTAMP:20260425T184107
CREATED:20260305T003346Z
LAST-MODIFIED:20260305T003346Z
UID:10450-1772960400-1772964000@mccjp.org
SUMMARY:聖歌隊 練習
DESCRIPTION:マキキ教会聖歌隊「城」は、初めて教会に来られる方でもどなたでも練習に参加して頂けます。毎週日曜日、朝9:15~10:00音楽室にて、幅広い年齢層で祈りをもって神様を賛美しています。讃美歌＆聖歌に留まらず、近代プレイズソングも取り入れながら、いろんな楽器とのアンサンブルで素敵なハーモニーを奏でています。是非私たちと一緒に、神様に喜びと感謝の賛美を捧げましょう！「感謝の歌をもって御前に進み行き、賛美の歌をもって主に喜び叫ぼう！詩編95:2」
URL:https://mccjp.org/event/%e8%81%96%e6%ad%8c%e9%9a%8a-%e7%b7%b4%e7%bf%92-97/
LOCATION:MAKIKI CHRISTIAN CHURCH\, 829 Pensacola Street\, Honolulu\, 96814\, 米国
CATEGORIES:ミニストリー,礼拝,聖歌隊
ATTACH;FMTTYPE=image/jpeg:https://mccjp.org/wp-content/uploads/2022/09/聖歌隊２-e1664058023403.jpg
END:VEVENT
BEGIN:VEVENT
DTSTART;TZID=Pacific/Honolulu:20260315T090000
DTEND;TZID=Pacific/Honolulu:20260315T100000
DTSTAMP:20260425T184107
CREATED:20260305T003456Z
LAST-MODIFIED:20260305T003456Z
UID:10452-1773565200-1773568800@mccjp.org
SUMMARY:聖歌隊 練習
DESCRIPTION:マキキ教会聖歌隊「城」は、初めて教会に来られる方でもどなたでも練習に参加して頂けます。毎週日曜日、朝9:15~10:00音楽室にて、幅広い年齢層で祈りをもって神様を賛美しています。讃美歌＆聖歌に留まらず、近代プレイズソングも取り入れながら、いろんな楽器とのアンサンブルで素敵なハーモニーを奏でています。是非私たちと一緒に、神様に喜びと感謝の賛美を捧げましょう！「感謝の歌をもって御前に進み行き、賛美の歌をもって主に喜び叫ぼう！詩編95:2」
URL:https://mccjp.org/event/%e8%81%96%e6%ad%8c%e9%9a%8a-%e7%b7%b4%e7%bf%92-98/
LOCATION:MAKIKI CHRISTIAN CHURCH\, 829 Pensacola Street\, Honolulu\, 96814\, 米国
CATEGORIES:ミニストリー,礼拝,聖歌隊
ATTACH;FMTTYPE=image/jpeg:https://mccjp.org/wp-content/uploads/2022/09/聖歌隊２-e1664058023403.jpg
END:VEVENT
BEGIN:VEVENT
DTSTART;TZID=Pacific/Honolulu:20260322T090000
DTEND;TZID=Pacific/Honolulu:20260322T100000
DTSTAMP:20260425T184107
CREATED:20260305T003611Z
LAST-MODIFIED:20260305T003611Z
UID:10454-1774170000-1774173600@mccjp.org
SUMMARY:聖歌隊 練習
DESCRIPTION:マキキ教会聖歌隊「城」は、初めて教会に来られる方でもどなたでも練習に参加して頂けます。毎週日曜日、朝9:15~10:00音楽室にて、幅広い年齢層で祈りをもって神様を賛美しています。讃美歌＆聖歌に留まらず、近代プレイズソングも取り入れながら、いろんな楽器とのアンサンブルで素敵なハーモニーを奏でています。是非私たちと一緒に、神様に喜びと感謝の賛美を捧げましょう！「感謝の歌をもって御前に進み行き、賛美の歌をもって主に喜び叫ぼう！詩編95:2」
URL:https://mccjp.org/event/%e8%81%96%e6%ad%8c%e9%9a%8a-%e7%b7%b4%e7%bf%92-99/
LOCATION:MAKIKI CHRISTIAN CHURCH\, 829 Pensacola Street\, Honolulu\, 96814\, 米国
CATEGORIES:ミニストリー,礼拝,聖歌隊
ATTACH;FMTTYPE=image/jpeg:https://mccjp.org/wp-content/uploads/2022/09/聖歌隊２-e1664058023403.jpg
END:VEVENT
BEGIN:VEVENT
DTSTART;TZID=Pacific/Honolulu:20260329T090000
DTEND;TZID=Pacific/Honolulu:20260329T100000
DTSTAMP:20260425T184107
CREATED:20260305T003725Z
LAST-MODIFIED:20260305T003725Z
UID:10456-1774774800-1774778400@mccjp.org
SUMMARY:聖歌隊 練習
DESCRIPTION:マキキ教会聖歌隊「城」は、初めて教会に来られる方でもどなたでも練習に参加して頂けます。毎週日曜日、朝9:15~10:00音楽室にて、幅広い年齢層で祈りをもって神様を賛美しています。讃美歌＆聖歌に留まらず、近代プレイズソングも取り入れながら、いろんな楽器とのアンサンブルで素敵なハーモニーを奏でています。是非私たちと一緒に、神様に喜びと感謝の賛美を捧げましょう！「感謝の歌をもって御前に進み行き、賛美の歌をもって主に喜び叫ぼう！詩編95:2」
URL:https://mccjp.org/event/%e8%81%96%e6%ad%8c%e9%9a%8a-%e7%b7%b4%e7%bf%92-100/
LOCATION:MAKIKI CHRISTIAN CHURCH\, 829 Pensacola Street\, Honolulu\, 96814\, 米国
CATEGORIES:ミニストリー,礼拝,聖歌隊
ATTACH;FMTTYPE=image/jpeg:https://mccjp.org/wp-content/uploads/2022/09/聖歌隊２-e1664058023403.jpg
END:VEVENT
BEGIN:VEVENT
DTSTART;TZID=Pacific/Honolulu:20260405T090000
DTEND;TZID=Pacific/Honolulu:20260405T100000
DTSTAMP:20260425T184107
CREATED:20260404T221056Z
LAST-MODIFIED:20260404T221056Z
UID:10644-1775379600-1775383200@mccjp.org
SUMMARY:聖歌隊 練習
DESCRIPTION:マキキ教会聖歌隊「城」は、初めて教会に来られる方でもどなたでも練習に参加して頂けます。毎週日曜日、朝9:15~10:00音楽室にて、幅広い年齢層で祈りをもって神様を賛美しています。讃美歌＆聖歌に留まらず、近代プレイズソングも取り入れながら、いろんな楽器とのアンサンブルで素敵なハーモニーを奏でています。是非私たちと一緒に、神様に喜びと感謝の賛美を捧げましょう！「感謝の歌をもって御前に進み行き、賛美の歌をもって主に喜び叫ぼう！詩編95:2」
URL:https://mccjp.org/event/%e8%81%96%e6%ad%8c%e9%9a%8a-%e7%b7%b4%e7%bf%92-101/
LOCATION:MAKIKI CHRISTIAN CHURCH\, 829 Pensacola Street\, Honolulu\, 96814\, 米国
CATEGORIES:ミニストリー,礼拝,聖歌隊
ATTACH;FMTTYPE=image/jpeg:https://mccjp.org/wp-content/uploads/2022/09/聖歌隊２-e1664058023403.jpg
END:VEVENT
BEGIN:VEVENT
DTSTART;TZID=Pacific/Honolulu:20260412T090000
DTEND;TZID=Pacific/Honolulu:20260412T100000
DTSTAMP:20260425T184107
CREATED:20260404T221220Z
LAST-MODIFIED:20260404T221220Z
UID:10646-1775984400-1775988000@mccjp.org
SUMMARY:聖歌隊 練習
DESCRIPTION:マキキ教会聖歌隊「城」は、初めて教会に来られる方でもどなたでも練習に参加して頂けます。毎週日曜日、朝9:15~10:00音楽室にて、幅広い年齢層で祈りをもって神様を賛美しています。讃美歌＆聖歌に留まらず、近代プレイズソングも取り入れながら、いろんな楽器とのアンサンブルで素敵なハーモニーを奏でています。是非私たちと一緒に、神様に喜びと感謝の賛美を捧げましょう！「感謝の歌をもって御前に進み行き、賛美の歌をもって主に喜び叫ぼう！詩編95:2」
URL:https://mccjp.org/event/%e8%81%96%e6%ad%8c%e9%9a%8a-%e7%b7%b4%e7%bf%92-102/
LOCATION:MAKIKI CHRISTIAN CHURCH\, 829 Pensacola Street\, Honolulu\, 96814\, 米国
CATEGORIES:ミニストリー,礼拝,聖歌隊
ATTACH;FMTTYPE=image/jpeg:https://mccjp.org/wp-content/uploads/2022/09/聖歌隊２-e1664058023403.jpg
END:VEVENT
BEGIN:VEVENT
DTSTART;TZID=Pacific/Honolulu:20260419T090000
DTEND;TZID=Pacific/Honolulu:20260419T100000
DTSTAMP:20260425T184107
CREATED:20260404T221317Z
LAST-MODIFIED:20260404T221317Z
UID:10648-1776589200-1776592800@mccjp.org
SUMMARY:聖歌隊 練習
DESCRIPTION:マキキ教会聖歌隊「城」は、初めて教会に来られる方でもどなたでも練習に参加して頂けます。毎週日曜日、朝9:15~10:00音楽室にて、幅広い年齢層で祈りをもって神様を賛美しています。讃美歌＆聖歌に留まらず、近代プレイズソングも取り入れながら、いろんな楽器とのアンサンブルで素敵なハーモニーを奏でています。是非私たちと一緒に、神様に喜びと感謝の賛美を捧げましょう！「感謝の歌をもって御前に進み行き、賛美の歌をもって主に喜び叫ぼう！詩編95:2」
URL:https://mccjp.org/event/%e8%81%96%e6%ad%8c%e9%9a%8a-%e7%b7%b4%e7%bf%92-103/
LOCATION:MAKIKI CHRISTIAN CHURCH\, 829 Pensacola Street\, Honolulu\, 96814\, 米国
CATEGORIES:ミニストリー,礼拝,聖歌隊
ATTACH;FMTTYPE=image/jpeg:https://mccjp.org/wp-content/uploads/2022/09/聖歌隊２-e1664058023403.jpg
END:VEVENT
BEGIN:VEVENT
DTSTART;TZID=Pacific/Honolulu:20260426T090000
DTEND;TZID=Pacific/Honolulu:20260426T100000
DTSTAMP:20260425T184107
CREATED:20260404T221415Z
LAST-MODIFIED:20260404T221415Z
UID:10650-1777194000-1777197600@mccjp.org
SUMMARY:聖歌隊 練習
DESCRIPTION:マキキ教会聖歌隊「城」は、初めて教会に来られる方でもどなたでも練習に参加して頂けます。毎週日曜日、朝9:15~10:00音楽室にて、幅広い年齢層で祈りをもって神様を賛美しています。讃美歌＆聖歌に留まらず、近代プレイズソングも取り入れながら、いろんな楽器とのアンサンブルで素敵なハーモニーを奏でています。是非私たちと一緒に、神様に喜びと感謝の賛美を捧げましょう！「感謝の歌をもって御前に進み行き、賛美の歌をもって主に喜び叫ぼう！詩編95:2」
URL:https://mccjp.org/event/%e8%81%96%e6%ad%8c%e9%9a%8a-%e7%b7%b4%e7%bf%92-104/
LOCATION:MAKIKI CHRISTIAN CHURCH\, 829 Pensacola Street\, Honolulu\, 96814\, 米国
CATEGORIES:ミニストリー,礼拝,聖歌隊
ATTACH;FMTTYPE=image/jpeg:https://mccjp.org/wp-content/uploads/2022/09/聖歌隊２-e1664058023403.jpg
END:VEVENT
END:VCALENDAR