BEGIN:VCALENDAR
VERSION:2.0
PRODID:-//マキキ日本語教会 - ECPv6.15.20//NONSGML v1.0//EN
CALSCALE:GREGORIAN
METHOD:PUBLISH
X-ORIGINAL-URL:https://mccjp.org
X-WR-CALDESC:マキキ日本語教会 のイベント
REFRESH-INTERVAL;VALUE=DURATION:PT1H
X-Robots-Tag:noindex
X-PUBLISHED-TTL:PT1H
BEGIN:VTIMEZONE
TZID:Pacific/Honolulu
BEGIN:STANDARD
TZOFFSETFROM:-1000
TZOFFSETTO:-1000
TZNAME:HST
DTSTART:20250101T000000
END:STANDARD
END:VTIMEZONE
BEGIN:VEVENT
DTSTART;TZID=Pacific/Honolulu:20260104T133000
DTEND;TZID=Pacific/Honolulu:20260104T150000
DTSTAMP:20260425T130604
CREATED:20251210T002513Z
LAST-MODIFIED:20251210T002513Z
UID:10111-1767533400-1767538800@mccjp.org
SUMMARY:韓国クラブ
DESCRIPTION:新しいクラス「韓国クラブ」が始まりました。皆で韓国語の学びや、韓国文化を楽しむ集まりです。どなたでも参加できますのでお友達をお誘いしてご参加ください。
URL:https://mccjp.org/event/%e9%9f%93%e5%9b%bd%e3%82%af%e3%83%a9%e3%83%96-66/
CATEGORIES:ミニストリー
ATTACH;FMTTYPE=image/jpeg:https://mccjp.org/wp-content/uploads/2023/04/Brown-Simple-Special-Promotion-Korean-Menu-Facebook-Post.jpg
END:VEVENT
BEGIN:VEVENT
DTSTART;TZID=Pacific/Honolulu:20260118T133000
DTEND;TZID=Pacific/Honolulu:20260118T150000
DTSTAMP:20260425T130604
CREATED:20251210T002549Z
LAST-MODIFIED:20251210T002549Z
UID:10113-1768743000-1768748400@mccjp.org
SUMMARY:韓国クラブ
DESCRIPTION:新しいクラス「韓国クラブ」が始まりました。皆で韓国語の学びや、韓国文化を楽しむ集まりです。どなたでも参加できますのでお友達をお誘いしてご参加ください。
URL:https://mccjp.org/event/%e9%9f%93%e5%9b%bd%e3%82%af%e3%83%a9%e3%83%96-67/
CATEGORIES:ミニストリー
ATTACH;FMTTYPE=image/jpeg:https://mccjp.org/wp-content/uploads/2023/04/Brown-Simple-Special-Promotion-Korean-Menu-Facebook-Post.jpg
END:VEVENT
BEGIN:VEVENT
DTSTART;TZID=Pacific/Honolulu:20260125T133000
DTEND;TZID=Pacific/Honolulu:20260125T150000
DTSTAMP:20260425T130604
CREATED:20251210T002623Z
LAST-MODIFIED:20251210T002623Z
UID:10115-1769347800-1769353200@mccjp.org
SUMMARY:韓国クラブ
DESCRIPTION:新しいクラス「韓国クラブ」が始まりました。皆で韓国語の学びや、韓国文化を楽しむ集まりです。どなたでも参加できますのでお友達をお誘いしてご参加ください。
URL:https://mccjp.org/event/%e9%9f%93%e5%9b%bd%e3%82%af%e3%83%a9%e3%83%96-68/
CATEGORIES:ミニストリー
ATTACH;FMTTYPE=image/jpeg:https://mccjp.org/wp-content/uploads/2023/04/Brown-Simple-Special-Promotion-Korean-Menu-Facebook-Post.jpg
END:VEVENT
END:VCALENDAR