BEGIN:VCALENDAR
VERSION:2.0
PRODID:-//マキキ日本語教会 - ECPv6.15.20//NONSGML v1.0//EN
CALSCALE:GREGORIAN
METHOD:PUBLISH
X-ORIGINAL-URL:https://mccjp.org
X-WR-CALDESC:マキキ日本語教会 のイベント
REFRESH-INTERVAL;VALUE=DURATION:PT1H
X-Robots-Tag:noindex
X-PUBLISHED-TTL:PT1H
BEGIN:VTIMEZONE
TZID:Pacific/Honolulu
BEGIN:STANDARD
TZOFFSETFROM:-1000
TZOFFSETTO:-1000
TZNAME:HST
DTSTART:20250101T000000
END:STANDARD
END:VTIMEZONE
BEGIN:VEVENT
DTSTART;TZID=Pacific/Honolulu:20260503T140000
DTEND;TZID=Pacific/Honolulu:20260503T160000
DTSTAMP:20260425T022026
CREATED:20260408T215157Z
LAST-MODIFIED:20260408T215157Z
UID:10688-1777816800-1777824000@mccjp.org
SUMMARY:ゴスペルフラ  お休み
DESCRIPTION:日曜日午後2時、水曜日午後3時　マキキ教会教育館２階 \nマキキフラチームは連合フラチームとしても活動しているので、連合の他の教会メンバーやノンクリスチャンも参加しています。全員で20名足らずです。クリスマスコンサート前に限り、子供クラスも開催しています。
URL:https://mccjp.org/event/%e3%82%b4%e3%82%b9%e3%83%9a%e3%83%ab%e3%83%95%e3%83%a9-%e3%81%8a%e4%bc%91%e3%81%bf/
LOCATION:MAKIKI CHRISTIAN CHURCH\, 829 Pensacola Street\, Honolulu\, 96814\, 米国
CATEGORIES:ゴスペルフラ,ミニストリー
ATTACH;FMTTYPE=image/jpeg:https://mccjp.org/wp-content/uploads/2023/04/IMG_2656-e1682729947453.jpg
END:VEVENT
BEGIN:VEVENT
DTSTART;TZID=Pacific/Honolulu:20260504T100000
DTEND;TZID=Pacific/Honolulu:20260504T120000
DTSTAMP:20260425T022026
CREATED:20260408T221219Z
LAST-MODIFIED:20260408T221219Z
UID:10716-1777888800-1777896000@mccjp.org
SUMMARY:親子会　
DESCRIPTION:月曜日 １０時半から１２時まで \n前期9月～12月　後期1月～5月 \n0歳から幼稚園入園前の子供たちの為のクラスです。賛美、手遊び、聖書のお話、工作、外遊びなど。お遊戯やクラフトを通して日本語を学べます。保護者の参加が必須です。お母さん、お父さん方も日本語で交流出来る楽しい会です。 \n 
URL:https://mccjp.org/event/%e8%a6%aa%e5%ad%90%e4%bc%9a%e3%80%80-65/
CATEGORIES:ミニストリー,親子会
ATTACH;FMTTYPE=image/jpeg:https://mccjp.org/wp-content/uploads/2023/02/クリスマス-イブ礼拝-1-1.jpg
END:VEVENT
BEGIN:VEVENT
DTSTART;TZID=Pacific/Honolulu:20260506T150000
DTEND;TZID=Pacific/Honolulu:20260506T170000
DTSTAMP:20260425T022026
CREATED:20260408T215119Z
LAST-MODIFIED:20260408T215119Z
UID:10686-1778079600-1778086800@mccjp.org
SUMMARY:ゴスペルフラ　お休み
DESCRIPTION:日曜日午後2時、水曜日午後3時　マキキ教会教育館２階 \nマキキフラチームは連合フラチームとしても活動しているので、連合の他の教会メンバーやノンクリスチャンも参加しています。全員で20名足らずです。クリスマスコンサート前に限り、子供クラスも開催しています。
URL:https://mccjp.org/event/%e3%82%b4%e3%82%b9%e3%83%9a%e3%83%ab%e3%83%95%e3%83%a9%e3%80%80%e3%81%8a%e4%bc%91%e3%81%bf-3/
LOCATION:MAKIKI CHRISTIAN CHURCH\, 829 Pensacola Street\, Honolulu\, 96814\, 米国
CATEGORIES:ゴスペルフラ,ミニストリー
ATTACH;FMTTYPE=image/jpeg:https://mccjp.org/wp-content/uploads/2022/08/フラピンク-1-e1661639126355.jpg
END:VEVENT
BEGIN:VEVENT
DTSTART;TZID=Pacific/Honolulu:20260517T133000
DTEND;TZID=Pacific/Honolulu:20260517T163000
DTSTAMP:20260425T022026
CREATED:20260408T221524Z
LAST-MODIFIED:20260408T221524Z
UID:10722-1779024600-1779035400@mccjp.org
SUMMARY:ソフトボール
DESCRIPTION:マキキ・エクセルシア　試合\n毎月第３日曜日・１：３０集合・２時　試合開始　アラワイフィールドにて行われます。応援にぜひお越しください！ドネーションも受け付けてます。
URL:https://mccjp.org/event/%e3%82%bd%e3%83%95%e3%83%88%e3%83%9c%e3%83%bc%e3%83%ab-42/
LOCATION:Ala Wai Field
CATEGORIES:ソフトボール,ミニストリー
ATTACH;FMTTYPE=image/jpeg:https://mccjp.org/wp-content/uploads/2022/09/名称未設定のデザイン-11-2.jpg
END:VEVENT
BEGIN:VEVENT
DTSTART;TZID=Pacific/Honolulu:20260518T100000
DTEND;TZID=Pacific/Honolulu:20260518T120000
DTSTAMP:20260425T022026
CREATED:20260408T221311Z
LAST-MODIFIED:20260408T221311Z
UID:10718-1779098400-1779105600@mccjp.org
SUMMARY:親子会　
DESCRIPTION:月曜日 １０時半から１２時まで \n前期9月～12月　後期1月～5月 \n0歳から幼稚園入園前の子供たちの為のクラスです。賛美、手遊び、聖書のお話、工作、外遊びなど。お遊戯やクラフトを通して日本語を学べます。保護者の参加が必須です。お母さん、お父さん方も日本語で交流出来る楽しい会です。 \n 
URL:https://mccjp.org/event/%e8%a6%aa%e5%ad%90%e4%bc%9a%e3%80%80-66/
CATEGORIES:ミニストリー,親子会
ATTACH;FMTTYPE=image/jpeg:https://mccjp.org/wp-content/uploads/2023/02/クリスマス-イブ礼拝-1-1.jpg
END:VEVENT
END:VCALENDAR