BEGIN:VCALENDAR
VERSION:2.0
PRODID:-//マキキ日本語教会 - ECPv6.15.20//NONSGML v1.0//EN
CALSCALE:GREGORIAN
METHOD:PUBLISH
X-ORIGINAL-URL:https://mccjp.org
X-WR-CALDESC:マキキ日本語教会 のイベント
REFRESH-INTERVAL;VALUE=DURATION:PT1H
X-Robots-Tag:noindex
X-PUBLISHED-TTL:PT1H
BEGIN:VTIMEZONE
TZID:Pacific/Honolulu
BEGIN:STANDARD
TZOFFSETFROM:-1000
TZOFFSETTO:-1000
TZNAME:HST
DTSTART:20250101T000000
END:STANDARD
END:VTIMEZONE
BEGIN:VEVENT
DTSTART;TZID=Pacific/Honolulu:20260301T113000
DTEND;TZID=Pacific/Honolulu:20260301T123000
DTSTAMP:20260425T055920
CREATED:20260304T235058Z
LAST-MODIFIED:20260304T235058Z
UID:10401-1772364600-1772368200@mccjp.org
SUMMARY:主日礼拝
DESCRIPTION:第一礼拝（7時30分　礼拝堂）\n第二礼拝（11時30分礼拝堂）第二礼拝では、英語の通訳もあります。\n  \n 
URL:https://mccjp.org/event/%e4%b8%bb%e6%97%a5%e7%a4%bc%e6%8b%9d-158/
LOCATION:MAKIKI CHRISTIAN CHURCH\, 829 Pensacola Street\, Honolulu\, 96814\, 米国
CATEGORIES:礼拝
ATTACH;FMTTYPE=image/jpeg:https://mccjp.org/wp-content/uploads/2023/06/ウェブニュースアイキャッチ-2.jpg
END:VEVENT
BEGIN:VEVENT
DTSTART;TZID=Pacific/Honolulu:20260301T113000
DTEND;TZID=Pacific/Honolulu:20260301T123000
DTSTAMP:20260425T055920
CREATED:20260305T000019Z
LAST-MODIFIED:20260305T000019Z
UID:10425-1772364600-1772368200@mccjp.org
SUMMARY:サンデースクール
DESCRIPTION:神様を賛美し、聖書のお話しを聞きます。\n幼稚園生から中学生まで。
URL:https://mccjp.org/event/%e3%82%b5%e3%83%b3%e3%83%87%e3%83%bc%e3%82%b9%e3%82%af%e3%83%bc%e3%83%ab-177/
LOCATION:MAKIKI CHRISTIAN CHURCH\, 829 Pensacola Street\, Honolulu\, 96814\, 米国
CATEGORIES:サンデースクール
ATTACH;FMTTYPE=image/jpeg:https://mccjp.org/wp-content/uploads/2022/09/イエス様大好き.jpg
END:VEVENT
BEGIN:VEVENT
DTSTART;TZID=Pacific/Honolulu:20260301T133000
DTEND;TZID=Pacific/Honolulu:20260301T150000
DTSTAMP:20260425T055920
CREATED:20260305T005129Z
LAST-MODIFIED:20260305T005129Z
UID:10474-1772371800-1772377200@mccjp.org
SUMMARY:韓国クラブ
DESCRIPTION:新しいクラス「韓国クラブ」が始まりました。皆で韓国語の学びや、韓国文化を楽しむ集まりです。どなたでも参加できますのでお友達をお誘いしてご参加ください。
URL:https://mccjp.org/event/%e9%9f%93%e5%9b%bd%e3%82%af%e3%83%a9%e3%83%96-72/
CATEGORIES:ミニストリー
ATTACH;FMTTYPE=image/jpeg:https://mccjp.org/wp-content/uploads/2023/04/Brown-Simple-Special-Promotion-Korean-Menu-Facebook-Post.jpg
END:VEVENT
END:VCALENDAR