BEGIN:VCALENDAR
VERSION:2.0
PRODID:-//マキキ日本語教会 - ECPv6.15.20//NONSGML v1.0//EN
CALSCALE:GREGORIAN
METHOD:PUBLISH
X-ORIGINAL-URL:https://mccjp.org
X-WR-CALDESC:マキキ日本語教会 のイベント
REFRESH-INTERVAL;VALUE=DURATION:PT1H
X-Robots-Tag:noindex
X-PUBLISHED-TTL:PT1H
BEGIN:VTIMEZONE
TZID:Pacific/Honolulu
BEGIN:STANDARD
TZOFFSETFROM:-1000
TZOFFSETTO:-1000
TZNAME:HST
DTSTART:20250101T000000
END:STANDARD
END:VTIMEZONE
BEGIN:VEVENT
DTSTART;TZID=Pacific/Honolulu:20260313T173000
DTEND;TZID=Pacific/Honolulu:20260313T193000
DTSTAMP:20260425T060005
CREATED:20260305T001751Z
LAST-MODIFIED:20260305T001751Z
UID:10435-1773423000-1773430200@mccjp.org
SUMMARY:　One Ohana Fun Friday Fellowship
DESCRIPTION:3月13日（金）にOOFF(One Ohana Fun Fellowship)の交流イベントがあります。内容は以下の通り。5:30p.m.食事（無料）サインアップ必要、6:30-7:30p.m.各クラスに分かれて楽しい学びと交わり。合気道デモンストレーション、安全準備対策、ピンポン、リボンレイ、折り紙、バター餅、花札、書道、いなり寿司などのクラス。サインアップシートは階下社交室にあります。
URL:https://mccjp.org/event/%e3%80%80one-ohana-fun-friday-fellowship/
CATEGORIES:ミニストリー,教会行事
ATTACH;FMTTYPE=image/jpeg:https://mccjp.org/wp-content/uploads/2026/03/d7f0497f2a0cbbc34d31f410a942041c.jpg
END:VEVENT
END:VCALENDAR