BEGIN:VCALENDAR
VERSION:2.0
PRODID:-//マキキ日本語教会 - ECPv6.15.20//NONSGML v1.0//EN
CALSCALE:GREGORIAN
METHOD:PUBLISH
X-ORIGINAL-URL:https://mccjp.org
X-WR-CALDESC:マキキ日本語教会 のイベント
REFRESH-INTERVAL;VALUE=DURATION:PT1H
X-Robots-Tag:noindex
X-PUBLISHED-TTL:PT1H
BEGIN:VTIMEZONE
TZID:Pacific/Honolulu
BEGIN:STANDARD
TZOFFSETFROM:-1000
TZOFFSETTO:-1000
TZNAME:HST
DTSTART:20250101T000000
END:STANDARD
END:VTIMEZONE
BEGIN:VEVENT
DTSTART;TZID=Pacific/Honolulu:20260319T080000
DTEND;TZID=Pacific/Honolulu:20260322T130000
DTSTAMP:20260425T055920
CREATED:20260305T002437Z
LAST-MODIFIED:20260305T002545Z
UID:10440-1773907200-1774184400@mccjp.org
SUMMARY:ユーススプリングキャンプ
DESCRIPTION:3月19日から22日マキキ教会にて。この春も、高知からの生徒がハワイに来訪します。マキキからは6年生〜12年生までのユースが参加できます。高知の若者たちと交流する機会もありますので、ぜひご参加ください。質問は悦子C姉まで。
URL:https://mccjp.org/event/%e3%83%a6%e3%83%bc%e3%82%b9%e3%82%b9%e3%83%97%e3%83%aa%e3%83%b3%e3%82%b0%e3%82%ad%e3%83%a3%e3%83%b3%e3%83%97-2/
CATEGORIES:教会行事
ATTACH;FMTTYPE=image/png:https://mccjp.org/wp-content/uploads/2025/02/mail-chimp-お知らせ-2.png
END:VEVENT
BEGIN:VEVENT
DTSTART;TZID=Pacific/Honolulu:20260319T080000
DTEND;TZID=Pacific/Honolulu:20260330T100000
DTSTAMP:20260425T055920
CREATED:20260306T204419Z
LAST-MODIFIED:20260306T211830Z
UID:10518-1773907200-1774864800@mccjp.org
SUMMARY:レインボーコネクション
DESCRIPTION:レインボーコネクション。今年も土佐塾中学生が高知県から来会されます。
URL:https://mccjp.org/event/%e3%83%ac%e3%82%a4%e3%83%b3%e3%83%9c%e3%83%bc%e3%82%b3%e3%83%8d%e3%82%af%e3%82%b7%e3%83%a7%e3%83%b3-2/
CATEGORIES:ミニストリー,土佐塾,教会行事
ATTACH;FMTTYPE=image/png:https://mccjp.org/wp-content/uploads/2024/02/2006-5.png
END:VEVENT
END:VCALENDAR