BEGIN:VCALENDAR
VERSION:2.0
PRODID:-//マキキ日本語教会 - ECPv6.15.20//NONSGML v1.0//EN
CALSCALE:GREGORIAN
METHOD:PUBLISH
X-ORIGINAL-URL:https://mccjp.org
X-WR-CALDESC:マキキ日本語教会 のイベント
REFRESH-INTERVAL;VALUE=DURATION:PT1H
X-Robots-Tag:noindex
X-PUBLISHED-TTL:PT1H
BEGIN:VTIMEZONE
TZID:Pacific/Honolulu
BEGIN:STANDARD
TZOFFSETFROM:-1000
TZOFFSETTO:-1000
TZNAME:HST
DTSTART:20250101T000000
END:STANDARD
END:VTIMEZONE
BEGIN:VEVENT
DTSTART;TZID=Pacific/Honolulu:20260413T100000
DTEND;TZID=Pacific/Honolulu:20260413T120000
DTSTAMP:20260425T021923
CREATED:20260408T220831Z
LAST-MODIFIED:20260408T220831Z
UID:10712-1776074400-1776081600@mccjp.org
SUMMARY:親子会　
DESCRIPTION:月曜日 １０時半から１２時まで \n前期9月～12月　後期1月～5月 \n0歳から幼稚園入園前の子供たちの為のクラスです。賛美、手遊び、聖書のお話、工作、外遊びなど。お遊戯やクラフトを通して日本語を学べます。保護者の参加が必須です。お母さん、お父さん方も日本語で交流出来る楽しい会です。 \n 
URL:https://mccjp.org/event/%e8%a6%aa%e5%ad%90%e4%bc%9a%e3%80%80-63/
CATEGORIES:ミニストリー,親子会
ATTACH;FMTTYPE=image/jpeg:https://mccjp.org/wp-content/uploads/2023/02/クリスマス-イブ礼拝-1-1.jpg
END:VEVENT
END:VCALENDAR