BEGIN:VCALENDAR
VERSION:2.0
PRODID:-//マキキ日本語教会 - ECPv6.15.20//NONSGML v1.0//EN
CALSCALE:GREGORIAN
METHOD:PUBLISH
X-WR-CALNAME:マキキ日本語教会
X-ORIGINAL-URL:https://mccjp.org
X-WR-CALDESC:マキキ日本語教会 のイベント
REFRESH-INTERVAL;VALUE=DURATION:PT1H
X-Robots-Tag:noindex
X-PUBLISHED-TTL:PT1H
BEGIN:VTIMEZONE
TZID:Pacific/Honolulu
BEGIN:STANDARD
TZOFFSETFROM:-1000
TZOFFSETTO:-1000
TZNAME:HST
DTSTART:20250101T000000
END:STANDARD
END:VTIMEZONE
BEGIN:VEVENT
DTSTART;TZID=Pacific/Honolulu:20260419T090000
DTEND;TZID=Pacific/Honolulu:20260419T100000
DTSTAMP:20260425T021908
CREATED:20260404T221317Z
LAST-MODIFIED:20260404T221317Z
UID:10648-1776589200-1776592800@mccjp.org
SUMMARY:聖歌隊 練習
DESCRIPTION:マキキ教会聖歌隊「城」は、初めて教会に来られる方でもどなたでも練習に参加して頂けます。毎週日曜日、朝9:15~10:00音楽室にて、幅広い年齢層で祈りをもって神様を賛美しています。讃美歌＆聖歌に留まらず、近代プレイズソングも取り入れながら、いろんな楽器とのアンサンブルで素敵なハーモニーを奏でています。是非私たちと一緒に、神様に喜びと感謝の賛美を捧げましょう！「感謝の歌をもって御前に進み行き、賛美の歌をもって主に喜び叫ぼう！詩編95:2」
URL:https://mccjp.org/event/%e8%81%96%e6%ad%8c%e9%9a%8a-%e7%b7%b4%e7%bf%92-103/
LOCATION:MAKIKI CHRISTIAN CHURCH\, 829 Pensacola Street\, Honolulu\, 96814\, 米国
CATEGORIES:ミニストリー,礼拝,聖歌隊
ATTACH;FMTTYPE=image/jpeg:https://mccjp.org/wp-content/uploads/2022/09/聖歌隊２-e1664058023403.jpg
END:VEVENT
BEGIN:VEVENT
DTSTART;TZID=Pacific/Honolulu:20260419T100000
DTEND;TZID=Pacific/Honolulu:20260419T103000
DTSTAMP:20260425T021908
CREATED:20260404T220624Z
LAST-MODIFIED:20260404T221516Z
UID:10632-1776592800-1776594600@mccjp.org
SUMMARY:聖書の学び　お休み
DESCRIPTION:毎週日曜日　午前10時〜11時　対面とズームのハイブリッド \n礼拝前に集まり、聖書を共に読みながら信仰を深める学びの時間です。聖書のメッセージを分かりやすく学び、日々の信仰生活にどのように生かすかを共に考えます。聖書をこれから学び始めたい方\n信仰生活を励まされたい方\n教会の仲間と共に聖書を学びたい方\nに適した学びの場です。 \n聖書の言葉を分かち合いながら、信仰を育てていくことを大切にしています。どなたでも安心して参加できますので、どうぞお気軽にご参加ください。 \n共に聖書を学びましょう。 \n  \n 
URL:https://mccjp.org/event/%e8%81%96%e6%9b%b8%e3%81%ae%e5%ad%a6%e3%81%b3%e3%80%80-62/
LOCATION:MAKIKI CHRISTIAN CHURCH\, 829 Pensacola Street\, Honolulu\, 96814\, 米国
CATEGORIES:日曜日聖書の学び
ATTACH;FMTTYPE=image/jpeg:https://mccjp.org/wp-content/uploads/2023/06/Brown-Simple-Special-Promotion-Korean-Menu-Facebook-Post-1-1.jpg
END:VEVENT
BEGIN:VEVENT
DTSTART;TZID=Pacific/Honolulu:20260419T100000
DTEND;TZID=Pacific/Honolulu:20260419T110000
DTSTAMP:20260425T021908
CREATED:20260404T222154Z
LAST-MODIFIED:20260404T222154Z
UID:10653-1776592800-1776596400@mccjp.org
SUMMARY:マキキ教会創立記念日英合同礼拝
DESCRIPTION:日本語部と英語部の合同礼拝です。10:00a.m. \n【日英合同礼拝】4月19日（日）10:00a.m. マキキ教会創立122周年記念日英合同礼拝が行われます。礼拝時間が通常より早くなりますので、ご注意ください。 \n【合同礼拝ランチ】4月19日（日）日英合同礼拝後、二階社交室で合同ランチが開催されます。メニューはハンバーガーカレーで、大人＄5、子供(10才以下)$3です。人数確認のため、階下社交室にサインアップシートを用意しています。参加希望の方はご記入をお願いします。
URL:https://mccjp.org/event/%e3%83%9e%e3%82%ad%e3%82%ad%e6%95%99%e4%bc%9a%e5%89%b5%e7%ab%8b%e8%a8%98%e5%bf%b5%e6%97%a5%e8%8b%b1%e5%90%88%e5%90%8c%e7%a4%bc%e6%8b%9d/
CATEGORIES:礼拝
ATTACH;FMTTYPE=image/png:https://mccjp.org/wp-content/uploads/2026/04/d368484d073271d7260138698bfd8eb6.png
END:VEVENT
BEGIN:VEVENT
DTSTART;TZID=Pacific/Honolulu:20260419T113000
DTEND;TZID=Pacific/Honolulu:20260419T123000
DTSTAMP:20260425T021908
CREATED:20260313T214934Z
LAST-MODIFIED:20260313T214934Z
UID:10539-1776598200-1776601800@mccjp.org
SUMMARY:主日礼拝
DESCRIPTION:第一礼拝（7時30分　礼拝堂）\n第二礼拝（11時30分礼拝堂）第二礼拝では、英語の通訳もあります。\n  \n 
URL:https://mccjp.org/event/%e4%b8%bb%e6%97%a5%e7%a4%bc%e6%8b%9d-164/
LOCATION:MAKIKI CHRISTIAN CHURCH\, 829 Pensacola Street\, Honolulu\, 96814\, 米国
CATEGORIES:礼拝
ATTACH;FMTTYPE=image/jpeg:https://mccjp.org/wp-content/uploads/2023/06/ウェブニュースアイキャッチ-2.jpg
END:VEVENT
BEGIN:VEVENT
DTSTART;TZID=Pacific/Honolulu:20260419T113000
DTEND;TZID=Pacific/Honolulu:20260419T123000
DTSTAMP:20260425T021908
CREATED:20260404T220915Z
LAST-MODIFIED:20260404T220915Z
UID:10640-1776598200-1776601800@mccjp.org
SUMMARY:サンデースクール
DESCRIPTION:神様を賛美し、聖書のお話しを聞きます。\n幼稚園生から中学生まで。
URL:https://mccjp.org/event/%e3%82%b5%e3%83%b3%e3%83%87%e3%83%bc%e3%82%b9%e3%82%af%e3%83%bc%e3%83%ab-184/
LOCATION:MAKIKI CHRISTIAN CHURCH\, 829 Pensacola Street\, Honolulu\, 96814\, 米国
CATEGORIES:サンデースクール
ATTACH;FMTTYPE=image/jpeg:https://mccjp.org/wp-content/uploads/2022/09/イエス様大好き.jpg
END:VEVENT
BEGIN:VEVENT
DTSTART;TZID=Pacific/Honolulu:20260419T133000
DTEND;TZID=Pacific/Honolulu:20260419T150000
DTSTAMP:20260425T021908
CREATED:20260404T222351Z
LAST-MODIFIED:20260404T222351Z
UID:10658-1776605400-1776610800@mccjp.org
SUMMARY:韓国クラブ
DESCRIPTION:新しいクラス「韓国クラブ」が始まりました。皆で韓国語の学びや、韓国文化を楽しむ集まりです。どなたでも参加できますのでお友達をお誘いしてご参加ください。
URL:https://mccjp.org/event/%e9%9f%93%e5%9b%bd%e3%82%af%e3%83%a9%e3%83%96-77/
CATEGORIES:ミニストリー
ATTACH;FMTTYPE=image/jpeg:https://mccjp.org/wp-content/uploads/2023/04/Brown-Simple-Special-Promotion-Korean-Menu-Facebook-Post.jpg
END:VEVENT
BEGIN:VEVENT
DTSTART;TZID=Pacific/Honolulu:20260419T133000
DTEND;TZID=Pacific/Honolulu:20260419T160000
DTSTAMP:20260425T021908
CREATED:20260404T222928Z
LAST-MODIFIED:20260404T222928Z
UID:10672-1776605400-1776614400@mccjp.org
SUMMARY:アートクラブ
DESCRIPTION:毎週日曜日1:30p.m.〜教育館110号室にて、デッサン、水彩画、書道等を楽しむクラスです。ご参加ください。
URL:https://mccjp.org/event/%e3%82%a2%e3%83%bc%e3%83%88%e3%82%af%e3%83%a9%e3%83%96-118/
LOCATION:MAKIKI CHRISTIAN CHURCH\, 829 Pensacola Street\, Honolulu\, 96814\, 米国
CATEGORIES:アートクラブ,ミニストリー
ATTACH;FMTTYPE=image/jpeg:https://mccjp.org/wp-content/uploads/2023/03/IMG_2669-e1679702005997.jpg
END:VEVENT
BEGIN:VEVENT
DTSTART;TZID=Pacific/Honolulu:20260419T133000
DTEND;TZID=Pacific/Honolulu:20260419T163000
DTSTAMP:20260425T021908
CREATED:20260408T220658Z
LAST-MODIFIED:20260408T220658Z
UID:10710-1776605400-1776616200@mccjp.org
SUMMARY:ソフトボール
DESCRIPTION:マキキ・エクセルシア　試合\n毎月第３日曜日・１：３０集合・２時　試合開始　アラワイフィールドにて行われます。応援にぜひお越しください！ドネーションも受け付けてます。
URL:https://mccjp.org/event/%e3%82%bd%e3%83%95%e3%83%88%e3%83%9c%e3%83%bc%e3%83%ab-41/
LOCATION:Ala Wai Field
CATEGORIES:ソフトボール,ミニストリー
ATTACH;FMTTYPE=image/jpeg:https://mccjp.org/wp-content/uploads/2022/09/名称未設定のデザイン-11-2.jpg
END:VEVENT
BEGIN:VEVENT
DTSTART;TZID=Pacific/Honolulu:20260419T140000
DTEND;TZID=Pacific/Honolulu:20260419T160000
DTSTAMP:20260425T021908
CREATED:20260404T222721Z
LAST-MODIFIED:20260408T214525Z
UID:10666-1776607200-1776614400@mccjp.org
SUMMARY:ゴスペルフラお休み
DESCRIPTION:日曜日午後2時、水曜日午後3時　マキキ教会教育館２階 \nマキキフラチームは連合フラチームとしても活動しているので、連合の他の教会メンバーやノンクリスチャンも参加しています。全員で20名足らずです。クリスマスコンサート前に限り、子供クラスも開催しています。
URL:https://mccjp.org/event/%e3%82%b4%e3%82%b9%e3%83%9a%e3%83%ab%e3%83%95%e3%83%a9-250/
LOCATION:MAKIKI CHRISTIAN CHURCH\, 829 Pensacola Street\, Honolulu\, 96814\, 米国
CATEGORIES:ゴスペルフラ,ミニストリー
ATTACH;FMTTYPE=image/jpeg:https://mccjp.org/wp-content/uploads/2023/04/IMG_2656-e1682729947453.jpg
END:VEVENT
END:VCALENDAR